BEGIN:VCALENDAR
VERSION:2.0
PRODID:-//TYPO3/NONSGML News system (news)//EN
BEGIN:VEVENT
UID:news-19725@www.belfort.fr
DTSTAMP:20260312T141616
DTSTART:20260607T150000
DTEND:20260607T160000
SUMMARY:SPECTACLE ITINERANT : Aux défenseurs de Belfort
CATEGORIES:Arts, Culture, Famille, Histoire, Musées, Tourisme
DESCRIPTION:En moins d’une heure, plongez dans l’histoire du siège 
 de Belfort de 1870-1871 !
LOCATION:Musée d'Histoire - Citadelle
END:VEVENT
END:VCALENDAR