BEGIN:VCALENDAR
VERSION:2.0
PRODID:-//TYPO3/NONSGML News system (news)//EN
BEGIN:VEVENT
UID:news-20289@www.belfort.fr
DTSTAMP:20260414T102310
DTSTART:20260610T103000
DTEND:20260610T103000
SUMMARY:RDV DÉBUTANT INFORMATIQUE : Découvrez un logiciel de montage
CATEGORIES:
DESCRIPTION:Apprenez à retoucher vos photos et à monter de petites 
 vidéos à partir des images faites avec votre téléphone ! 
  Adultes. Réservation au 03 84 54 27 54. 
LOCATION:Bibliothèque municipale Léon-Deubel
END:VEVENT
END:VCALENDAR