BEGIN:VCALENDAR
VERSION:2.0
PRODID:-//TYPO3/NONSGML News system (news)//EN
BEGIN:VEVENT
UID:news-20303@www.belfort.fr
DTSTAMP:20260420T150403
DTSTART:20260624T103000
DTEND:20260624T103000
SUMMARY:P’TITES OREILLES : Histoires en partage
CATEGORIES:
DESCRIPTION:À partir de 3 ans. Entrée libre dans la limite des places 
 disponibles. Groupes sur réservation au 03 84 54 25 
 89. Installez-vous, ouvrez grand vos oreilles et 
 laissez-vous emporter par des histoires croustillantes, 
 contées avec tendresse et malice, à croquer sans 
 modération ! 
LOCATION:Bibliothèque municipale de la Clé-des-Champs
END:VEVENT
END:VCALENDAR