BEGIN:VCALENDAR
VERSION:2.0
PRODID:-//TYPO3/NONSGML News system (news)//EN
BEGIN:VEVENT
UID:news-20310@www.belfort.fr
DTSTAMP:20260420T150402
DTSTART:20260620T103000
DTEND:20260620T103000
SUMMARY:P’TITES OREILLES À P’TITS PAS : Lectures pour les tout-petits et les plus grands
CATEGORIES:
DESCRIPTION:De 6 mois à 6 ans. Entrée libre dans la limite des places 
 disponibles. Les yeux et les oreilles bien ouverts, les 
 petits doigts bien dégourdis, découvrons des histoires 
 tendres ou rigolotes avec quelques comptines, quelques 
 albums et un kamishibaï.
LOCATION:Bibliothèque municipale Léon-Deubel
END:VEVENT
END:VCALENDAR