BEGIN:VCALENDAR
VERSION:2.0
PRODID:-//TYPO3/NONSGML News system (news)//EN
BEGIN:VEVENT
UID:news-20298@www.belfort.fr
DTSTAMP:20260420T150402
DTSTART:20260617T143000
DTEND:20260617T143000
SUMMARY:PROJECTION : La projection surprise
CATEGORIES:
DESCRIPTION:Entrée libre, dans la limite des places disponibles. À 
 partir de 6 ans Groupes sur réservation au 03 84 54 27 10. 
 Découvrez un film d’animation pour petits et 
 grands.   
LOCATION:Bibliothèque municipale des Glacis-du-Château
END:VEVENT
END:VCALENDAR