BEGIN:VCALENDAR
VERSION:2.0
PRODID:-//TYPO3/NONSGML News system (news)//EN
BEGIN:VEVENT
UID:news-20292@www.belfort.fr
DTSTAMP:20260414T102305
DTSTART:20260521T140000
DTEND:20260521T140000
SUMMARY:ATELIERS DE CONVERSATION : Parlons français ensemble !
CATEGORIES:
DESCRIPTION:JEUDI 21 MAI À 14 H, JEUDI 4 JUIN À 14 H, JEUDI 18 JUIN À 
 14 H. Adultes. Entrée libre, dans la limite des places 
 disponibles.  Groupes sur réservation au 03 84 54 27 
 10. Vous apprenez le français ? La bibliothèque vous 
 propose des rendez-vous réguliers pour échanger et parler 
 avec d’autres apprenants ! Au programme : des lectures, 
 des jeux et des échanges autour de thèmes très variés 
 dans une&hellip;
LOCATION:Bibliothèque municipale des Glacis-du-Château
END:VEVENT
END:VCALENDAR