BEGIN:VCALENDAR
VERSION:2.0
PRODID:-//TYPO3/NONSGML News system (news)//EN
BEGIN:VEVENT
UID:news-20291@www.belfort.fr
DTSTAMP:20260414T102309
DTSTART:20260606T103000
DTEND:20260606T103000
SUMMARY:ATELIER RÉCUP : Créer, recycler, réinventer
CATEGORIES:
DESCRIPTION:À partir de 6 ans. Sur réservation au 03 84 54 25 89. CD 
 oubliés, coquillages ramassés, bois, carton et ficelle… 
 chaque matière trouve une nouvelle histoire. Rien ne se 
 perd, tout s’utilise. 
LOCATION:Bibliothèque municipale de la Clé-des-Champs
END:VEVENT
END:VCALENDAR