{"text_format":"1","workbook":"xlsx","n_sheets":40,"sheets":["A1","A2","B1","B2","M1","N1","N2","C1","C2","C3","D1","D2","D3","E1","E2","E3","F1","F2","G1","G2","H1","J1","J2","J3","K1","K2","L1","L2","EST","CENTRE","NORD","SUD","OUEST","RESULTATS","RECENS 2T","REPART VdB 2T","REPART CAB 2T","ELUS 2T","Candidats","GRAPHE"],"not_rendered":{"charts":1,"images":34,"macros":1,"external_links":0,"defined_names":2,"comments":0,"pivot_tables":0},"unopened":[],"bounds":{"document_bytes":16777216,"sheet_cells":100000,"rows_first":2000,"rows_last":500,"rows_between":2000,"halvings":0,"cell_chars":16384,"cell_head_chars":4096},"cells_cut":0,"cells_raw":0,"read":"whole","date_system":"1900"}

{"sheet":"A1","index":0,"n_rows":22,"n_cols":10,"rows_kept":22,"cut":false,"hidden":false,"merged":[[5,7,5,9]]}
[]
[]
["A1","-","HÔTEL DE VILLE (Place d'Armes)"]
[]
[]
[null,null,null,null,null,null,null,"Résultats 1er tour"]
[null,null,null,"INSCRITS",949,"%",null,null,949]
[null,null,null,"Émargements",516,null,null,null,508]
[null,null,null,"Votants (participation)",516,{"$f":"IF(E7=0,0,E9/E7)","v":0.54373024236037937},"(1)",null,508,0.53530031612223394]
[null,null,null,"Nuls",11,{"$f":"IF(E9=0,0,E10/E9)","v":2.1317829457364341E-2},"(2)",null,12,2.3622047244094488E-2]
[null,null,null,"Exprimés",505,{"$f":"IF(E7=0,0,E11/E7)","v":0.53213909378292945},"(3)",null,496,0.52265542676501575]
[null,null,null,{"$f":"Candidats!A2&\" \"&Candidats!B2","v":"Marc ARCHAMBAULT"},22,{"$f":"IF(E$11=0,0,E12/E$11)","v":4.3564356435643561E-2},"(4)","Marc ARCHAMBAULT",32,6.4516129032258063E-2]
[null,null,null,{"$f":"Candidats!A3&\" \"&Candidats!B3","v":"Étienne BUTZBACH"},172,{"$f":"IF(E$11=0,0,E13/E$11)","v":0.34059405940594062},null,"Étienne BUTZBACH",104,0.20967741935483872]
[null,null,null,{"$f":"Candidats!A4&\" \"&Candidats!B4","v":"Bastien FAUDOT"},59,{"$f":"IF(E$11=0,0,E14/E$11)","v":0.11683168316831684},null,"Bastien FAUDOT",60,0.12096774193548387]
[null,null,null,{"$f":"Candidats!A5&\" \"&Candidats!B5","v":"Damien MESLOT"},252,{"$f":"IF(E$11=0,0,E15/E$11)","v":0.49900990099009901},null,"Damien MESLOT",167,0.33669354838709675]
[null,null,null,null,{"$f":"IF(SUM(E12:E15)<>E11,\"!!! FAUX\",\"\")","v":""}]
[null,null,null,"TOTAL  :",{"$f":"SUM(E12:E15)","v":505}]
[]
[null,null,null,null,null,"(1) Votants / Inscrits"]
[null,null,null,null,null,"(2) Nuls / Votants"]
[null,null,null,null,null,"(3) Exprimés / Inscrits"]
[null,null,null,null,null,"(4) Score / Exprimés"]

{"sheet":"A2","index":1,"n_rows":22,"n_cols":10,"rows_kept":22,"cut":false,"hidden":false,"merged":[[5,7,5,9]]}
[]
[]
["A2","-","SALLE DES FÊTES (Place de la République)"]
[]
[]
[null,null,null,null,null,null,null,"Résultats 1er tour"]
[null,null,null,"INSCRITS",955,"%",null,null,956]
[null,null,null,"Émargements",619,null,null,null,610]
[null,null,null,"Votants (participation)",619,{"$f":"IF(E7=0,0,E9/E7)","v":0.64816753926701576},"(1)",null,610,0.63807531380753135]
[null,null,null,"Nuls",31,{"$f":"IF(E9=0,0,E10/E9)","v":5.0080775444264945E-2},"(2)",null,18,2.9508196721311476E-2]
[null,null,null,"Exprimés",588,{"$f":"IF(E7=0,0,E11/E7)","v":0.61570680628272256},"(3)",null,592,0.61924686192468614]
[null,null,null,{"$f":"Candidats!A2&\" \"&Candidats!B2","v":"Marc ARCHAMBAULT"},35,{"$f":"IF(E$11=0,0,E12/E$11)","v":5.9523809523809521E-2},"(4)","Marc ARCHAMBAULT",42,7.0945945945945943E-2]
[null,null,null,{"$f":"Candidats!A3&\" \"&Candidats!B3","v":"Étienne BUTZBACH"},147,{"$f":"IF(E$11=0,0,E13/E$11)","v":0.25},null,"Étienne BUTZBACH",107,0.18074324324324326]
[null,null,null,{"$f":"Candidats!A4&\" \"&Candidats!B4","v":"Bastien FAUDOT"},69,{"$f":"IF(E$11=0,0,E14/E$11)","v":0.11734693877551021},null,"Bastien FAUDOT",69,0.11655405405405406]
[null,null,null,{"$f":"Candidats!A5&\" \"&Candidats!B5","v":"Damien MESLOT"},337,{"$f":"IF(E$11=0,0,E15/E$11)","v":0.5731292517006803},null,"Damien MESLOT",233,0.39358108108108109]
[null,null,null,null,{"$f":"IF(SUM(E12:E15)<>E11,\"!!! FAUX\",\"\")","v":""}]
[null,null,null,"TOTAL  :",{"$f":"SUM(E12:E15)","v":588}]
[]
[null,null,null,null,null,"(1) Votants / Inscrits"]
[null,null,null,null,null,"(2) Nuls / Votants"]
[null,null,null,null,null,"(3) Exprimés / Inscrits"]
[null,null,null,null,null,"(4) Score / Exprimés"]

{"sheet":"B1","index":2,"n_rows":22,"n_cols":10,"rows_kept":22,"cut":false,"hidden":false,"merged":[[5,7,5,9]]}
[]
[]
["B1","-","GROUPE SCOLAIRE VICTOR HUGO (Faubourg de Montbéliard)"]
[]
[]
[null,null,null,null,null,null,null,"Résultats 1er tour"]
[null,null,null,"INSCRITS",1096,"%",null,null,1096]
[null,null,null,"Émargements",622,null,null,null,623]
[null,null,null,"Votants (participation)",622,{"$f":"IF(E7=0,0,E9/E7)","v":0.56751824817518248},"(1)",null,622,0.56751824817518248]
[null,null,null,"Nuls",16,{"$f":"IF(E9=0,0,E10/E9)","v":2.5723472668810289E-2},"(2)",null,11,1.7684887459807074E-2]
[null,null,null,"Exprimés",606,{"$f":"IF(E7=0,0,E11/E7)","v":0.5529197080291971},"(3)",null,611,0.55748175182481752]
[null,null,null,{"$f":"Candidats!A2&\" \"&Candidats!B2","v":"Marc ARCHAMBAULT"},36,{"$f":"IF(E$11=0,0,E12/E$11)","v":5.9405940594059403E-2},"(4)","Marc ARCHAMBAULT",46,7.5286415711947621E-2]
[null,null,null,{"$f":"Candidats!A3&\" \"&Candidats!B3","v":"Étienne BUTZBACH"},187,{"$f":"IF(E$11=0,0,E13/E$11)","v":0.3085808580858086},null,"Étienne BUTZBACH",132,0.2160392798690671]
[null,null,null,{"$f":"Candidats!A4&\" \"&Candidats!B4","v":"Bastien FAUDOT"},62,{"$f":"IF(E$11=0,0,E14/E$11)","v":0.10231023102310231},null,"Bastien FAUDOT",71,0.11620294599018004]
[null,null,null,{"$f":"Candidats!A5&\" \"&Candidats!B5","v":"Damien MESLOT"},321,{"$f":"IF(E$11=0,0,E15/E$11)","v":0.52970297029702973},null,"Damien MESLOT",212,0.34697217675941078]
[null,null,null,null,{"$f":"IF(SUM(E12:E15)<>E11,\"!!! FAUX\",\"\")","v":""}]
[null,null,null,"TOTAL  :",{"$f":"SUM(E12:E15)","v":606}]
[]
[null,null,null,null,null,"(1) Votants / Inscrits"]
[null,null,null,null,null,"(2) Nuls / Votants"]
[null,null,null,null,null,"(3) Exprimés / Inscrits"]
[null,null,null,null,null,"(4) Score / Exprimés"]

{"sheet":"B2","index":3,"n_rows":22,"n_cols":10,"rows_kept":22,"cut":false,"hidden":false,"merged":[[5,7,5,9]]}
[]
[]
["B2","-","GROUPE SCOLAIRE VICTOR HUGO (Faubourg de Montbéliard)"]
[]
[]
[null,null,null,null,null,null,null,"Résultats 1er tour"]
[null,null,null,"INSCRITS",1167,"%",null,null,1167]
[null,null,null,"Émargements",734,null,null,null,715]
[null,null,null,"Votants (participation)",734,{"$f":"IF(E7=0,0,E9/E7)","v":0.62896315338474718},"(1)",null,715,0.61268209083119107]
[null,null,null,"Nuls",36,{"$f":"IF(E9=0,0,E10/E9)","v":4.9046321525885561E-2},"(2)",null,15,2.097902097902098E-2]
[null,null,null,"Exprimés",698,{"$f":"IF(E7=0,0,E11/E7)","v":0.59811482433590402},"(3)",null,700,0.59982862039417306]
[null,null,null,{"$f":"Candidats!A2&\" \"&Candidats!B2","v":"Marc ARCHAMBAULT"},64,{"$f":"IF(E$11=0,0,E12/E$11)","v":9.1690544412607447E-2},"(4)","Marc ARCHAMBAULT",57,8.1428571428571433E-2]
[null,null,null,{"$f":"Candidats!A3&\" \"&Candidats!B3","v":"Étienne BUTZBACH"},201,{"$f":"IF(E$11=0,0,E13/E$11)","v":0.28796561604584525},null,"Étienne BUTZBACH",126,0.18]
[null,null,null,{"$f":"Candidats!A4&\" \"&Candidats!B4","v":"Bastien FAUDOT"},70,{"$f":"IF(E$11=0,0,E14/E$11)","v":0.10028653295128939},null,"Bastien FAUDOT",87,0.12428571428571429]
[null,null,null,{"$f":"Candidats!A5&\" \"&Candidats!B5","v":"Damien MESLOT"},363,{"$f":"IF(E$11=0,0,E15/E$11)","v":0.52005730659025784},null,"Damien MESLOT",255,0.36428571428571427]
[null,null,null,null,{"$f":"IF(SUM(E12:E15)<>E11,\"!!! FAUX\",\"\")","v":""}]
[null,null,null,"TOTAL  :",{"$f":"SUM(E12:E15)","v":698}]
[]
[null,null,null,null,null,"(1) Votants / Inscrits"]
[null,null,null,null,null,"(2) Nuls / Votants"]
[null,null,null,null,null,"(3) Exprimés / Inscrits"]
[null,null,null,null,null,"(4) Score / Exprimés"]

{"sheet":"M1","index":4,"n_rows":22,"n_cols":10,"rows_kept":22,"cut":false,"hidden":false,"merged":[[5,7,5,9]]}
[]
[]
["M1","-","ÉCOLE MATERNELLE SAINT-EXUPÉRY (Rue de la Paix)"]
[]
[]
[null,null,null,null,null,null,null,"Résultats 1er tour"]
[null,null,null,"INSCRITS",1306,"%",null,null,1306]
[null,null,null,"Émargements",656,null,null,null,599]
[null,null,null,"Votants (participation)",656,{"$f":"IF(E7=0,0,E9/E7)","v":0.50229709035222048},"(1)",null,599,0.45865237366003064]
[null,null,null,"Nuls",29,{"$f":"IF(E9=0,0,E10/E9)","v":4.4207317073170729E-2},"(2)",null,18,3.0050083472454091E-2]
[null,null,null,"Exprimés",627,{"$f":"IF(E7=0,0,E11/E7)","v":0.48009188361408883},"(3)",null,581,0.44486983154670751]
[null,null,null,{"$f":"Candidats!A2&\" \"&Candidats!B2","v":"Marc ARCHAMBAULT"},52,{"$f":"IF(E$11=0,0,E12/E$11)","v":8.2934609250398722E-2},"(4)","Marc ARCHAMBAULT",50,8.6058519793459548E-2]
[null,null,null,{"$f":"Candidats!A3&\" \"&Candidats!B3","v":"Étienne BUTZBACH"},347,{"$f":"IF(E$11=0,0,E13/E$11)","v":0.5534290271132376},null,"Étienne BUTZBACH",215,0.37005163511187605]
[null,null,null,{"$f":"Candidats!A4&\" \"&Candidats!B4","v":"Bastien FAUDOT"},37,{"$f":"IF(E$11=0,0,E14/E$11)","v":5.9011164274322167E-2},null,"Bastien FAUDOT",50,8.6058519793459548E-2]
[null,null,null,{"$f":"Candidats!A5&\" \"&Candidats!B5","v":"Damien MESLOT"},191,{"$f":"IF(E$11=0,0,E15/E$11)","v":0.30462519936204147},null,"Damien MESLOT",123,0.2117039586919105]
[null,null,null,null,{"$f":"IF(SUM(E12:E15)<>E11,\"!!! FAUX\",\"\")","v":""}]
[null,null,null,"TOTAL  :",{"$f":"SUM(E12:E15)","v":627}]
[]
[null,null,null,null,null,"(1) Votants / Inscrits"]
[null,null,null,null,null,"(2) Nuls / Votants"]
[null,null,null,null,null,"(3) Exprimés / Inscrits"]
[null,null,null,null,null,"(4) Score / Exprimés"]

{"sheet":"N1","index":5,"n_rows":22,"n_cols":10,"rows_kept":22,"cut":false,"hidden":false,"merged":[[5,7,5,9]]}
[]
[]
["N1","-","ÉCOLE JEAN MOULIN (Rue Steiner)"]
[]
[]
[null,null,null,null,null,null,null,"Résultats 1er tour"]
[null,null,null,"INSCRITS",1456,"%",null,null,1456]
[null,null,null,"Émargements",833,null,null,null,825]
[null,null,null,"Votants (participation)",833,{"$f":"IF(E7=0,0,E9/E7)","v":0.57211538461538458},"(1)",null,825,0.56662087912087911]
[null,null,null,"Nuls",47,{"$f":"IF(E9=0,0,E10/E9)","v":5.6422569027611044E-2},"(2)",null,17,2.0606060606060607E-2]
[null,null,null,"Exprimés",786,{"$f":"IF(E7=0,0,E11/E7)","v":0.5398351648351648},"(3)",null,808,0.55494505494505497]
[null,null,null,{"$f":"Candidats!A2&\" \"&Candidats!B2","v":"Marc ARCHAMBAULT"},101,{"$f":"IF(E$11=0,0,E12/E$11)","v":0.12849872773536897},"(4)","Marc ARCHAMBAULT",111,0.13737623762376239]
[null,null,null,{"$f":"Candidats!A3&\" \"&Candidats!B3","v":"Étienne BUTZBACH"},221,{"$f":"IF(E$11=0,0,E13/E$11)","v":0.28117048346055978},null,"Étienne BUTZBACH",150,0.18564356435643564]
[null,null,null,{"$f":"Candidats!A4&\" \"&Candidats!B4","v":"Bastien FAUDOT"},84,{"$f":"IF(E$11=0,0,E14/E$11)","v":0.10687022900763359},null,"Bastien FAUDOT",78,9.6534653465346537E-2]
[null,null,null,{"$f":"Candidats!A5&\" \"&Candidats!B5","v":"Damien MESLOT"},380,{"$f":"IF(E$11=0,0,E15/E$11)","v":0.48346055979643765},null,"Damien MESLOT",249,0.30816831683168316]
[null,null,null,null,{"$f":"IF(SUM(E12:E15)<>E11,\"!!! FAUX\",\"\")","v":""}]
[null,null,null,"TOTAL  :",{"$f":"SUM(E12:E15)","v":786}]
[]
[null,null,null,null,null,"(1) Votants / Inscrits"]
[null,null,null,null,null,"(2) Nuls / Votants"]
[null,null,null,null,null,"(3) Exprimés / Inscrits"]
[null,null,null,null,null,"(4) Score / Exprimés"]

{"sheet":"N2","index":6,"n_rows":22,"n_cols":10,"rows_kept":22,"cut":false,"hidden":false,"merged":[[5,7,5,9]]}
[]
[]
["N2","-","CITÉ DES ASSOCIATIONS (Rue Jean Pierre Melville)"]
[]
[]
[null,null,null,null,null,null,null,"Résultats 1er tour"]
[null,null,null,"INSCRITS",904,"%",null,null,905]
[null,null,null,"Émargements",590,null,null,null,577]
[null,null,null,"Votants (participation)",590,{"$f":"IF(E7=0,0,E9/E7)","v":0.65265486725663713},"(1)",null,577,0.63756906077348063]
[null,null,null,"Nuls",26,{"$f":"IF(E9=0,0,E10/E9)","v":4.4067796610169491E-2},"(2)",null,11,1.9064124783362217E-2]
[null,null,null,"Exprimés",564,{"$f":"IF(E7=0,0,E11/E7)","v":0.62389380530973448},"(3)",null,566,0.62541436464088396]
[null,null,null,{"$f":"Candidats!A2&\" \"&Candidats!B2","v":"Marc ARCHAMBAULT"},42,{"$f":"IF(E$11=0,0,E12/E$11)","v":7.4468085106382975E-2},"(4)","Marc ARCHAMBAULT",44,7.7738515901060068E-2]
[null,null,null,{"$f":"Candidats!A3&\" \"&Candidats!B3","v":"Étienne BUTZBACH"},211,{"$f":"IF(E$11=0,0,E13/E$11)","v":0.37411347517730498},null,"Étienne BUTZBACH",113,0.19964664310954064]
[null,null,null,{"$f":"Candidats!A4&\" \"&Candidats!B4","v":"Bastien FAUDOT"},66,{"$f":"IF(E$11=0,0,E14/E$11)","v":0.11702127659574468},null,"Bastien FAUDOT",67,0.11837455830388692]
[null,null,null,{"$f":"Candidats!A5&\" \"&Candidats!B5","v":"Damien MESLOT"},245,{"$f":"IF(E$11=0,0,E15/E$11)","v":0.43439716312056736},null,"Damien MESLOT",145,0.25618374558303886]
[null,null,null,null,{"$f":"IF(SUM(E12:E15)<>E11,\"!!! FAUX\",\"\")","v":""}]
[null,null,null,"TOTAL  :",{"$f":"SUM(E12:E15)","v":564}]
[]
[null,null,null,null,null,"(1) Votants / Inscrits"]
[null,null,null,null,null,"(2) Nuls / Votants"]
[null,null,null,null,null,"(3) Exprimés / Inscrits"]
[null,null,null,null,null,"(4) Score / Exprimés"]

{"sheet":"C1","index":7,"n_rows":22,"n_cols":10,"rows_kept":22,"cut":false,"hidden":false,"merged":[[5,7,5,9]]}
[]
[]
["C1","-","ÉCOLE VICTOR SCHOELCHER (Rue Gaston Deferre)"]
[]
[]
[null,null,null,null,null,null,null,"Résultats 1er tour"]
[null,null,null,"INSCRITS",1209,"%",null,null,1210]
[null,null,null,"Émargements",724,null,null,null,719]
[null,null,null,"Votants (participation)",724,{"$f":"IF(E7=0,0,E9/E7)","v":0.5988420181968569},"(1)",null,719,0.59421487603305789]
[null,null,null,"Nuls",27,{"$f":"IF(E9=0,0,E10/E9)","v":3.7292817679558013E-2},"(2)",null,17,2.3643949930458971E-2]
[null,null,null,"Exprimés",697,{"$f":"IF(E7=0,0,E11/E7)","v":0.57650951199338296},"(3)",null,702,0.58016528925619837]
[null,null,null,{"$f":"Candidats!A2&\" \"&Candidats!B2","v":"Marc ARCHAMBAULT"},44,{"$f":"IF(E$11=0,0,E12/E$11)","v":6.3127690100430414E-2},"(4)","Marc ARCHAMBAULT",65,9.2592592592592587E-2]
[null,null,null,{"$f":"Candidats!A3&\" \"&Candidats!B3","v":"Étienne BUTZBACH"},210,{"$f":"IF(E$11=0,0,E13/E$11)","v":0.30129124820659969},null,"Étienne BUTZBACH",153,0.21794871794871795]
[null,null,null,{"$f":"Candidats!A4&\" \"&Candidats!B4","v":"Bastien FAUDOT"},70,{"$f":"IF(E$11=0,0,E14/E$11)","v":0.10043041606886657},null,"Bastien FAUDOT",89,0.12678062678062679]
[null,null,null,{"$f":"Candidats!A5&\" \"&Candidats!B5","v":"Damien MESLOT"},373,{"$f":"IF(E$11=0,0,E15/E$11)","v":0.5351506456241033},null,"Damien MESLOT",270,0.38461538461538464]
[null,null,null,null,{"$f":"IF(SUM(E12:E15)<>E11,\"!!! FAUX\",\"\")","v":""}]
[null,null,null,"TOTAL  :",{"$f":"SUM(E12:E15)","v":697}]
[]
[null,null,null,null,null,"(1) Votants / Inscrits"]
[null,null,null,null,null,"(2) Nuls / Votants"]
[null,null,null,null,null,"(3) Exprimés / Inscrits"]
[null,null,null,null,null,"(4) Score / Exprimés"]

{"sheet":"C2","index":8,"n_rows":22,"n_cols":10,"rows_kept":22,"cut":false,"hidden":false,"merged":[[5,7,5,9]]}
[]
[]
["C2","-","MAISON DU PEUPLE (Place de la Résistance)"]
[]
[]
[null,null,null,null,null,null,null,"Résultats 1er tour"]
[null,null,null,"INSCRITS",762,"%",null,null,763]
[null,null,null,"Émargements",481,null,null,null,474]
[null,null,null,"Votants (participation)",481,{"$f":"IF(E7=0,0,E9/E7)","v":0.63123359580052496},"(1)",null,474,0.62123197903014415]
[null,null,null,"Nuls",19,{"$f":"IF(E9=0,0,E10/E9)","v":3.9501039501039503E-2},"(2)",null,11,2.3206751054852322E-2]
[null,null,null,"Exprimés",462,{"$f":"IF(E7=0,0,E11/E7)","v":0.60629921259842523},"(3)",null,463,0.60681520314547832]
[null,null,null,{"$f":"Candidats!A2&\" \"&Candidats!B2","v":"Marc ARCHAMBAULT"},32,{"$f":"IF(E$11=0,0,E12/E$11)","v":6.9264069264069264E-2},"(4)","Marc ARCHAMBAULT",43,9.2872570194384454E-2]
[null,null,null,{"$f":"Candidats!A3&\" \"&Candidats!B3","v":"Étienne BUTZBACH"},126,{"$f":"IF(E$11=0,0,E13/E$11)","v":0.27272727272727271},null,"Étienne BUTZBACH",82,0.17710583153347731]
[null,null,null,{"$f":"Candidats!A4&\" \"&Candidats!B4","v":"Bastien FAUDOT"},42,{"$f":"IF(E$11=0,0,E14/E$11)","v":9.0909090909090912E-2},null,"Bastien FAUDOT",54,0.11663066954643629]
[null,null,null,{"$f":"Candidats!A5&\" \"&Candidats!B5","v":"Damien MESLOT"},262,{"$f":"IF(E$11=0,0,E15/E$11)","v":0.5670995670995671},null,"Damien MESLOT",198,0.42764578833693306]
[null,null,null,null,{"$f":"IF(SUM(E12:E15)<>E11,\"!!! FAUX\",\"\")","v":""}]
[null,null,null,"TOTAL  :",{"$f":"SUM(E12:E15)","v":462}]
[]
[null,null,null,null,null,"(1) Votants / Inscrits"]
[null,null,null,null,null,"(2) Nuls / Votants"]
[null,null,null,null,null,"(3) Exprimés / Inscrits"]
[null,null,null,null,null,"(4) Score / Exprimés"]

{"sheet":"C3","index":9,"n_rows":22,"n_cols":10,"rows_kept":22,"cut":false,"hidden":false,"merged":[[5,7,5,9]]}
[]
[]
["C3","-","MAISON DU PEUPLE (Place de la Résistance)"]
[]
[]
[null,null,null,null,null,null,null,"Résultats 1er tour"]
[null,null,null,"INSCRITS",921,"%",null,null,921]
[null,null,null,"Émargements",573,null,null,null,564]
[null,null,null,"Votants (participation)",573,{"$f":"IF(E7=0,0,E9/E7)","v":0.62214983713355054},"(1)",null,564,0.6123778501628665]
[null,null,null,"Nuls",16,{"$f":"IF(E9=0,0,E10/E9)","v":2.7923211169284468E-2},"(2)",null,12,2.1276595744680851E-2]
[null,null,null,"Exprimés",557,{"$f":"IF(E7=0,0,E11/E7)","v":0.60477741585233447},"(3)",null,552,0.59934853420195444]
[null,null,null,{"$f":"Candidats!A2&\" \"&Candidats!B2","v":"Marc ARCHAMBAULT"},29,{"$f":"IF(E$11=0,0,E12/E$11)","v":5.2064631956912029E-2},"(4)","Marc ARCHAMBAULT",48,8.6956521739130432E-2]
[null,null,null,{"$f":"Candidats!A3&\" \"&Candidats!B3","v":"Étienne BUTZBACH"},154,{"$f":"IF(E$11=0,0,E13/E$11)","v":0.27648114901256732},null,"Étienne BUTZBACH",105,0.19021739130434784]
[null,null,null,{"$f":"Candidats!A4&\" \"&Candidats!B4","v":"Bastien FAUDOT"},41,{"$f":"IF(E$11=0,0,E14/E$11)","v":7.3608617594254938E-2},null,"Bastien FAUDOT",56,0.10144927536231885]
[null,null,null,{"$f":"Candidats!A5&\" \"&Candidats!B5","v":"Damien MESLOT"},333,{"$f":"IF(E$11=0,0,E15/E$11)","v":0.59784560143626575},null,"Damien MESLOT",256,0.46376811594202899]
[null,null,null,null,{"$f":"IF(SUM(E12:E15)<>E11,\"!!! FAUX\",\"\")","v":""}]
[null,null,null,"TOTAL  :",{"$f":"SUM(E12:E15)","v":557}]
[]
[null,null,null,null,null,"(1) Votants / Inscrits"]
[null,null,null,null,null,"(2) Nuls / Votants"]
[null,null,null,null,null,"(3) Exprimés / Inscrits"]
[null,null,null,null,null,"(4) Score / Exprimés"]

{"sheet":"D1","index":10,"n_rows":22,"n_cols":10,"rows_kept":22,"cut":false,"hidden":false,"merged":[[5,7,5,9]]}
[]
[]
["D1","-","GROUPE SCOLAIRE CHÂTEAUDUN (Rue de Châteaudun)"]
[]
[]
[null,null,null,null,null,null,null,"Résultats 1er tour"]
[null,null,null,"INSCRITS",1074,"%",null,null,1074]
[null,null,null,"Émargements",638,null,null,null,613]
[null,null,null,"Votants (participation)",638,{"$f":"IF(E7=0,0,E9/E7)","v":0.5940409683426443},"(1)",null,613,0.57076350093109873]
[null,null,null,"Nuls",27,{"$f":"IF(E9=0,0,E10/E9)","v":4.2319749216300939E-2},"(2)",null,17,2.7732463295269169E-2]
[null,null,null,"Exprimés",611,{"$f":"IF(E7=0,0,E11/E7)","v":0.56890130353817503},"(3)",null,596,0.55493482309124764]
[null,null,null,{"$f":"Candidats!A2&\" \"&Candidats!B2","v":"Marc ARCHAMBAULT"},53,{"$f":"IF(E$11=0,0,E12/E$11)","v":8.6743044189852694E-2},"(4)","Marc ARCHAMBAULT",70,0.1174496644295302]
[null,null,null,{"$f":"Candidats!A3&\" \"&Candidats!B3","v":"Étienne BUTZBACH"},152,{"$f":"IF(E$11=0,0,E13/E$11)","v":0.24877250409165302},null,"Étienne BUTZBACH",103,0.17281879194630873]
[null,null,null,{"$f":"Candidats!A4&\" \"&Candidats!B4","v":"Bastien FAUDOT"},48,{"$f":"IF(E$11=0,0,E14/E$11)","v":7.855973813420622E-2},null,"Bastien FAUDOT",51,8.557046979865772E-2]
[null,null,null,{"$f":"Candidats!A5&\" \"&Candidats!B5","v":"Damien MESLOT"},358,{"$f":"IF(E$11=0,0,E15/E$11)","v":0.5859247135842881},null,"Damien MESLOT",271,0.45469798657718119]
[null,null,null,null,{"$f":"IF(SUM(E12:E15)<>E11,\"!!! FAUX\",\"\")","v":""}]
[null,null,null,"TOTAL  :",{"$f":"SUM(E12:E15)","v":611}]
[]
[null,null,null,null,null,"(1) Votants / Inscrits"]
[null,null,null,null,null,"(2) Nuls / Votants"]
[null,null,null,null,null,"(3) Exprimés / Inscrits"]
[null,null,null,null,null,"(4) Score / Exprimés"]

{"sheet":"D2","index":11,"n_rows":22,"n_cols":10,"rows_kept":22,"cut":false,"hidden":false,"merged":[[5,7,5,9]]}
[]
[]
["D2","-","GROUPE SCOLAIRE CHÂTEAUDUN (Rue de Châteaudun)"]
[]
[]
[null,null,null,null,null,null,null,"Résultats 1er tour"]
[null,null,null,"INSCRITS",838,"%",null,null,838]
[null,null,null,"Émargements",501,null,null,null,503]
[null,null,null,"Votants (participation)",501,{"$f":"IF(E7=0,0,E9/E7)","v":0.59785202863961817},"(1)",null,503,0.60023866348448685]
[null,null,null,"Nuls",26,{"$f":"IF(E9=0,0,E10/E9)","v":5.1896207584830337E-2},"(2)",null,22,4.37375745526839E-2]
[null,null,null,"Exprimés",475,{"$f":"IF(E7=0,0,E11/E7)","v":0.56682577565632464},"(3)",null,481,0.57398568019093077]
[null,null,null,{"$f":"Candidats!A2&\" \"&Candidats!B2","v":"Marc ARCHAMBAULT"},44,{"$f":"IF(E$11=0,0,E12/E$11)","v":9.2631578947368426E-2},"(4)","Marc ARCHAMBAULT",56,0.11642411642411643]
[null,null,null,{"$f":"Candidats!A3&\" \"&Candidats!B3","v":"Étienne BUTZBACH"},112,{"$f":"IF(E$11=0,0,E13/E$11)","v":0.23578947368421052},null,"Étienne BUTZBACH",67,0.1392931392931393]
[null,null,null,{"$f":"Candidats!A4&\" \"&Candidats!B4","v":"Bastien FAUDOT"},52,{"$f":"IF(E$11=0,0,E14/E$11)","v":0.10947368421052632},null,"Bastien FAUDOT",56,0.11642411642411643]
[null,null,null,{"$f":"Candidats!A5&\" \"&Candidats!B5","v":"Damien MESLOT"},267,{"$f":"IF(E$11=0,0,E15/E$11)","v":0.56210526315789477},null,"Damien MESLOT",197,0.40956340956340959]
[null,null,null,null,{"$f":"IF(SUM(E12:E15)<>E11,\"!!! FAUX\",\"\")","v":""}]
[null,null,null,"TOTAL  :",{"$f":"SUM(E12:E15)","v":475}]
[]
[null,null,null,null,null,"(1) Votants / Inscrits"]
[null,null,null,null,null,"(2) Nuls / Votants"]
[null,null,null,null,null,"(3) Exprimés / Inscrits"]
[null,null,null,null,null,"(4) Score / Exprimés"]

{"sheet":"D3","index":12,"n_rows":22,"n_cols":10,"rows_kept":22,"cut":false,"hidden":false,"merged":[[5,7,5,9]]}
[]
[]
["D3","-","GROUPE SCOLAIRE CHÂTEAUDUN (Rue de Châteaudun)"]
[]
[]
[null,null,null,null,null,null,null,"Résultats 1er tour"]
[null,null,null,"INSCRITS",912,"%",null,null,912]
[null,null,null,"Émargements",559,null,null,null,554]
[null,null,null,"Votants (participation)",559,{"$f":"IF(E7=0,0,E9/E7)","v":0.61293859649122806},"(1)",null,554,0.60745614035087714]
[null,null,null,"Nuls",30,{"$f":"IF(E9=0,0,E10/E9)","v":5.3667262969588549E-2},"(2)",null,18,3.2490974729241874E-2]
[null,null,null,"Exprimés",529,{"$f":"IF(E7=0,0,E11/E7)","v":0.58004385964912286},"(3)",null,536,0.58771929824561409]
[null,null,null,{"$f":"Candidats!A2&\" \"&Candidats!B2","v":"Marc ARCHAMBAULT"},74,{"$f":"IF(E$11=0,0,E12/E$11)","v":0.13988657844990549},"(4)","Marc ARCHAMBAULT",91,0.16977611940298507]
[null,null,null,{"$f":"Candidats!A3&\" \"&Candidats!B3","v":"Étienne BUTZBACH"},129,{"$f":"IF(E$11=0,0,E13/E$11)","v":0.24385633270321361},null,"Étienne BUTZBACH",70,0.13059701492537312]
[null,null,null,{"$f":"Candidats!A4&\" \"&Candidats!B4","v":"Bastien FAUDOT"},47,{"$f":"IF(E$11=0,0,E14/E$11)","v":8.8846880907372403E-2},null,"Bastien FAUDOT",47,8.7686567164179108E-2]
[null,null,null,{"$f":"Candidats!A5&\" \"&Candidats!B5","v":"Damien MESLOT"},279,{"$f":"IF(E$11=0,0,E15/E$11)","v":0.52741020793950855},null,"Damien MESLOT",199,0.3712686567164179]
[null,null,null,null,{"$f":"IF(SUM(E12:E15)<>E11,\"!!! FAUX\",\"\")","v":""}]
[null,null,null,"TOTAL  :",{"$f":"SUM(E12:E15)","v":529}]
[]
[null,null,null,null,null,"(1) Votants / Inscrits"]
[null,null,null,null,null,"(2) Nuls / Votants"]
[null,null,null,null,null,"(3) Exprimés / Inscrits"]
[null,null,null,null,null,"(4) Score / Exprimés"]

{"sheet":"E1","index":13,"n_rows":22,"n_cols":10,"rows_kept":22,"cut":false,"hidden":false,"merged":[[5,7,5,9]]}
[]
[]
["E1","-","GROUPE SCOLAIRE RAYMOND AUBERT (Rue de la 1ère Armée Française)"]
[]
[]
[null,null,null,null,null,null,null,"Résultats 1er tour"]
[null,null,null,"INSCRITS",1178,"%",null,null,1181]
[null,null,null,"Émargements",674,null,null,null,668]
[null,null,null,"Votants (participation)",674,{"$f":"IF(E7=0,0,E9/E7)","v":0.57215619694397279},"(1)",null,668,0.56562235393734128]
[null,null,null,"Nuls",28,{"$f":"IF(E9=0,0,E10/E9)","v":4.1543026706231452E-2},"(2)",null,19,2.8443113772455089E-2]
[null,null,null,"Exprimés",646,{"$f":"IF(E7=0,0,E11/E7)","v":0.54838709677419351},"(3)",null,649,0.54953429297205758]
[null,null,null,{"$f":"Candidats!A2&\" \"&Candidats!B2","v":"Marc ARCHAMBAULT"},86,{"$f":"IF(E$11=0,0,E12/E$11)","v":0.13312693498452013},"(4)","Marc ARCHAMBAULT",96,0.14791987673343607]
[null,null,null,{"$f":"Candidats!A3&\" \"&Candidats!B3","v":"Étienne BUTZBACH"},142,{"$f":"IF(E$11=0,0,E13/E$11)","v":0.21981424148606812},null,"Étienne BUTZBACH",88,0.13559322033898305]
[null,null,null,{"$f":"Candidats!A4&\" \"&Candidats!B4","v":"Bastien FAUDOT"},76,{"$f":"IF(E$11=0,0,E14/E$11)","v":0.11764705882352941},null,"Bastien FAUDOT",88,0.13559322033898305]
[null,null,null,{"$f":"Candidats!A5&\" \"&Candidats!B5","v":"Damien MESLOT"},342,{"$f":"IF(E$11=0,0,E15/E$11)","v":0.52941176470588236},null,"Damien MESLOT",244,0.37596302003081666]
[null,null,null,null,{"$f":"IF(SUM(E12:E15)<>E11,\"!!! FAUX\",\"\")","v":""}]
[null,null,null,"TOTAL  :",{"$f":"SUM(E12:E15)","v":646}]
[]
[null,null,null,null,null,"(1) Votants / Inscrits"]
[null,null,null,null,null,"(2) Nuls / Votants"]
[null,null,null,null,null,"(3) Exprimés / Inscrits"]
[null,null,null,null,null,"(4) Score / Exprimés"]

{"sheet":"E2","index":14,"n_rows":22,"n_cols":10,"rows_kept":22,"cut":false,"hidden":false,"merged":[[5,7,5,9]]}
[]
[]
["E2","-","GROUPE SCOLAIRE RAYMOND AUBERT (Rue de la 1ère Armée Française)"]
[]
[]
[null,null,null,null,null,null,null,"Résultats 1er tour"]
[null,null,null,"INSCRITS",1212,"%",null,null,1212]
[null,null,null,"Émargements",696,null,null,null,680]
[null,null,null,"Votants (participation)",696,{"$f":"IF(E7=0,0,E9/E7)","v":0.57425742574257421},"(1)",null,681,0.56188118811881194]
[null,null,null,"Nuls",31,{"$f":"IF(E9=0,0,E10/E9)","v":4.4540229885057472E-2},"(2)",null,28,4.1116005873715125E-2]
[null,null,null,"Exprimés",665,{"$f":"IF(E7=0,0,E11/E7)","v":0.54867986798679869},"(3)",null,653,0.53877887788778878]
[null,null,null,{"$f":"Candidats!A2&\" \"&Candidats!B2","v":"Marc ARCHAMBAULT"},91,{"$f":"IF(E$11=0,0,E12/E$11)","v":0.1368421052631579},"(4)","Marc ARCHAMBAULT",115,0.17611026033690658]
[null,null,null,{"$f":"Candidats!A3&\" \"&Candidats!B3","v":"Étienne BUTZBACH"},167,{"$f":"IF(E$11=0,0,E13/E$11)","v":0.2511278195488722},null,"Étienne BUTZBACH",122,0.18683001531393567]
[null,null,null,{"$f":"Candidats!A4&\" \"&Candidats!B4","v":"Bastien FAUDOT"},64,{"$f":"IF(E$11=0,0,E14/E$11)","v":9.6240601503759404E-2},null,"Bastien FAUDOT",51,7.8101071975497705E-2]
[null,null,null,{"$f":"Candidats!A5&\" \"&Candidats!B5","v":"Damien MESLOT"},343,{"$f":"IF(E$11=0,0,E15/E$11)","v":0.51578947368421058},null,"Damien MESLOT",241,0.36906584992343033]
[null,null,null,null,{"$f":"IF(SUM(E12:E15)<>E11,\"!!! FAUX\",\"\")","v":""}]
[null,null,null,"TOTAL  :",{"$f":"SUM(E12:E15)","v":665}]
[]
[null,null,null,null,null,"(1) Votants / Inscrits"]
[null,null,null,null,null,"(2) Nuls / Votants"]
[null,null,null,null,null,"(3) Exprimés / Inscrits"]
[null,null,null,null,null,"(4) Score / Exprimés"]

{"sheet":"E3","index":15,"n_rows":22,"n_cols":10,"rows_kept":22,"cut":false,"hidden":false,"merged":[[5,7,5,9]]}
[]
[]
["E3","-","GROUPE SCOLAIRE RAYMOND AUBERT (Rue de la 1ère Armée Française)"]
[]
[]
[null,null,null,null,null,null,null,"Résultats 1er tour"]
[null,null,null,"INSCRITS",1037,"%",null,null,1038]
[null,null,null,"Émargements",598,null,null,null,564]
[null,null,null,"Votants (participation)",600,{"$f":"IF(E7=0,0,E9/E7)","v":0.57859209257473476},"(1)",null,564,0.54335260115606931]
[null,null,null,"Nuls",30,{"$f":"IF(E9=0,0,E10/E9)","v":0.05},"(2)",null,24,4.2553191489361701E-2]
[null,null,null,"Exprimés",570,{"$f":"IF(E7=0,0,E11/E7)","v":0.54966248794599804},"(3)",null,540,0.52023121387283233]
[null,null,null,{"$f":"Candidats!A2&\" \"&Candidats!B2","v":"Marc ARCHAMBAULT"},76,{"$f":"IF(E$11=0,0,E12/E$11)","v":0.13333333333333333},"(4)","Marc ARCHAMBAULT",94,0.17407407407407408]
[null,null,null,{"$f":"Candidats!A3&\" \"&Candidats!B3","v":"Étienne BUTZBACH"},174,{"$f":"IF(E$11=0,0,E13/E$11)","v":0.30526315789473685},null,"Étienne BUTZBACH",121,0.22407407407407406]
[null,null,null,{"$f":"Candidats!A4&\" \"&Candidats!B4","v":"Bastien FAUDOT"},64,{"$f":"IF(E$11=0,0,E14/E$11)","v":0.11228070175438597},null,"Bastien FAUDOT",60,0.1111111111111111]
[null,null,null,{"$f":"Candidats!A5&\" \"&Candidats!B5","v":"Damien MESLOT"},256,{"$f":"IF(E$11=0,0,E15/E$11)","v":0.44912280701754387},null,"Damien MESLOT",167,0.30925925925925923]
[null,null,null,null,{"$f":"IF(SUM(E12:E15)<>E11,\"!!! FAUX\",\"\")","v":""}]
[null,null,null,"TOTAL  :",{"$f":"SUM(E12:E15)","v":570}]
[]
[null,null,null,null,null,"(1) Votants / Inscrits"]
[null,null,null,null,null,"(2) Nuls / Votants"]
[null,null,null,null,null,"(3) Exprimés / Inscrits"]
[null,null,null,null,null,"(4) Score / Exprimés"]

{"sheet":"F1","index":16,"n_rows":22,"n_cols":10,"rows_kept":22,"cut":false,"hidden":false,"merged":[[5,7,5,9]]}
[]
[]
["F1","-","MAISON DE L'ENFANT (Rue Salvador Allende)"]
[]
[]
[null,null,null,null,null,null,null,"Résultats 1er tour"]
[null,null,null,"INSCRITS",776,"%",null,null,776]
[null,null,null,"Émargements",476,null,null,null,459]
[null,null,null,"Votants (participation)",476,{"$f":"IF(E7=0,0,E9/E7)","v":0.61340206185567014},"(1)",null,459,0.59149484536082475]
[null,null,null,"Nuls",30,{"$f":"IF(E9=0,0,E10/E9)","v":6.3025210084033612E-2},"(2)",null,18,3.9215686274509803E-2]
[null,null,null,"Exprimés",446,{"$f":"IF(E7=0,0,E11/E7)","v":0.57474226804123707},"(3)",null,441,0.56829896907216493]
[null,null,null,{"$f":"Candidats!A2&\" \"&Candidats!B2","v":"Marc ARCHAMBAULT"},52,{"$f":"IF(E$11=0,0,E12/E$11)","v":0.11659192825112108},"(4)","Marc ARCHAMBAULT",57,0.12925170068027211]
[null,null,null,{"$f":"Candidats!A3&\" \"&Candidats!B3","v":"Étienne BUTZBACH"},144,{"$f":"IF(E$11=0,0,E13/E$11)","v":0.32286995515695066},null,"Étienne BUTZBACH",106,0.24036281179138322]
[null,null,null,{"$f":"Candidats!A4&\" \"&Candidats!B4","v":"Bastien FAUDOT"},44,{"$f":"IF(E$11=0,0,E14/E$11)","v":9.8654708520179366E-2},null,"Bastien FAUDOT",31,7.029478458049887E-2]
[null,null,null,{"$f":"Candidats!A5&\" \"&Candidats!B5","v":"Damien MESLOT"},206,{"$f":"IF(E$11=0,0,E15/E$11)","v":0.46188340807174888},null,"Damien MESLOT",115,0.26077097505668934]
[null,null,null,null,{"$f":"IF(SUM(E12:E15)<>E11,\"!!! FAUX\",\"\")","v":""}]
[null,null,null,"TOTAL  :",{"$f":"SUM(E12:E15)","v":446}]
[]
[null,null,null,null,null,"(1) Votants / Inscrits"]
[null,null,null,null,null,"(2) Nuls / Votants"]
[null,null,null,null,null,"(3) Exprimés / Inscrits"]
[null,null,null,null,null,"(4) Score / Exprimés"]

{"sheet":"F2","index":17,"n_rows":22,"n_cols":10,"rows_kept":22,"cut":false,"hidden":false,"merged":[[5,7,5,9]]}
[]
[]
["F2","-","GROUPE SCOLAIRE ÉMILE GEHANT (Avenue des Frères Lumière)"]
[]
[]
[null,null,null,null,null,null,null,"Résultats 1er tour"]
[null,null,null,"INSCRITS",521,"%",null,null,522]
[null,null,null,"Émargements",295,null,null,null,299]
[null,null,null,"Votants (participation)",295,{"$f":"IF(E7=0,0,E9/E7)","v":0.56621880998080609},"(1)",null,299,0.57279693486590033]
[null,null,null,"Nuls",19,{"$f":"IF(E9=0,0,E10/E9)","v":6.4406779661016947E-2},"(2)",null,13,4.3478260869565216E-2]
[null,null,null,"Exprimés",276,{"$f":"IF(E7=0,0,E11/E7)","v":0.52975047984644918},"(3)",null,286,0.54789272030651337]
[null,null,null,{"$f":"Candidats!A2&\" \"&Candidats!B2","v":"Marc ARCHAMBAULT"},41,{"$f":"IF(E$11=0,0,E12/E$11)","v":0.14855072463768115},"(4)","Marc ARCHAMBAULT",53,0.18531468531468531]
[null,null,null,{"$f":"Candidats!A3&\" \"&Candidats!B3","v":"Étienne BUTZBACH"},101,{"$f":"IF(E$11=0,0,E13/E$11)","v":0.36594202898550726},null,"Étienne BUTZBACH",49,0.17132867132867133]
[null,null,null,{"$f":"Candidats!A4&\" \"&Candidats!B4","v":"Bastien FAUDOT"},38,{"$f":"IF(E$11=0,0,E14/E$11)","v":0.13768115942028986},null,"Bastien FAUDOT",34,0.11888111888111888]
[null,null,null,{"$f":"Candidats!A5&\" \"&Candidats!B5","v":"Damien MESLOT"},96,{"$f":"IF(E$11=0,0,E15/E$11)","v":0.34782608695652173},null,"Damien MESLOT",59,0.2062937062937063]
[null,null,null,null,{"$f":"IF(SUM(E12:E15)<>E11,\"!!! FAUX\",\"\")","v":""}]
[null,null,null,"TOTAL  :",{"$f":"SUM(E12:E15)","v":276}]
[]
[null,null,null,null,null,"(1) Votants / Inscrits"]
[null,null,null,null,null,"(2) Nuls / Votants"]
[null,null,null,null,null,"(3) Exprimés / Inscrits"]
[null,null,null,null,null,"(4) Score / Exprimés"]

{"sheet":"G1","index":18,"n_rows":22,"n_cols":10,"rows_kept":22,"cut":false,"hidden":false,"merged":[[5,7,5,9]]}
[]
[]
["G1","-","GROUPE SCOLAIRE HUBERT METZGER (La Pépinière - Rue Cuvier)"]
[]
[]
[null,null,null,null,null,null,null,"Résultats 1er tour"]
[null,null,null,"INSCRITS",653,"%",null,null,653]
[null,null,null,"Émargements",416,null,null,null,414]
[null,null,null,"Votants (participation)",416,{"$f":"IF(E7=0,0,E9/E7)","v":0.6370597243491577},"(1)",null,414,0.63399693721286365]
[null,null,null,"Nuls",25,{"$f":"IF(E9=0,0,E10/E9)","v":6.0096153846153848E-2},"(2)",null,18,4.3478260869565216E-2]
[null,null,null,"Exprimés",391,{"$f":"IF(E7=0,0,E11/E7)","v":0.59877488514548238},"(3)",null,396,0.60643185298621749]
[null,null,null,{"$f":"Candidats!A2&\" \"&Candidats!B2","v":"Marc ARCHAMBAULT"},50,{"$f":"IF(E$11=0,0,E12/E$11)","v":0.12787723785166241},"(4)","Marc ARCHAMBAULT",54,0.13636363636363635]
[null,null,null,{"$f":"Candidats!A3&\" \"&Candidats!B3","v":"Étienne BUTZBACH"},144,{"$f":"IF(E$11=0,0,E13/E$11)","v":0.36828644501278773},null,"Étienne BUTZBACH",97,0.24494949494949494]
[null,null,null,{"$f":"Candidats!A4&\" \"&Candidats!B4","v":"Bastien FAUDOT"},48,{"$f":"IF(E$11=0,0,E14/E$11)","v":0.12276214833759591},null,"Bastien FAUDOT",33,8.3333333333333329E-2]
[null,null,null,{"$f":"Candidats!A5&\" \"&Candidats!B5","v":"Damien MESLOT"},149,{"$f":"IF(E$11=0,0,E15/E$11)","v":0.38107416879795397},null,"Damien MESLOT",99,0.25]
[null,null,null,null,{"$f":"IF(SUM(E12:E15)<>E11,\"!!! FAUX\",\"\")","v":""}]
[null,null,null,"TOTAL  :",{"$f":"SUM(E12:E15)","v":391}]
[]
[null,null,null,null,null,"(1) Votants / Inscrits"]
[null,null,null,null,null,"(2) Nuls / Votants"]
[null,null,null,null,null,"(3) Exprimés / Inscrits"]
[null,null,null,null,null,"(4) Score / Exprimés"]

{"sheet":"G2","index":19,"n_rows":22,"n_cols":10,"rows_kept":22,"cut":false,"hidden":false,"merged":[[5,7,5,9]]}
[]
[]
["G2","-","GROUPE SCOLAIRE HUBERT METZGER (La Pépinière - Rue Claude Bernard)"]
[]
[]
[null,null,null,null,null,null,null,"Résultats 1er tour"]
[null,null,null,"INSCRITS",754,"%",null,null,755]
[null,null,null,"Émargements",425,null,null,null,419]
[null,null,null,"Votants (participation)",425,{"$f":"IF(E7=0,0,E9/E7)","v":0.56366047745358094},"(1)",null,419,0.55496688741721856]
[null,null,null,"Nuls",26,{"$f":"IF(E9=0,0,E10/E9)","v":6.1176470588235297E-2},"(2)",null,15,3.5799522673031027E-2]
[null,null,null,"Exprimés",399,{"$f":"IF(E7=0,0,E11/E7)","v":0.52917771883289122},"(3)",null,404,0.53509933774834439]
[null,null,null,{"$f":"Candidats!A2&\" \"&Candidats!B2","v":"Marc ARCHAMBAULT"},55,{"$f":"IF(E$11=0,0,E12/E$11)","v":0.13784461152882205},"(4)","Marc ARCHAMBAULT",64,0.15841584158415842]
[null,null,null,{"$f":"Candidats!A3&\" \"&Candidats!B3","v":"Étienne BUTZBACH"},163,{"$f":"IF(E$11=0,0,E13/E$11)","v":0.40852130325814534},null,"Étienne BUTZBACH",97,0.24009900990099009]
[null,null,null,{"$f":"Candidats!A4&\" \"&Candidats!B4","v":"Bastien FAUDOT"},34,{"$f":"IF(E$11=0,0,E14/E$11)","v":8.5213032581453629E-2},null,"Bastien FAUDOT",31,7.6732673267326731E-2]
[null,null,null,{"$f":"Candidats!A5&\" \"&Candidats!B5","v":"Damien MESLOT"},147,{"$f":"IF(E$11=0,0,E15/E$11)","v":0.36842105263157893},null,"Damien MESLOT",97,0.24009900990099009]
[null,null,null,null,{"$f":"IF(SUM(E12:E15)<>E11,\"!!! FAUX\",\"\")","v":""}]
[null,null,null,"TOTAL  :",{"$f":"SUM(E12:E15)","v":399}]
[]
[null,null,null,null,null,"(1) Votants / Inscrits"]
[null,null,null,null,null,"(2) Nuls / Votants"]
[null,null,null,null,null,"(3) Exprimés / Inscrits"]
[null,null,null,null,null,"(4) Score / Exprimés"]

{"sheet":"H1","index":20,"n_rows":22,"n_cols":10,"rows_kept":22,"cut":false,"hidden":false,"merged":[[5,7,5,9]]}
[]
[]
["H1","-","ANNEXE DU COLLÈGE LÉONARD DE VINCI (Faubourg de Lyon)"]
[]
[]
[null,null,null,null,null,null,null,"Résultats 1er tour"]
[null,null,null,"INSCRITS",1041,"%",null,null,1042]
[null,null,null,"Émargements",585,null,null,null,574]
[null,null,null,"Votants (participation)",584,{"$f":"IF(E7=0,0,E9/E7)","v":0.56099903938520657},"(1)",null,574,0.55086372360844527]
[null,null,null,"Nuls",25,{"$f":"IF(E9=0,0,E10/E9)","v":4.2808219178082189E-2},"(2)",null,26,4.5296167247386762E-2]
[null,null,null,"Exprimés",559,{"$f":"IF(E7=0,0,E11/E7)","v":0.53698366954851107},"(3)",null,548,0.52591170825335898]
[null,null,null,{"$f":"Candidats!A2&\" \"&Candidats!B2","v":"Marc ARCHAMBAULT"},65,{"$f":"IF(E$11=0,0,E12/E$11)","v":0.11627906976744186},"(4)","Marc ARCHAMBAULT",64,0.11678832116788321]
[null,null,null,{"$f":"Candidats!A3&\" \"&Candidats!B3","v":"Étienne BUTZBACH"},190,{"$f":"IF(E$11=0,0,E13/E$11)","v":0.33989266547406083},null,"Étienne BUTZBACH",133,0.24270072992700731]
[null,null,null,{"$f":"Candidats!A4&\" \"&Candidats!B4","v":"Bastien FAUDOT"},54,{"$f":"IF(E$11=0,0,E14/E$11)","v":9.6601073345259386E-2},null,"Bastien FAUDOT",61,0.11131386861313869]
[null,null,null,{"$f":"Candidats!A5&\" \"&Candidats!B5","v":"Damien MESLOT"},250,{"$f":"IF(E$11=0,0,E15/E$11)","v":0.44722719141323791},null,"Damien MESLOT",182,0.33211678832116787]
[null,null,null,null,{"$f":"IF(SUM(E12:E15)<>E11,\"!!! FAUX\",\"\")","v":""}]
[null,null,null,"TOTAL  :",{"$f":"SUM(E12:E15)","v":559}]
[]
[null,null,null,null,null,"(1) Votants / Inscrits"]
[null,null,null,null,null,"(2) Nuls / Votants"]
[null,null,null,null,null,"(3) Exprimés / Inscrits"]
[null,null,null,null,null,"(4) Score / Exprimés"]

{"sheet":"J1","index":21,"n_rows":22,"n_cols":10,"rows_kept":22,"cut":false,"hidden":false,"merged":[[5,7,5,9]]}
[]
[]
["J1","-","GROUPE SCOLAIRE RENÉ RÜCKLIN (Rue Braille)"]
[]
[]
[null,null,null,null,null,null,null,"Résultats 1er tour"]
[null,null,null,"INSCRITS",597,"%",null,null,597]
[null,null,null,"Émargements",282,null,null,null,266]
[null,null,null,"Votants (participation)",282,{"$f":"IF(E7=0,0,E9/E7)","v":0.47236180904522612},"(1)",null,266,0.44556113902847572]
[null,null,null,"Nuls",9,{"$f":"IF(E9=0,0,E10/E9)","v":3.1914893617021274E-2},"(2)",null,9,3.3834586466165412E-2]
[null,null,null,"Exprimés",273,{"$f":"IF(E7=0,0,E11/E7)","v":0.457286432160804},"(3)",null,257,0.4304857621440536]
[null,null,null,{"$f":"Candidats!A2&\" \"&Candidats!B2","v":"Marc ARCHAMBAULT"},50,{"$f":"IF(E$11=0,0,E12/E$11)","v":0.18315018315018314},"(4)","Marc ARCHAMBAULT",50,0.19455252918287938]
[null,null,null,{"$f":"Candidats!A3&\" \"&Candidats!B3","v":"Étienne BUTZBACH"},98,{"$f":"IF(E$11=0,0,E13/E$11)","v":0.35897435897435898},null,"Étienne BUTZBACH",63,0.24513618677042801]
[null,null,null,{"$f":"Candidats!A4&\" \"&Candidats!B4","v":"Bastien FAUDOT"},30,{"$f":"IF(E$11=0,0,E14/E$11)","v":0.10989010989010989},null,"Bastien FAUDOT",28,0.10894941634241245]
[null,null,null,{"$f":"Candidats!A5&\" \"&Candidats!B5","v":"Damien MESLOT"},95,{"$f":"IF(E$11=0,0,E15/E$11)","v":0.34798534798534797},null,"Damien MESLOT",63,0.24513618677042801]
[null,null,null,null,{"$f":"IF(SUM(E12:E15)<>E11,\"!!! FAUX\",\"\")","v":""}]
[null,null,null,"TOTAL  :",{"$f":"SUM(E12:E15)","v":273}]
[]
[null,null,null,null,null,"(1) Votants / Inscrits"]
[null,null,null,null,null,"(2) Nuls / Votants"]
[null,null,null,null,null,"(3) Exprimés / Inscrits"]
[null,null,null,null,null,"(4) Score / Exprimés"]

{"sheet":"J2","index":22,"n_rows":22,"n_cols":10,"rows_kept":22,"cut":false,"hidden":false,"merged":[[5,7,5,9]]}
[]
[]
["J2","-","GROUPE SCOLAIRE RENÉ RÜCKLIN (Rue Braille)"]
[]
[]
[null,null,null,null,null,null,null,"Résultats 1er tour"]
[null,null,null,"INSCRITS",818,"%",null,null,818]
[null,null,null,"Émargements",471,null,null,null,438]
[null,null,null,"Votants (participation)",471,{"$f":"IF(E7=0,0,E9/E7)","v":0.57579462102689483},"(1)",null,438,0.53545232273838628]
[null,null,null,"Nuls",28,{"$f":"IF(E9=0,0,E10/E9)","v":5.9447983014861996E-2},"(2)",null,14,3.1963470319634701E-2]
[null,null,null,"Exprimés",443,{"$f":"IF(E7=0,0,E11/E7)","v":0.54156479217603914},"(3)",null,424,0.51833740831295838]
[null,null,null,{"$f":"Candidats!A2&\" \"&Candidats!B2","v":"Marc ARCHAMBAULT"},47,{"$f":"IF(E$11=0,0,E12/E$11)","v":0.10609480812641084},"(4)","Marc ARCHAMBAULT",42,9.9056603773584911E-2]
[null,null,null,{"$f":"Candidats!A3&\" \"&Candidats!B3","v":"Étienne BUTZBACH"},148,{"$f":"IF(E$11=0,0,E13/E$11)","v":0.3340857787810384},null,"Étienne BUTZBACH",102,0.24056603773584906]
[null,null,null,{"$f":"Candidats!A4&\" \"&Candidats!B4","v":"Bastien FAUDOT"},40,{"$f":"IF(E$11=0,0,E14/E$11)","v":9.0293453724604969E-2},null,"Bastien FAUDOT",43,0.10141509433962265]
[null,null,null,{"$f":"Candidats!A5&\" \"&Candidats!B5","v":"Damien MESLOT"},208,{"$f":"IF(E$11=0,0,E15/E$11)","v":0.46952595936794583},null,"Damien MESLOT",137,0.32311320754716982]
[null,null,null,null,{"$f":"IF(SUM(E12:E15)<>E11,\"!!! FAUX\",\"\")","v":""}]
[null,null,null,"TOTAL  :",{"$f":"SUM(E12:E15)","v":443}]
[]
[null,null,null,null,null,"(1) Votants / Inscrits"]
[null,null,null,null,null,"(2) Nuls / Votants"]
[null,null,null,null,null,"(3) Exprimés / Inscrits"]
[null,null,null,null,null,"(4) Score / Exprimés"]

{"sheet":"J3","index":23,"n_rows":22,"n_cols":10,"rows_kept":22,"cut":false,"hidden":false,"merged":[[5,7,5,9]]}
[]
[]
["J3","-","GROUPE SCOLAIRE RENÉ RÜCKLIN (Rue de Rome)"]
[]
[]
[null,null,null,null,null,null,null,"Résultats 1er tour"]
[null,null,null,"INSCRITS",562,"%",null,null,562]
[null,null,null,"Émargements",297,null,null,null,277]
[null,null,null,"Votants (participation)",297,{"$f":"IF(E7=0,0,E9/E7)","v":0.52846975088967973},"(1)",null,277,0.49288256227758009]
[null,null,null,"Nuls",22,{"$f":"IF(E9=0,0,E10/E9)","v":7.407407407407407E-2},"(2)",null,20,7.2202166064981949E-2]
[null,null,null,"Exprimés",275,{"$f":"IF(E7=0,0,E11/E7)","v":0.48932384341637009},"(3)",null,257,0.45729537366548045]
[null,null,null,{"$f":"Candidats!A2&\" \"&Candidats!B2","v":"Marc ARCHAMBAULT"},30,{"$f":"IF(E$11=0,0,E12/E$11)","v":0.10909090909090909},"(4)","Marc ARCHAMBAULT",26,0.10116731517509728]
[null,null,null,{"$f":"Candidats!A3&\" \"&Candidats!B3","v":"Étienne BUTZBACH"},116,{"$f":"IF(E$11=0,0,E13/E$11)","v":0.42181818181818181},null,"Étienne BUTZBACH",88,0.34241245136186771]
[null,null,null,{"$f":"Candidats!A4&\" \"&Candidats!B4","v":"Bastien FAUDOT"},33,{"$f":"IF(E$11=0,0,E14/E$11)","v":0.12},null,"Bastien FAUDOT",35,0.13618677042801555]
[null,null,null,{"$f":"Candidats!A5&\" \"&Candidats!B5","v":"Damien MESLOT"},96,{"$f":"IF(E$11=0,0,E15/E$11)","v":0.34909090909090912},null,"Damien MESLOT",60,0.23346303501945526]
[null,null,null,null,{"$f":"IF(SUM(E12:E15)<>E11,\"!!! FAUX\",\"\")","v":""}]
[null,null,null,"TOTAL  :",{"$f":"SUM(E12:E15)","v":275}]
[]
[null,null,null,null,null,"(1) Votants / Inscrits"]
[null,null,null,null,null,"(2) Nuls / Votants"]
[null,null,null,null,null,"(3) Exprimés / Inscrits"]
[null,null,null,null,null,"(4) Score / Exprimés"]

{"sheet":"K1","index":24,"n_rows":22,"n_cols":10,"rows_kept":22,"cut":false,"hidden":false,"merged":[[5,7,5,9]]}
[]
[]
["K1","-","GROUPE SCOLAIRE LOUIS PERGAUD (Rue de Zaporojie - Primaire)"]
[]
[]
[null,null,null,null,null,null,null,"Résultats 1er tour"]
[null,null,null,"INSCRITS",958,"%",null,null,959]
[null,null,null,"Émargements",500,null,null,null,487]
[null,null,null,"Votants (participation)",500,{"$f":"IF(E7=0,0,E9/E7)","v":0.52192066805845516},"(1)",null,487,0.50782064650677794]
[null,null,null,"Nuls",23,{"$f":"IF(E9=0,0,E10/E9)","v":4.5999999999999999E-2},"(2)",null,18,3.6960985626283367E-2]
[null,null,null,"Exprimés",477,{"$f":"IF(E7=0,0,E11/E7)","v":0.4979123173277662},"(3)",null,469,0.48905109489051096]
[null,null,null,{"$f":"Candidats!A2&\" \"&Candidats!B2","v":"Marc ARCHAMBAULT"},43,{"$f":"IF(E$11=0,0,E12/E$11)","v":9.0146750524109018E-2},"(4)","Marc ARCHAMBAULT",53,0.11300639658848614]
[null,null,null,{"$f":"Candidats!A3&\" \"&Candidats!B3","v":"Étienne BUTZBACH"},208,{"$f":"IF(E$11=0,0,E13/E$11)","v":0.4360587002096436},null,"Étienne BUTZBACH",153,0.32622601279317698]
[null,null,null,{"$f":"Candidats!A4&\" \"&Candidats!B4","v":"Bastien FAUDOT"},37,{"$f":"IF(E$11=0,0,E14/E$11)","v":7.7568134171907763E-2},null,"Bastien FAUDOT",39,8.3155650319829424E-2]
[null,null,null,{"$f":"Candidats!A5&\" \"&Candidats!B5","v":"Damien MESLOT"},189,{"$f":"IF(E$11=0,0,E15/E$11)","v":0.39622641509433965},null,"Damien MESLOT",173,0.36886993603411516]
[null,null,null,null,{"$f":"IF(SUM(E12:E15)<>E11,\"!!! FAUX\",\"\")","v":""}]
[null,null,null,"TOTAL  :",{"$f":"SUM(E12:E15)","v":477}]
[]
[null,null,null,null,null,"(1) Votants / Inscrits"]
[null,null,null,null,null,"(2) Nuls / Votants"]
[null,null,null,null,null,"(3) Exprimés / Inscrits"]
[null,null,null,null,null,"(4) Score / Exprimés"]

{"sheet":"K2","index":25,"n_rows":22,"n_cols":10,"rows_kept":22,"cut":false,"hidden":false,"merged":[[5,7,5,9]]}
[]
[]
["K2","-","GROUPE SCOLAIRE LOUIS PERGAUD (Rue de Zaporojie - Maternelle)"]
[]
[]
[null,null,null,null,null,null,null,"Résultats 1er tour"]
[null,null,null,"INSCRITS",789,"%",null,null,789]
[null,null,null,"Émargements",444,null,null,null,395]
[null,null,null,"Votants (participation)",444,{"$f":"IF(E7=0,0,E9/E7)","v":0.56273764258555137},"(1)",null,395,0.50063371356147024]
[null,null,null,"Nuls",14,{"$f":"IF(E9=0,0,E10/E9)","v":3.1531531531531529E-2},"(2)",null,12,3.0379746835443037E-2]
[null,null,null,"Exprimés",430,{"$f":"IF(E7=0,0,E11/E7)","v":0.54499366286438533},"(3)",null,383,0.48542458808618505]
[null,null,null,{"$f":"Candidats!A2&\" \"&Candidats!B2","v":"Marc ARCHAMBAULT"},47,{"$f":"IF(E$11=0,0,E12/E$11)","v":0.10930232558139535},"(4)","Marc ARCHAMBAULT",46,0.12010443864229765]
[null,null,null,{"$f":"Candidats!A3&\" \"&Candidats!B3","v":"Étienne BUTZBACH"},185,{"$f":"IF(E$11=0,0,E13/E$11)","v":0.43023255813953487},null,"Étienne BUTZBACH",128,0.33420365535248042]
[null,null,null,{"$f":"Candidats!A4&\" \"&Candidats!B4","v":"Bastien FAUDOT"},24,{"$f":"IF(E$11=0,0,E14/E$11)","v":5.5813953488372092E-2},null,"Bastien FAUDOT",30,7.8328981723237601E-2]
[null,null,null,{"$f":"Candidats!A5&\" \"&Candidats!B5","v":"Damien MESLOT"},174,{"$f":"IF(E$11=0,0,E15/E$11)","v":0.40465116279069768},null,"Damien MESLOT",133,0.3472584856396867]
[null,null,null,null,{"$f":"IF(SUM(E12:E15)<>E11,\"!!! FAUX\",\"\")","v":""}]
[null,null,null,"TOTAL  :",{"$f":"SUM(E12:E15)","v":430}]
[]
[null,null,null,null,null,"(1) Votants / Inscrits"]
[null,null,null,null,null,"(2) Nuls / Votants"]
[null,null,null,null,null,"(3) Exprimés / Inscrits"]
[null,null,null,null,null,"(4) Score / Exprimés"]

{"sheet":"L1","index":26,"n_rows":22,"n_cols":10,"rows_kept":22,"cut":false,"hidden":false,"merged":[[5,7,5,9]]}
[]
[]
["L1","-","LES BARRES - MATERNELLE (Via d'Auxelles)"]
[]
[]
[null,null,null,null,null,null,null,"Résultats 1er tour"]
[null,null,null,"INSCRITS",1336,"%",null,null,1336]
[null,null,null,"Émargements",759,null,null,null,759]
[null,null,null,"Votants (participation)",759,{"$f":"IF(E7=0,0,E9/E7)","v":0.56811377245508987},"(1)",null,759,0.56811377245508987]
[null,null,null,"Nuls",27,{"$f":"IF(E9=0,0,E10/E9)","v":3.5573122529644272E-2},"(2)",null,19,2.5032938076416336E-2]
[null,null,null,"Exprimés",732,{"$f":"IF(E7=0,0,E11/E7)","v":0.54790419161676651},"(3)",null,740,0.55389221556886226]
[null,null,null,{"$f":"Candidats!A2&\" \"&Candidats!B2","v":"Marc ARCHAMBAULT"},97,{"$f":"IF(E$11=0,0,E12/E$11)","v":0.1325136612021858},"(4)","Marc ARCHAMBAULT",108,0.14594594594594595]
[null,null,null,{"$f":"Candidats!A3&\" \"&Candidats!B3","v":"Étienne BUTZBACH"},218,{"$f":"IF(E$11=0,0,E13/E$11)","v":0.29781420765027322},null,"Étienne BUTZBACH",143,0.19324324324324324]
[null,null,null,{"$f":"Candidats!A4&\" \"&Candidats!B4","v":"Bastien FAUDOT"},116,{"$f":"IF(E$11=0,0,E14/E$11)","v":0.15846994535519127},null,"Bastien FAUDOT",132,0.17837837837837839]
[null,null,null,{"$f":"Candidats!A5&\" \"&Candidats!B5","v":"Damien MESLOT"},301,{"$f":"IF(E$11=0,0,E15/E$11)","v":0.41120218579234974},null,"Damien MESLOT",210,0.28378378378378377]
[null,null,null,null,{"$f":"IF(SUM(E12:E15)<>E11,\"!!! FAUX\",\"\")","v":""}]
[null,null,null,"TOTAL  :",{"$f":"SUM(E12:E15)","v":732}]
[]
[null,null,null,null,null,"(1) Votants / Inscrits"]
[null,null,null,null,null,"(2) Nuls / Votants"]
[null,null,null,null,null,"(3) Exprimés / Inscrits"]
[null,null,null,null,null,"(4) Score / Exprimés"]

{"sheet":"L2","index":27,"n_rows":22,"n_cols":10,"rows_kept":22,"cut":false,"hidden":false,"merged":[[5,7,5,9]]}
[]
[]
["L2","-","LES BARRES - PRIMAIRE (Rue Ernest Duvillard)"]
[]
[]
[null,null,null,null,null,null,null,"Résultats 1er tour"]
[null,null,null,"INSCRITS",1154,"%",null,null,1155]
[null,null,null,"Émargements",727,null,null,null,709]
[null,null,null,"Votants (participation)",727,{"$f":"IF(E7=0,0,E9/E7)","v":0.62998266897746968},"(1)",null,709,0.61385281385281387]
[null,null,null,"Nuls",40,{"$f":"IF(E9=0,0,E10/E9)","v":5.5020632737276476E-2},"(2)",null,35,4.9365303244005641E-2]
[null,null,null,"Exprimés",687,{"$f":"IF(E7=0,0,E11/E7)","v":0.59532062391681106},"(3)",null,674,0.5835497835497836]
[null,null,null,{"$f":"Candidats!A2&\" \"&Candidats!B2","v":"Marc ARCHAMBAULT"},104,{"$f":"IF(E$11=0,0,E12/E$11)","v":0.15138282387190685},"(4)","Marc ARCHAMBAULT",103,0.15281899109792285]
[null,null,null,{"$f":"Candidats!A3&\" \"&Candidats!B3","v":"Étienne BUTZBACH"},219,{"$f":"IF(E$11=0,0,E13/E$11)","v":0.31877729257641924},null,"Étienne BUTZBACH",148,0.21958456973293769]
[null,null,null,{"$f":"Candidats!A4&\" \"&Candidats!B4","v":"Bastien FAUDOT"},81,{"$f":"IF(E$11=0,0,E14/E$11)","v":0.11790393013100436},null,"Bastien FAUDOT",86,0.12759643916913946]
[null,null,null,{"$f":"Candidats!A5&\" \"&Candidats!B5","v":"Damien MESLOT"},283,{"$f":"IF(E$11=0,0,E15/E$11)","v":0.41193595342066958},null,"Damien MESLOT",170,0.25222551928783382]
[null,null,null,null,{"$f":"IF(SUM(E12:E15)<>E11,\"!!! FAUX\",\"\")","v":""}]
[null,null,null,"TOTAL  :",{"$f":"SUM(E12:E15)","v":687}]
[]
[null,null,null,null,null,"(1) Votants / Inscrits"]
[null,null,null,null,null,"(2) Nuls / Votants"]
[null,null,null,null,null,"(3) Exprimés / Inscrits"]
[null,null,null,null,null,"(4) Score / Exprimés"]

{"sheet":"EST","index":28,"n_rows":24,"n_cols":27,"rows_kept":24,"cut":false,"hidden":false,"merged":[[9,18,9,19],[0,0,2,7],[9,24,9,25],[9,15,9,16],[9,21,9,22],[8,15,8,16],[8,21,8,22],[7,21,7,22],[7,24,7,25],[8,24,8,25],[7,15,7,16],[7,18,7,19],[8,18,8,19]]}
["CANTON  EST"]
[]
[]
[]
[]
[]
[]
[null,null,null,null,null,null,null,null,null,null,null,null,null,null,null,{"$f":"Candidats!A2","v":"Marc"},null,null,{"$f":"Candidats!A3","v":"Étienne"},null,null,{"$f":"Candidats!A4","v":"Bastien"},null,null,{"$f":"Candidats!A5","v":"Damien"}]
[null,null,null,"BUREAUX",null,null,"Inscrits",null,"Votants",null,"Particip.","Nuls",null,"Exprimés",null,{"$f":"Candidats!B2","v":"ARCHAMBAULT"},null,"%",{"$f":"Candidats!B3","v":"BUTZBACH"},null,"%",{"$f":"Candidats!B4","v":"FAUDOT"},null,"%",{"$f":"Candidats!B5","v":"MESLOT"},null,"%"]
[]
[]
[null,"A1","-"," Hôtel de Ville  ","E",null,{"$f":"IF('A1'!$E7=\"\",\"\",'A1'!$E7)","v":949},null,{"$f":"IF('A1'!$E9=\"\",\"\",'A1'!$E9)","v":516},null,{"$f":"IF(I12=\"\",\" \",I12/$G12)","v":0.54373024236037937},{"$f":"IF('A1'!$E10=\"\",\"\",'A1'!$E10)","v":11},null,{"$f":"IF('A1'!$E11=\"\",\"\",'A1'!$E11)","v":505},null,{"$f":"IF('A1'!$E12=\"\",\"\",'A1'!$E12)","v":22},null,{"$f":"IF(P12=\"\",\" \",P12/$N12)","v":4.3564356435643561E-2},{"$f":"IF('A1'!$E13=\"\",\"\",'A1'!$E13)","v":172},null,{"$f":"IF(S12=\"\",\" \",S12/$N12)","v":0.34059405940594062},{"$f":"IF('A1'!$E14=\"\",\"\",'A1'!$E14)","v":59},null,{"$f":"IF(V12=\"\",\" \",V12/$N12)","v":0.11683168316831684},{"$f":"IF('A1'!$E15=\"\",\"\",'A1'!$E15)","v":252},null,{"$f":"IF(Y12=\"\",\" \",Y12/$N12)","v":0.49900990099009901}]
[null,"A2","-","Salle des fêtes ","E",null,{"$f":"IF('A2'!$E7=\"\",\"\",'A2'!$E7)","v":955},null,{"$f":"IF('A2'!$E9=\"\",\"\",'A2'!$E9)","v":619},null,{"$f":"IF(I13=\"\",\" \",I13/$G13)","v":0.64816753926701576},{"$f":"IF('A2'!$E10=\"\",\"\",'A2'!$E10)","v":31},null,{"$f":"IF('A2'!$E11=\"\",\"\",'A2'!$E11)","v":588},null,{"$f":"IF('A2'!$E12=\"\",\"\",'A2'!$E12)","v":35},null,5.9523809523809521E-2,{"$f":"IF('A2'!$E13=\"\",\"\",'A2'!$E13)","v":147},null,0.25,{"$f":"IF('A2'!$E14=\"\",\"\",'A2'!$E14)","v":69},null,0.11734693877551021,{"$f":"IF('A2'!$E15=\"\",\"\",'A2'!$E15)","v":337},null,0.5731292517006803]
[null,"B1","-","Victor Hugo","E",null,{"$f":"IF('B1'!$E7=\"\",\"\",'B1'!$E7)","v":1096},null,{"$f":"IF('B1'!$E9=\"\",\"\",'B1'!$E9)","v":622},null,0.56751824817518248,{"$f":"IF('B1'!$E10=\"\",\"\",'B1'!$E10)","v":16},null,{"$f":"IF('B1'!$E11=\"\",\"\",'B1'!$E11)","v":606},null,{"$f":"IF('B1'!$E12=\"\",\"\",'B1'!$E12)","v":36},null,5.9405940594059403E-2,{"$f":"IF('B1'!$E13=\"\",\"\",'B1'!$E13)","v":187},null,0.3085808580858086,{"$f":"IF('B1'!E14=\"\",\"\",'B1'!E14)","v":62},null,0.10231023102310231,{"$f":"IF('B1'!E15=\"\",\"\",'B1'!E15)","v":321},null,0.52970297029702973]
[null,"B2","-","Victor Hugo","E",null,{"$f":"IF('B2'!$E7=\"\",\"\",'B2'!$E7)","v":1167},null,{"$f":"IF('B2'!$E9=\"\",\"\",'B2'!$E9)","v":734},null,0.62896315338474718,{"$f":"IF('B2'!$E10=\"\",\"\",'B2'!$E10)","v":36},null,{"$f":"IF('B2'!$E11=\"\",\"\",'B2'!$E11)","v":698},null,{"$f":"IF('B2'!$E12=\"\",\"\",'B2'!$E12)","v":64},null,9.1690544412607447E-2,{"$f":"IF('B2'!$E13=\"\",\"\",'B2'!$E13)","v":201},null,0.28796561604584525,{"$f":"IF('B2'!E14=\"\",\"\",'B2'!E14)","v":70},null,0.10028653295128939,{"$f":"IF('B2'!E15=\"\",\"\",'B2'!E15)","v":363},null,0.52005730659025784]
[null,"M1","-","Saint-Exupéry","E",null,{"$f":"IF('M1'!$E7=\"\",\"\",'M1'!$E7)","v":1306},null,{"$f":"IF('M1'!$E9=\"\",\"\",'M1'!$E9)","v":656},null,0.50229709035222048,{"$f":"IF('M1'!$E10=\"\",\"\",'M1'!$E10)","v":29},null,{"$f":"IF('M1'!$E11=\"\",\"\",'M1'!$E11)","v":627},null,{"$f":"IF('M1'!$E12=\"\",\"\",'M1'!$E12)","v":52},null,8.2934609250398722E-2,{"$f":"IF('M1'!$E13=\"\",\"\",'M1'!$E13)","v":347},null,0.5534290271132376,{"$f":"IF('M1'!E14=\"\",\"\",'M1'!E14)","v":37},null,5.9011164274322167E-2,{"$f":"IF('M1'!E15=\"\",\"\",'M1'!E15)","v":191},null,0.30462519936204147]
[null,"N1","-","Jean Moulin","E",null,{"$f":"IF('N1'!$E7=\"\",\"\",'N1'!$E7)","v":1456},null,{"$f":"IF('N1'!$E9=\"\",\"\",'N1'!$E9)","v":833},null,0.57211538461538458,{"$f":"IF('N1'!$E10=\"\",\"\",'N1'!$E10)","v":47},null,{"$f":"IF('N1'!$E11=\"\",\"\",'N1'!$E11)","v":786},null,{"$f":"IF('N1'!$E12=\"\",\"\",'N1'!$E12)","v":101},null,0.12849872773536897,{"$f":"IF('N1'!$E13=\"\",\"\",'N1'!$E13)","v":221},null,0.28117048346055978,{"$f":"IF('N1'!E14=\"\",\"\",'N1'!E14)","v":84},null,0.10687022900763359,{"$f":"IF('N1'!E15=\"\",\"\",'N1'!E15)","v":380},null,0.48346055979643765]
[null,"N2","-","Cité des Associations","E",null,{"$f":"IF('N2'!$E7=\"\",\"\",'N2'!$E7)","v":904},null,{"$f":"IF('N2'!$E9=\"\",\"\",'N2'!$E9)","v":590},null,0.65265486725663713,{"$f":"IF('N2'!$E10=\"\",\"\",'N2'!$E10)","v":26},null,{"$f":"IF('N2'!$E11=\"\",\"\",'N2'!$E11)","v":564},null,{"$f":"IF('N2'!$E12=\"\",\"\",'N2'!$E12)","v":42},null,7.4468085106382975E-2,{"$f":"IF('N2'!$E13=\"\",\"\",'N2'!$E13)","v":211},null,0.37411347517730498,{"$f":"IF('N2'!E14=\"\",\"\",'N2'!E14)","v":66},null,0.11702127659574468,{"$f":"IF('N2'!E15=\"\",\"\",'N2'!E15)","v":245},null,0.43439716312056736]
[]
[null,"Total Canton EST",null,null,null,null,{"$f":"SUM(G$12:G$18)","v":7833},null,{"$f":"SUM(I12:I18)","v":4570},null,0.58342908208859956,{"$f":"SUM(L12:L18)","v":196},null,{"$f":"SUM(N12:N18)","v":4374},null,{"$f":"SUM(P12:P18)","v":352},null,{"$f":"IF(P20=0,\" \",P20/$N20)","v":8.0475537265660729E-2},{"$f":"SUM(S12:S18)","v":1486},null,{"$f":"IF(S20=0,\" \",S20/$N20)","v":0.33973479652492},{"$f":"SUM(V12:V18)","v":447},null,{"$f":"IF(V20=0,\" \",V20/$N20)","v":0.10219478737997256},{"$f":"SUM(Y12:Y18)","v":2089},null,{"$f":"IF(Y20=0,\" \",Y20/$N20)","v":0.47759487882944673}]
[]
[]
[null,"%  par rapport aux VOTANTS",null,null,null,null,null,null,null,null,null,{"$f":"IF(L20=0,\" \",L20/$I20)","v":4.2888402625820568E-2},null,{"$f":"IF(N20=0,\" \",N20/$I20)","v":0.95711159737417939}]
[null,"%  par rapport aux INSCRITS",null,null,null,null,null,null,null,null,null,{"$f":"IF(L20=\"\",\" \",L20/$G20)","v":2.5022341376228777E-2},null,{"$f":"IF(N20=\"\",\" \",N20/$G20)","v":0.55840674071237073},null,{"$f":"IF(P20=\"\",\" \",P20/$G20)","v":4.4938082471594538E-2},null,null,{"$f":"IF(S20=\"\",\" \",S20/$G20)","v":0.18971020043406103},null,null,{"$f":"IF(V20=\"\",\" \",V20/$G20)","v":5.7066258138644195E-2},null,null,{"$f":"IF(Y20=\"\",\" \",Y20/$G20)","v":0.26669219966807101}]

{"sheet":"CENTRE","index":29,"n_rows":23,"n_cols":27,"rows_kept":23,"cut":false,"hidden":false,"merged":[[9,24,9,25],[0,0,2,7],[9,21,9,22],[7,21,7,22],[8,21,8,22],[7,15,7,16],[8,15,8,16],[9,15,9,16],[7,18,7,19],[8,18,8,19],[9,18,9,19],[7,24,7,25],[8,24,8,25]]}
["CANTON  CENTRE"]
[]
[]
[]
[]
[]
[]
[null,null,null,null,null,null,null,null,null,null,null,null,null,null,null,{"$f":"Candidats!A2","v":"Marc"},null,null,{"$f":"Candidats!A3","v":"Étienne"},null,null,{"$f":"Candidats!A4","v":"Bastien"},null,null,{"$f":"Candidats!A5","v":"Damien"}]
[null,null,null,"BUREAUX",null,null,"Inscrits",null,"Votants",null,"Particip.","Nuls",null,"Exprimés",null,{"$f":"Candidats!B2","v":"ARCHAMBAULT"},null,"%",{"$f":"Candidats!B3","v":"BUTZBACH"},null,"%",{"$f":"Candidats!B4","v":"FAUDOT"},null,"%",{"$f":"Candidats!B5","v":"MESLOT"},null,"%"]
[]
[]
[null,"C1","-","Victor Schoelcher","C",null,{"$f":"IF('C1'!$E7=\"\",\"\",'C1'!$E7)","v":1209},null,{"$f":"IF('C1'!$E9=\"\",\"\",'C1'!$E9)","v":724},null,{"$f":"IF(I12=\"\",\" \",I12/$G12)","v":0.5988420181968569},{"$f":"IF('C1'!$E10=\"\",\"\",'C1'!$E10)","v":27},null,{"$f":"IF('C1'!$E11=\"\",\"\",'C1'!$E11)","v":697},null,{"$f":"IF('C1'!$E12=\"\",\"\",'C1'!$E12)","v":44},null,{"$f":"IF(P12=\"\",\" \",P12/$N12)","v":6.3127690100430414E-2},{"$f":"IF('C1'!$E13=\"\",\"\",'C1'!$E13)","v":210},null,{"$f":"IF(S12=\"\",\" \",S12/$N12)","v":0.30129124820659969},{"$f":"IF('C1'!E14=\"\",\"\",'C1'!E14)","v":70},null,{"$f":"IF(V12=\"\",\" \",V12/$N12)","v":0.10043041606886657},{"$f":"IF('C1'!E15=\"\",\"\",'C1'!E15)","v":373},null,{"$f":"IF(Y12=\"\",\" \",Y12/$N12)","v":0.5351506456241033}]
[null,"C2","-","Maison du Peuple","C",null,{"$f":"IF('C2'!$E7=\"\",\"\",'C2'!$E7)","v":762},null,{"$f":"IF('C2'!$E9=\"\",\"\",'C2'!$E9)","v":481},null,0.63123359580052496,{"$f":"IF('C2'!$E10=\"\",\"\",'C2'!$E10)","v":19},null,{"$f":"IF('C2'!$E11=\"\",\"\",'C2'!$E11)","v":462},null,{"$f":"IF('C2'!$E12=\"\",\"\",'C2'!$E12)","v":32},null,6.9264069264069264E-2,{"$f":"IF('C2'!$E13=\"\",\"\",'C2'!$E13)","v":126},null,0.27272727272727271,{"$f":"IF('C2'!E14=\"\",\"\",'C2'!E14)","v":42},null,9.0909090909090912E-2,{"$f":"IF('C2'!E15=\"\",\"\",'C2'!E15)","v":262},null,0.5670995670995671]
[null,"C3","-","Maison du Peuple","C",null,{"$f":"IF('C3'!$E7=\"\",\"\",'C3'!$E7)","v":921},null,{"$f":"IF('C3'!$E9=\"\",\"\",'C3'!$E9)","v":573},null,0.62214983713355054,{"$f":"IF('C3'!$E10=\"\",\"\",'C3'!$E10)","v":16},null,{"$f":"IF('C3'!$E11=\"\",\"\",'C3'!$E11)","v":557},null,{"$f":"IF('C3'!$E12=\"\",\"\",'C3'!$E12)","v":29},null,5.2064631956912029E-2,{"$f":"IF('C3'!$E13=\"\",\"\",'C3'!$E13)","v":154},null,0.27648114901256732,{"$f":"IF('C3'!E14=\"\",\"\",'C3'!E14)","v":41},null,7.3608617594254938E-2,{"$f":"IF('C3'!E15=\"\",\"\",'C3'!E15)","v":333},null,0.59784560143626575]
[null,"D1","-","Châteaudun","C",null,{"$f":"IF('D1'!$E7=\"\",\"\",'D1'!$E7)","v":1074},null,{"$f":"IF('D1'!$E9=\"\",\"\",'D1'!$E9)","v":638},null,0.5940409683426443,{"$f":"IF('D1'!$E10=\"\",\"\",'D1'!$E10)","v":27},null,{"$f":"IF('D1'!$E11=\"\",\"\",'D1'!$E11)","v":611},null,{"$f":"IF('D1'!$E12=\"\",\"\",'D1'!$E12)","v":53},null,8.6743044189852694E-2,{"$f":"IF('D1'!$E13=\"\",\"\",'D1'!$E13)","v":152},null,0.24877250409165302,{"$f":"IF('D1'!E14=\"\",\"\",'D1'!E14)","v":48},null,7.855973813420622E-2,{"$f":"IF('D1'!E15=\"\",\"\",'D1'!E15)","v":358},null,0.5859247135842881]
[null,"D2","-","Châteaudun","C",null,{"$f":"IF('D2'!$E7=\"\",\"\",'D2'!$E7)","v":838},null,{"$f":"IF('D2'!$E9=\"\",\"\",'D2'!$E9)","v":501},null,0.59785202863961817,{"$f":"IF('D2'!$E10=\"\",\"\",'D2'!$E10)","v":26},null,{"$f":"IF('D2'!$E11=\"\",\"\",'D2'!$E11)","v":475},null,{"$f":"IF('D2'!$E12=\"\",\"\",'D2'!$E12)","v":44},null,9.2631578947368426E-2,{"$f":"IF('D2'!$E13=\"\",\"\",'D2'!$E13)","v":112},null,0.23578947368421052,{"$f":"IF('D2'!E14=\"\",\"\",'D2'!E14)","v":52},null,0.10947368421052632,{"$f":"IF('D2'!E15=\"\",\"\",'D2'!E15)","v":267},null,0.56210526315789477]
[null,"D3","-","Châteaudun","C",null,{"$f":"IF('D3'!$E7=\"\",\"\",'D3'!$E7)","v":912},null,{"$f":"IF('D3'!$E9=\"\",\"\",'D3'!$E9)","v":559},null,0.61293859649122806,{"$f":"IF('D3'!$E10=\"\",\"\",'D3'!$E10)","v":30},null,{"$f":"IF('D3'!$E11=\"\",\"\",'D3'!$E11)","v":529},null,{"$f":"IF('D3'!$E12=\"\",\"\",'D3'!$E12)","v":74},null,0.13988657844990549,{"$f":"IF('D3'!$E13=\"\",\"\",'D3'!$E13)","v":129},null,0.24385633270321361,{"$f":"IF('D3'!E14=\"\",\"\",'D3'!E14)","v":47},null,8.8846880907372403E-2,{"$f":"IF('D3'!E15=\"\",\"\",'D3'!E15)","v":279},null,0.52741020793950855]
[]
[null,"Total Canton CENTRE",null,null,null,null,{"$f":"SUM(G$12:G$17)","v":5716},null,{"$f":"SUM(I12:I17)","v":3476},null,{"$f":"IF(I19=\"\",\" \",I19/$G19)","v":0.60811756473058087},{"$f":"SUM(L12:L17)","v":145},null,{"$f":"SUM(N12:N17)","v":3331},null,{"$f":"SUM(P12:P17)","v":276},null,{"$f":"IF(P19=0,\" \",P19/$N19)","v":8.2858000600420298E-2},{"$f":"SUM(S12:S17)","v":883},null,{"$f":"IF(S19=0,\" \",S19/$N19)","v":0.26508555989192434},{"$f":"SUM(V12:V17)","v":300},null,{"$f":"IF(V19=0,\" \",V19/$N19)","v":9.0063044130891626E-2},{"$f":"SUM(Y12:Y17)","v":1872},null,{"$f":"IF(Y19=0,\" \",Y19/$N19)","v":0.56199339537676374}]
[]
[]
[null,"%  par rapport aux VOTANTS",null,null,null,null,null,null,null,null,null,{"$f":"IF(L19=0,\" \",L19/$I19)","v":4.1714614499424624E-2},null,{"$f":"IF(N19=0,\" \",N19/$I19)","v":0.9582853855005754}]
[null,"%  par rapport aux INSCRITS",null,null,null,null,null,null,null,null,null,{"$f":"IF(L19=\"\",\" \",L19/$G19)","v":2.5367389783065082E-2},null,{"$f":"IF(N19=\"\",\" \",N19/$G19)","v":0.5827501749475158},null,{"$f":"IF(P19=\"\",\" \",P19/$G19)","v":4.8285514345696293E-2},null,null,{"$f":"IF(S19=\"\",\" \",S19/$G19)","v":0.15447865640307909},null,null,{"$f":"IF(V19=\"\",\" \",V19/$G19)","v":5.2484254723582924E-2},null,null,{"$f":"IF(Y19=\"\",\" \",Y19/$G19)","v":0.32750174947515748}]

{"sheet":"NORD","index":30,"n_rows":22,"n_cols":27,"rows_kept":22,"cut":false,"hidden":false,"merged":[[0,0,2,7],[7,21,7,22],[8,21,8,22],[7,24,7,25],[8,24,8,25],[9,24,9,25],[9,21,9,22],[7,15,7,16],[8,15,8,16],[9,15,9,16],[7,18,7,19],[8,18,8,19],[9,18,9,19]]}
["CANTON  NORD"]
[]
[]
[]
[]
[]
[]
[null,null,null,null,null,null,null,null,null,null,null,null,null,null,null,{"$f":"Candidats!A2","v":"Marc"},null,null,{"$f":"Candidats!A3","v":"Étienne"},null,null,{"$f":"Candidats!A4","v":"Bastien"},null,null,{"$f":"Candidats!A5","v":"Damien"}]
[null,null,null,"BUREAUX",null,null,"Inscrits",null,"Votants",null,"Particip.","Nuls",null,"Exprimés",null,{"$f":"Candidats!B2","v":"ARCHAMBAULT"},null,"%",{"$f":"Candidats!B3","v":"BUTZBACH"},null,"%",{"$f":"Candidats!B4","v":"FAUDOT"},null,"%",{"$f":"Candidats!B5","v":"MESLOT"},null,"%"]
[]
[]
[null,"E1","-","Raymond Aubert","N",null,{"$f":"IF('E1'!$E7=\"\",\"\",'E1'!$E7)","v":1178},null,{"$f":"IF('E1'!$E9=\"\",\"\",'E1'!$E9)","v":674},null,{"$f":"IF(I12=\"\",\" \",I12/$G12)","v":0.57215619694397279},{"$f":"IF('E1'!$E10=\"\",\"\",'E1'!$E10)","v":28},null,{"$f":"IF('E1'!$E11=\"\",\"\",'E1'!$E11)","v":646},null,{"$f":"IF('E1'!$E12=\"\",\"\",'E1'!$E12)","v":86},null,{"$f":"IF(P12=\"\",\" \",P12/$N12)","v":0.13312693498452013},{"$f":"IF('E1'!$E13=\"\",\"\",'E1'!$E13)","v":142},null,{"$f":"IF(S12=\"\",\" \",S12/$N12)","v":0.21981424148606812},{"$f":"IF('E1'!E14=\"\",\"\",'E1'!E14)","v":76},null,{"$f":"IF(V12=\"\",\" \",V12/$N12)","v":0.11764705882352941},{"$f":"IF('E1'!E15=\"\",\"\",'E1'!E15)","v":342},null,{"$f":"IF(Y12=\"\",\" \",Y12/$N12)","v":0.52941176470588236}]
[null,"E2","-","Raymond Aubert","N",null,{"$f":"IF('E2'!$E7=\"\",\"\",'E2'!$E7)","v":1212},null,{"$f":"IF('E2'!$E9=\"\",\"\",'E2'!$E9)","v":696},null,{"$f":"IF(I13=\"\",\" \",I13/$G13)","v":0.57425742574257421},{"$f":"IF('E2'!$E10=\"\",\"\",'E2'!$E10)","v":31},null,{"$f":"IF('E2'!$E11=\"\",\"\",'E2'!$E11)","v":665},null,{"$f":"IF('E2'!$E12=\"\",\"\",'E2'!$E12)","v":91},null,{"$f":"IF(P13=\"\",\" \",P13/$N13)","v":0.1368421052631579},{"$f":"IF('E2'!$E13=\"\",\"\",'E2'!$E13)","v":167},null,{"$f":"IF(S13=\"\",\" \",S13/$N13)","v":0.2511278195488722},{"$f":"IF('E2'!E14=\"\",\"\",'E2'!E14)","v":64},null,{"$f":"IF(V13=\"\",\" \",V13/$N13)","v":9.6240601503759404E-2},{"$f":"IF('E2'!E15=\"\",\"\",'E2'!E15)","v":343},null,{"$f":"IF(Y13=\"\",\" \",Y13/$N13)","v":0.51578947368421058}]
[null,"E3","-","Raymond Aubert","N",null,{"$f":"IF('E3'!$E7=\"\",\"\",'E3'!$E7)","v":1037},null,{"$f":"IF('E3'!$E9=\"\",\"\",'E3'!$E9)","v":600},null,{"$f":"IF(I14=\"\",\" \",I14/$G14)","v":0.57859209257473476},{"$f":"IF('E3'!$E10=\"\",\"\",'E3'!$E10)","v":30},null,{"$f":"IF('E3'!$E11=\"\",\"\",'E3'!$E11)","v":570},null,{"$f":"IF('E3'!$E12=\"\",\"\",'E3'!$E12)","v":76},null,{"$f":"IF(P14=\"\",\" \",P14/$N14)","v":0.13333333333333333},{"$f":"IF('E3'!$E13=\"\",\"\",'E3'!$E13)","v":174},null,{"$f":"IF(S14=\"\",\" \",S14/$N14)","v":0.30526315789473685},{"$f":"IF('E3'!E14=\"\",\"\",'E3'!E14)","v":64},null,{"$f":"IF(V14=\"\",\" \",V14/$N14)","v":0.11228070175438597},{"$f":"IF('E3'!E15=\"\",\"\",'E3'!E15)","v":256},null,{"$f":"IF(Y14=\"\",\" \",Y14/$N14)","v":0.44912280701754387}]
[null,"F1","-","Maison de l'enfant","N",null,{"$f":"IF('F1'!$E7=\"\",\"\",'F1'!$E7)","v":776},null,{"$f":"IF('F1'!$E9=\"\",\"\",'F1'!$E9)","v":476},null,{"$f":"IF(I15=\"\",\" \",I15/$G15)","v":0.61340206185567014},{"$f":"IF('F1'!$E10=\"\",\"\",'F1'!$E10)","v":30},null,{"$f":"IF('F1'!$E11=\"\",\"\",'F1'!$E11)","v":446},null,{"$f":"IF('F1'!$E12=\"\",\"\",'F1'!$E12)","v":52},null,{"$f":"IF(P15=\"\",\" \",P15/$N15)","v":0.11659192825112108},{"$f":"IF('F1'!$E13=\"\",\"\",'F1'!$E13)","v":144},null,{"$f":"IF(S15=\"\",\" \",S15/$N15)","v":0.32286995515695066},{"$f":"IF('F1'!E14=\"\",\"\",'F1'!E14)","v":44},null,{"$f":"IF(V15=\"\",\" \",V15/$N15)","v":9.8654708520179366E-2},{"$f":"IF('F1'!E15=\"\",\"\",'F1'!E15)","v":206},null,{"$f":"IF(Y15=\"\",\" \",Y15/$N15)","v":0.46188340807174888}]
[null,"F2","-","Émile Géhant","N",null,{"$f":"IF('F2'!$E7=\"\",\"\",'F2'!$E7)","v":521},null,{"$f":"IF('F2'!$E9=\"\",\"\",'F2'!$E9)","v":295},null,{"$f":"IF(I16=\"\",\" \",I16/$G16)","v":0.56621880998080609},{"$f":"IF('F2'!$E10=\"\",\"\",'F2'!$E10)","v":19},null,{"$f":"IF('F2'!$E11=\"\",\"\",'F2'!$E11)","v":276},null,{"$f":"IF('F2'!$E12=\"\",\"\",'F2'!$E12)","v":41},null,{"$f":"IF(P16=\"\",\" \",P16/$N16)","v":0.14855072463768115},{"$f":"IF('F2'!$E13=\"\",\"\",'F2'!$E13)","v":101},null,{"$f":"IF(S16=\"\",\" \",S16/$N16)","v":0.36594202898550726},{"$f":"IF('F2'!E14=\"\",\"\",'F2'!E14)","v":38},null,{"$f":"IF(V16=\"\",\" \",V16/$N16)","v":0.13768115942028986},{"$f":"IF('F2'!E15=\"\",\"\",'F2'!E15)","v":96},null,{"$f":"IF(Y16=\"\",\" \",Y16/$N16)","v":0.34782608695652173}]
[]
[null,"Total Canton NORD",null,null,null,null,{"$f":"SUM(G$12:G$16)","v":4724},null,{"$f":"SUM(I12:I16)","v":2741},null,{"$f":"IF(I18=\"\",\" \",I18/$G18)","v":0.58022861981371721},{"$f":"SUM(L12:L16)","v":138},null,{"$f":"SUM(N12:N16)","v":2603},null,{"$f":"SUM(P12:P16)","v":346},null,{"$f":"IF(P18=0,\" \",P18/$N18)","v":0.13292354975028814},{"$f":"SUM(S12:S16)","v":728},null,{"$f":"IF(S18=0,\" \",S18/$N18)","v":0.2796772954283519},{"$f":"SUM(V12:V16)","v":286},null,{"$f":"IF(V18=0,\" \",V18/$N18)","v":0.1098732232039954},{"$f":"SUM(Y12:Y16)","v":1243},null,{"$f":"IF(Y18=0,\" \",Y18/$N18)","v":0.47752593161736456}]
[]
[]
[null,"%  par rapport aux VOTANTS",null,null,null,null,null,null,null,null,null,{"$f":"IF(L18=0,\" \",L18/$I18)","v":5.034658883619117E-2},null,{"$f":"IF(N18=0,\" \",N18/$I18)","v":0.94965341116380886}]
[null,"%  par rapport aux INSCRITS",null,null,null,null,null,null,null,null,null,{"$f":"IF(L18=\"\",\" \",L18/$G18)","v":2.9212531752751906E-2},null,{"$f":"IF(N18=\"\",\" \",N18/$G18)","v":0.55101608806096525},null,{"$f":"IF(P18=\"\",\" \",P18/$G18)","v":7.3243014394580863E-2},null,null,{"$f":"IF(S18=\"\",\" \",S18/$G18)","v":0.15410668924640136},null,null,{"$f":"IF(V18=\"\",\" \",V18/$G18)","v":6.0541913632514821E-2},null,null,{"$f":"IF(Y18=\"\",\" \",Y18/$G18)","v":0.26312447078746826}]

{"sheet":"SUD","index":31,"n_rows":23,"n_cols":27,"rows_kept":23,"cut":false,"hidden":false,"merged":[[7,24,7,25],[8,24,8,25],[9,24,9,25],[0,0,2,7],[7,21,7,22],[8,21,8,22],[9,21,9,22],[7,15,7,16],[8,15,8,16],[9,15,9,16],[7,18,7,19],[8,18,8,19],[9,18,9,19]]}
["CANTON  SUD"]
[]
[]
[]
[]
[]
[]
[null,null,null,null,null,null,null,null,null,null,null,null,null,null,null,{"$f":"Candidats!A2","v":"Marc"},null,null,{"$f":"Candidats!A3","v":"Étienne"},null,null,{"$f":"Candidats!A4","v":"Bastien"},null,null,{"$f":"Candidats!A5","v":"Damien"}]
[null,null,null,"BUREAUX",null,null,"Inscrits",null,"Votants",null,"Particip.","Nuls",null,"Exprimés",null,{"$f":"Candidats!B2","v":"ARCHAMBAULT"},null,"%",{"$f":"Candidats!B3","v":"BUTZBACH"},null,"%",{"$f":"Candidats!B4","v":"FAUDOT"},null,"%",{"$f":"Candidats!B5","v":"MESLOT"},null,"%"]
[]
[]
[null,"G1","-","Hubert Metzger","S",null,{"$f":"IF('G1'!$E7=\"\",\"\",'G1'!$E7)","v":653},null,{"$f":"IF('G1'!$E9=\"\",\"\",'G1'!$E9)","v":416},null,{"$f":"IF(I12=\"\",\" \",I12/$G12)","v":0.6370597243491577},{"$f":"IF('G1'!$E10=\"\",\"\",'G1'!$E10)","v":25},null,{"$f":"IF('G1'!$E11=\"\",\"\",'G1'!$E11)","v":391},null,{"$f":"IF('G1'!$E12=\"\",\"\",'G1'!$E12)","v":50},null,{"$f":"IF(P12=\"\",\" \",P12/$N12)","v":0.12787723785166241},{"$f":"IF('G1'!$E13=\"\",\"\",'G1'!$E13)","v":144},null,{"$f":"IF(S12=\"\",\" \",S12/$N12)","v":0.36828644501278773},{"$f":"IF('G1'!E14=\"\",\"\",'G1'!E14)","v":48},null,{"$f":"IF(V12=\"\",\" \",V12/$N12)","v":0.12276214833759591},{"$f":"IF('G1'!E15=\"\",\"\",'G1'!E15)","v":149},null,{"$f":"IF(Y12=\"\",\" \",Y12/$N12)","v":0.38107416879795397}]
[null,"G2","-","Hubert Metzger","S",null,{"$f":"IF('G2'!$E7=\"\",\"\",'G2'!$E7)","v":754},null,{"$f":"IF('G2'!$E9=\"\",\"\",'G2'!$E9)","v":425},null,0.56366047745358094,{"$f":"IF('G2'!$E10=\"\",\"\",'G2'!$E10)","v":26},null,{"$f":"IF('G2'!$E11=\"\",\"\",'G2'!$E11)","v":399},null,{"$f":"IF('G2'!$E12=\"\",\"\",'G2'!$E12)","v":55},null,0.13784461152882205,{"$f":"IF('G2'!$E13=\"\",\"\",'G2'!$E13)","v":163},null,0.40852130325814534,{"$f":"IF('G2'!E14=\"\",\"\",'G2'!E14)","v":34},null,8.5213032581453629E-2,{"$f":"IF('G2'!E15=\"\",\"\",'G2'!E15)","v":147},null,0.36842105263157893]
[null,"H1","-","Léonard de Vinci","S",null,{"$f":"IF('H1'!$E7=\"\",\"\",'H1'!$E7)","v":1041},null,{"$f":"IF('H1'!$E9=\"\",\"\",'H1'!$E9)","v":584},null,0.56099903938520657,{"$f":"IF('H1'!$E10=\"\",\"\",'H1'!$E10)","v":25},null,{"$f":"IF('H1'!$E11=\"\",\"\",'H1'!$E11)","v":559},null,{"$f":"IF('H1'!$E12=\"\",\"\",'H1'!$E12)","v":65},null,0.11627906976744186,{"$f":"IF('H1'!$E13=\"\",\"\",'H1'!$E13)","v":190},null,0.33989266547406083,{"$f":"IF('H1'!E14=\"\",\"\",'H1'!E14)","v":54},null,9.6601073345259386E-2,{"$f":"IF('H1'!E15=\"\",\"\",'H1'!E15)","v":250},null,0.44722719141323791]
[null,"J1","-","René Rücklin","S",null,{"$f":"IF('J1'!$E7=\"\",\"\",'J1'!$E7)","v":597},null,{"$f":"IF('J1'!$E9=\"\",\"\",'J1'!$E9)","v":282},null,0.47236180904522612,{"$f":"IF('J1'!$E10=\"\",\"\",'J1'!$E10)","v":9},null,{"$f":"IF('J1'!$E11=\"\",\"\",'J1'!$E11)","v":273},null,{"$f":"IF('J1'!$E12=\"\",\"\",'J1'!$E12)","v":50},null,0.18315018315018314,{"$f":"IF('J1'!$E13=\"\",\"\",'J1'!$E13)","v":98},null,0.35897435897435898,{"$f":"IF('J1'!E14=\"\",\"\",'J1'!E14)","v":30},null,0.10989010989010989,{"$f":"IF('J1'!E15=\"\",\"\",'J1'!E15)","v":95},null,0.34798534798534797]
[null,"J2","-","René Rücklin","S",null,{"$f":"IF('J2'!$E7=\"\",\"\",'J2'!$E7)","v":818},null,{"$f":"IF('J2'!$E9=\"\",\"\",'J2'!$E9)","v":471},null,0.57579462102689483,{"$f":"IF('J2'!$E10=\"\",\"\",'J2'!$E10)","v":28},null,{"$f":"IF('J2'!$E11=\"\",\"\",'J2'!$E11)","v":443},null,{"$f":"IF('J2'!$E12=\"\",\"\",'J2'!$E12)","v":47},null,0.10609480812641084,{"$f":"IF('J2'!$E13=\"\",\"\",'J2'!$E13)","v":148},null,0.3340857787810384,{"$f":"IF('J2'!E14=\"\",\"\",'J2'!E14)","v":40},null,9.0293453724604969E-2,{"$f":"IF('J2'!E15=\"\",\"\",'J2'!E15)","v":208},null,0.46952595936794583]
[null,"J3","-","René Rücklin","S",null,{"$f":"IF('J3'!$E7=\"\",\"\",'J3'!$E7)","v":562},null,{"$f":"IF('J3'!$E9=\"\",\"\",'J3'!$E9)","v":297},null,0.52846975088967973,{"$f":"IF('J3'!$E10=\"\",\"\",'J3'!$E10)","v":22},null,{"$f":"IF('J3'!$E11=\"\",\"\",'J3'!$E11)","v":275},null,{"$f":"IF('J3'!$E12=\"\",\"\",'J3'!$E12)","v":30},null,0.10909090909090909,{"$f":"IF('J3'!$E13=\"\",\"\",'J3'!$E13)","v":116},null,0.42181818181818181,{"$f":"IF('J3'!E14=\"\",\"\",'J3'!E14)","v":33},null,0.12,{"$f":"IF('J3'!E15=\"\",\"\",'J3'!E15)","v":96},null,0.34909090909090912]
[]
[null,"Total Canton SUD",null,null,null,null,{"$f":"SUM(G$12:G$17)","v":4425},null,{"$f":"SUM(I12:I17)","v":2475},null,{"$f":"IF(I19=\"\",\" \",I19/$G19)","v":0.55932203389830504},{"$f":"SUM(L12:L17)","v":135},null,{"$f":"SUM(N12:N17)","v":2340},null,{"$f":"SUM(P12:P17)","v":297},null,{"$f":"IF(P19=0,\" \",P19/$N19)","v":0.12692307692307692},{"$f":"SUM(S12:S17)","v":859},null,{"$f":"IF(S19=0,\" \",S19/$N19)","v":0.36709401709401707},{"$f":"SUM(V12:V17)","v":239},null,{"$f":"IF(V19=0,\" \",V19/$N19)","v":0.10213675213675213},{"$f":"SUM(Y12:Y17)","v":945},null,{"$f":"IF(Y19=0,\" \",Y19/$N19)","v":0.40384615384615385}]
[]
[]
[null,"%  par rapport aux VOTANTS",null,null,null,null,null,null,null,null,null,{"$f":"IF(L19=0,\" \",L19/$I19)","v":5.4545454545454543E-2},null,{"$f":"IF(N19=0,\" \",N19/$I19)","v":0.94545454545454544}]
[null,"%  par rapport aux INSCRITS",null,null,null,null,null,null,null,null,null,{"$f":"IF(L19=\"\",\" \",L19/$G19)","v":3.0508474576271188E-2},null,{"$f":"IF(N19=\"\",\" \",N19/$G19)","v":0.52881355932203389},null,{"$f":"IF(P19=\"\",\" \",P19/$G19)","v":6.7118644067796607E-2},null,null,{"$f":"IF(S19=\"\",\" \",S19/$G19)","v":0.19412429378531074},null,null,{"$f":"IF(V19=\"\",\" \",V19/$G19)","v":5.4011299435028248E-2},null,null,{"$f":"IF(Y19=\"\",\" \",Y19/$G19)","v":0.2135593220338983}]

{"sheet":"OUEST","index":32,"n_rows":21,"n_cols":27,"rows_kept":21,"cut":false,"hidden":false,"merged":[[7,24,7,25],[8,24,8,25],[9,24,9,25],[0,0,2,7],[9,21,9,22],[8,21,8,22],[7,21,7,22],[7,15,7,16],[8,15,8,16],[9,15,9,16],[7,18,7,19],[8,18,8,19],[9,18,9,19]]}
["CANTON  OUEST"]
[]
[]
[]
[]
[]
[]
[null,null,null,null,null,null,null,null,null,null,null,null,null,null,null,{"$f":"Candidats!A2","v":"Marc"},null,null,{"$f":"Candidats!A3","v":"Étienne"},null,null,{"$f":"Candidats!A4","v":"Bastien"},null,null,{"$f":"Candidats!A5","v":"Damien"}]
[null,null,null,"BUREAUX",null,null,"Inscrits",null,"Votants",null,"Particip.","Nuls",null,"Exprimés",null,{"$f":"Candidats!B2","v":"ARCHAMBAULT"},null,"%",{"$f":"Candidats!B3","v":"BUTZBACH"},null,"%",{"$f":"Candidats!B4","v":"FAUDOT"},null,"%",{"$f":"Candidats!B5","v":"MESLOT"},null,"%"]
[]
[]
[null,"K1","-","Louis Pergaud","O",null,{"$f":"IF('K1'!$E7=\"\",\"\",'K1'!$E7)","v":958},null,{"$f":"IF('K1'!$E9=\"\",\"\",'K1'!$E9)","v":500},null,{"$f":"IF(I12=\"\",\" \",I12/$G12)","v":0.52192066805845516},{"$f":"IF('K1'!$E10=\"\",\"\",'K1'!$E10)","v":23},null,{"$f":"IF('K1'!$E11=\"\",\"\",'K1'!$E11)","v":477},null,{"$f":"IF('K1'!$E12=\"\",\"\",'K1'!$E12)","v":43},null,{"$f":"IF(P12=\"\",\" \",P12/$N12)","v":9.0146750524109018E-2},{"$f":"IF('K1'!$E13=\"\",\"\",'K1'!$E13)","v":208},null,{"$f":"IF(S12=\"\",\" \",S12/$N12)","v":0.4360587002096436},{"$f":"IF('K1'!E14=\"\",\"\",'K1'!E14)","v":37},null,{"$f":"IF(V12=\"\",\" \",V12/$N12)","v":7.7568134171907763E-2},{"$f":"IF('K1'!E15=\"\",\"\",'K1'!E15)","v":189},null,{"$f":"IF(Y12=\"\",\" \",Y12/$N12)","v":0.39622641509433965}]
[null,"K2","-","Louis Pergaud","O",null,{"$f":"IF('K2'!$E7=\"\",\"\",'K2'!$E7)","v":789},null,{"$f":"IF('K2'!$E9=\"\",\"\",'K2'!$E9)","v":444},null,{"$f":"IF(I13=\"\",\" \",I13/$G13)","v":0.56273764258555137},{"$f":"IF('K2'!$E10=\"\",\"\",'K2'!$E10)","v":14},null,{"$f":"IF('K2'!$E11=\"\",\"\",'K2'!$E11)","v":430},null,{"$f":"IF('K2'!$E12=\"\",\"\",'K2'!$E12)","v":47},null,{"$f":"IF(P13=\"\",\" \",P13/$N13)","v":0.10930232558139535},{"$f":"IF('K2'!$E13=\"\",\"\",'K2'!$E13)","v":185},null,{"$f":"IF(S13=\"\",\" \",S13/$N13)","v":0.43023255813953487},{"$f":"IF('K2'!E14=\"\",\"\",'K2'!E14)","v":24},null,{"$f":"IF(V13=\"\",\" \",V13/$N13)","v":5.5813953488372092E-2},{"$f":"IF('K2'!E15=\"\",\"\",'K2'!E15)","v":174},null,{"$f":"IF(Y13=\"\",\" \",Y13/$N13)","v":0.40465116279069768}]
[null,"L1","-","Les Barres - Maternelle","O",null,{"$f":"IF('L1'!$E7=\"\",\"\",'L1'!$E7)","v":1336},null,{"$f":"IF('L1'!$E9=\"\",\"\",'L1'!$E9)","v":759},null,{"$f":"IF(I14=\"\",\" \",I14/$G14)","v":0.56811377245508987},{"$f":"IF('L1'!$E10=\"\",\"\",'L1'!$E10)","v":27},null,{"$f":"IF('L1'!$E11=\"\",\"\",'L1'!$E11)","v":732},null,{"$f":"IF('L1'!$E12=\"\",\"\",'L1'!$E12)","v":97},null,{"$f":"IF(P14=\"\",\" \",P14/$N14)","v":0.1325136612021858},{"$f":"IF('L1'!$E13=\"\",\"\",'L1'!$E13)","v":218},null,{"$f":"IF(S14=\"\",\" \",S14/$N14)","v":0.29781420765027322},{"$f":"IF('L1'!E14=\"\",\"\",'L1'!E14)","v":116},null,{"$f":"IF(V14=\"\",\" \",V14/$N14)","v":0.15846994535519127},{"$f":"IF('L1'!E15=\"\",\"\",'L1'!E15)","v":301},null,{"$f":"IF(Y14=\"\",\" \",Y14/$N14)","v":0.41120218579234974}]
[null,"L2","-","Les Barres - Primaire","O",null,{"$f":"IF('L2'!$E7=\"\",\"\",'L2'!$E7)","v":1154},null,{"$f":"IF('L2'!$E9=\"\",\"\",'L2'!$E9)","v":727},null,{"$f":"IF(I15=\"\",\" \",I15/$G15)","v":0.62998266897746968},{"$f":"IF('L2'!$E10=\"\",\"\",'L2'!$E10)","v":40},null,{"$f":"IF('L2'!$E11=\"\",\"\",'L2'!$E11)","v":687},null,{"$f":"IF('L2'!$E12=\"\",\"\",'L2'!$E12)","v":104},null,{"$f":"IF(P15=\"\",\" \",P15/$N15)","v":0.15138282387190685},{"$f":"IF('L2'!$E13=\"\",\"\",'L2'!$E13)","v":219},null,{"$f":"IF(S15=\"\",\" \",S15/$N15)","v":0.31877729257641924},{"$f":"IF('L2'!E14=\"\",\"\",'L2'!E14)","v":81},null,{"$f":"IF(V15=\"\",\" \",V15/$N15)","v":0.11790393013100436},{"$f":"IF('L2'!E15=\"\",\"\",'L2'!E15)","v":283},null,{"$f":"IF(Y15=\"\",\" \",Y15/$N15)","v":0.41193595342066958}]
[]
[null,"Total Canton OUEST",null,null,null,null,{"$f":"SUM(G$12:G$15)","v":4237},null,{"$f":"SUM(I12:I15)","v":2430},null,{"$f":"IF(I17=\"\",\" \",I17/$G17)","v":0.57351899929195183},{"$f":"SUM(L12:L15)","v":104},null,{"$f":"SUM(N12:N15)","v":2326},null,{"$f":"SUM(P12:P15)","v":291},null,{"$f":"IF(P17=0,\" \",P17/$N17)","v":0.12510748065348237},{"$f":"SUM(S12:S15)","v":830},null,{"$f":"IF(S17=0,\" \",S17/$N17)","v":0.35683576956147894},{"$f":"SUM(V12:V15)","v":258},null,{"$f":"IF(V17=0,\" \",V17/$N17)","v":0.11092003439380911},{"$f":"SUM(Y12:Y15)","v":947},null,{"$f":"IF(Y17=0,\" \",Y17/$N17)","v":0.40713671539122959}]
[]
[]
[null,"%  par rapport aux VOTANTS",null,null,null,null,null,null,null,null,null,{"$f":"IF(L17=0,\" \",L17/$I17)","v":4.2798353909465021E-2},null,{"$f":"IF(N17=0,\" \",N17/$I17)","v":0.95720164609053493}]
[null,"%  par rapport aux INSCRITS",null,null,null,null,null,null,null,null,null,{"$f":"IF(L17=\"\",\" \",L17/$G17)","v":2.4545669105499174E-2},null,{"$f":"IF(N17=\"\",\" \",N17/$G17)","v":0.54897333018645267},null,{"$f":"IF(P17=\"\",\" \",P17/$G17)","v":6.868067028557942E-2},null,null,{"$f":"IF(S17=\"\",\" \",S17/$G17)","v":0.19589332074581073},null,null,{"$f":"IF(V17=\"\",\" \",V17/$G17)","v":6.089214066556526E-2},null,null,{"$f":"IF(Y17=\"\",\" \",Y17/$G17)","v":0.22350719848949729}]

{"sheet":"RESULTATS","index":33,"n_rows":50,"n_cols":32,"rows_kept":50,"cut":false,"hidden":false,"merged":[[43,1,43,3],[8,16,8,17],[8,18,8,19],[18,1,18,3],[25,1,25,3],[31,1,31,3],[38,1,38,3],[0,29,0,31],[7,29,7,30],[8,29,9,30],[1,0,1,3],[2,0,2,3],[7,20,7,21],[0,6,0,28],[8,20,9,21],[7,23,7,24],[8,23,9,24],[7,26,7,27],[8,26,9,27]]}
[null,null,null,null,null,null,"ÉLECTIONS MUNICIPALES",null,null,null,null,null,null,null,null,null,null,null,null,null,null,null,null,null,null,null,null,null,null,"2014-03-30"]
["RÉSULTATS"]
["du  2ème tour",null,null,null,null,null,null,null,null,null,null,null,null,null,null,null,{"$f":"COUNTIF($I$12:$I$18,\">0\")+COUNTIF($I$20:$I$25,\">0\")+COUNTIF($I$27:$I$31,\">0\")+COUNTIF($I$33:$I$38,\">0\")+COUNTIF($I$40:$I$43,\">0\")","v":28},null,"Bureaux sur",null,28]
[]
[null,null,null,null,null,null,null,null,null,null,null,null,null,null,null,null,{"$f":"SUMIF($I$12:$I$18,\">0\",$E$12:$E$18)+SUMIF($I$20:$I$25,\">0\",$E$20:$E$25)+SUMIF($I$27:$I$31,\">0\",$E$27:$E$31)+SUMIF($I$33:$I$38,\">0\",$E$33:$E$38)+SUMIF($I$40:$I$43,\">0\",$E$40:$E$43)","v":26935},null,"Inscrits sur",null,{"$f":"$E$47","v":26935},"soit",":",{"$f":"Q5/U5","v":1}]
[]
[]
[null,null,null,null,null,null,null,null,null,null,null,null,null,null,null,null,null,null,"%  /",null,{"$f":"Candidats!A2","v":"Marc"},null,null,{"$f":"Candidats!A3","v":"Étienne"},null,null,{"$f":"Candidats!A4","v":"Bastien"},null,null,{"$f":"Candidats!A5","v":"Damien"}]
[null,null,null,"BUREAUX","Inscrits",null,"Émargements",null,"Votants",null,"Abstentions",null,"Participation",null,"Nuls",null,"Exprimés",null,"Inscrits",null,{"$f":"Candidats!B2","v":"ARCHAMBAULT"},null,"%",{"$f":"Candidats!B3","v":"BUTZBACH"},null,"%",{"$f":"Candidats!B4","v":"FAUDOT"},null,"%",{"$f":"Candidats!B5","v":"MESLOT"},null,"%"]
[]
[]
[null,"A1  -   Hôtel de Ville",null,null,{"$f":"IF('A1'!$E7=\"\",\"\",'A1'!$E7)","v":949},null,{"$f":"IF('A1'!$E8=\"\",\"\",'A1'!$E8)","v":516},null,{"$f":"IF('A1'!$E9=\"\",\"\",'A1'!$E9)","v":516},null,{"$f":"IF(G12<>\"\",E12-I12,\"\")","v":433},null,{"$f":"IF(I12=\"\",\" \",I12/$E12)","v":0.54373024236037937},null,{"$f":"IF('A1'!$E10=\"\",\"\",'A1'!$E10)","v":11},null,{"$f":"IF('A1'!$E11=\"\",\"\",'A1'!$E11)","v":505},null,{"$f":"IF(Q12=\"\",\"\",Q12/$E12)","v":0.53213909378292945},null,{"$f":"IF('A1'!$E12=\"\",\"\",'A1'!$E12)","v":22},null,{"$f":"IF(U12=\"\",\"\",U12/$Q12)","v":4.3564356435643561E-2},{"$f":"IF('A1'!$E13=\"\",\"\",'A1'!$E13)","v":172},null,{"$f":"IF(X12=\"\",\"\",X12/$Q12)","v":0.34059405940594062},{"$f":"IF('A1'!$E14=\"\",\"\",'A1'!$E14)","v":59},null,{"$f":"IF(AA12=\"\",\"\",AA12/$Q12)","v":0.11683168316831684},{"$f":"IF('A1'!$E15=\"\",\"\",'A1'!$E15)","v":252},null,{"$f":"IF(AD12=\"\",\"\",AD12/$Q12)","v":0.49900990099009901}]
[null,"A2  -  Salle des fêtes",null,null,{"$f":"IF('A2'!$E7=\"\",\"\",'A2'!$E7)","v":955},null,{"$f":"IF('A2'!$E8=\"\",\"\",'A2'!$E8)","v":619},null,{"$f":"IF('A2'!$E9=\"\",\"\",'A2'!$E9)","v":619},null,{"$f":"IF(G13<>\"\",E13-I13,\"\")","v":336},null,{"$f":"IF(I13=\"\",\" \",I13/$E13)","v":0.64816753926701576},null,{"$f":"IF('A2'!$E10=\"\",\"\",'A2'!$E10)","v":31},null,{"$f":"IF('A2'!$E11=\"\",\"\",'A2'!$E11)","v":588},null,{"$f":"IF(Q13=\"\",\"\",Q13/$E13)","v":0.61570680628272256},null,{"$f":"IF('A2'!$E12=\"\",\"\",'A2'!$E12)","v":35},null,5.9523809523809521E-2,{"$f":"IF('A2'!$E13=\"\",\"\",'A2'!$E13)","v":147},null,0.25,{"$f":"IF('A2'!E14=\"\",\"\",'A2'!E14)","v":69},null,0.11734693877551021,{"$f":"IF('A2'!E15=\"\",\"\",'A2'!E15)","v":337},null,0.5731292517006803]
[null,"B1  -  Victor Hugo",null,null,{"$f":"IF('B1'!$E7=\"\",\"\",'B1'!$E7)","v":1096},null,{"$f":"IF('B1'!$E8=\"\",\"\",'B1'!$E8)","v":622},null,{"$f":"IF('B1'!$E9=\"\",\"\",'B1'!$E9)","v":622},null,474,null,0.56751824817518248,null,{"$f":"IF('B1'!$E10=\"\",\"\",'B1'!$E10)","v":16},null,{"$f":"IF('B1'!$E11=\"\",\"\",'B1'!$E11)","v":606},null,{"$f":"IF(Q14=\"\",\" \",Q14/$E14)","v":0.5529197080291971},null,{"$f":"IF('B1'!$E12=\"\",\"\",'B1'!$E12)","v":36},null,5.9405940594059403E-2,{"$f":"IF('B1'!$E13=\"\",\"\",'B1'!$E13)","v":187},null,0.3085808580858086,{"$f":"IF('B1'!E14=\"\",\"\",'B1'!E14)","v":62},null,0.10231023102310231,{"$f":"IF('B1'!E15=\"\",\"\",'B1'!E15)","v":321},null,0.52970297029702973]
[null,"B2  -  Victor Hugo",null,null,{"$f":"IF('B2'!$E7=\"\",\"\",'B2'!$E7)","v":1167},null,{"$f":"IF('B2'!$E8=\"\",\"\",'B2'!$E8)","v":734},null,{"$f":"IF('B2'!$E9=\"\",\"\",'B2'!$E9)","v":734},null,433,null,0.62896315338474718,null,{"$f":"IF('B2'!$E10=\"\",\"\",'B2'!$E10)","v":36},null,{"$f":"IF('B2'!$E11=\"\",\"\",'B2'!$E11)","v":698},null,0.59811482433590402,null,{"$f":"IF('B2'!$E12=\"\",\"\",'B2'!$E12)","v":64},null,9.1690544412607447E-2,{"$f":"IF('B2'!$E13=\"\",\"\",'B2'!$E13)","v":201},null,0.28796561604584525,{"$f":"IF('B2'!E14=\"\",\"\",'B2'!E14)","v":70},null,0.10028653295128939,{"$f":"IF('B2'!E15=\"\",\"\",'B2'!E15)","v":363},null,0.52005730659025784]
[null,"M1  -  Saint-Exupéry",null,null,{"$f":"IF('M1'!$E7=\"\",\"\",'M1'!$E7)","v":1306},null,{"$f":"IF('M1'!$E8=\"\",\"\",'M1'!$E8)","v":656},null,{"$f":"IF('M1'!$E9=\"\",\"\",'M1'!$E9)","v":656},null,650,null,0.50229709035222048,null,{"$f":"IF('M1'!$E10=\"\",\"\",'M1'!$E10)","v":29},null,{"$f":"IF('M1'!$E11=\"\",\"\",'M1'!$E11)","v":627},null,0.48009188361408883,null,{"$f":"IF('M1'!$E12=\"\",\"\",'M1'!$E12)","v":52},null,8.2934609250398722E-2,{"$f":"IF('M1'!$E13=\"\",\"\",'M1'!$E13)","v":347},null,0.5534290271132376,{"$f":"IF('M1'!E14=\"\",\"\",'M1'!E14)","v":37},null,5.9011164274322167E-2,{"$f":"IF('M1'!E15=\"\",\"\",'M1'!E15)","v":191},null,0.30462519936204147]
[null,"N1  -  Jean Moulin",null,null,{"$f":"IF('N1'!$E7=\"\",\"\",'N1'!$E7)","v":1456},null,{"$f":"IF('N1'!$E8=\"\",\"\",'N1'!$E8)","v":833},null,{"$f":"IF('N1'!$E9=\"\",\"\",'N1'!$E9)","v":833},null,623,null,0.57211538461538458,null,{"$f":"IF('N1'!$E10=\"\",\"\",'N1'!$E10)","v":47},null,{"$f":"IF('N1'!$E11=\"\",\"\",'N1'!$E11)","v":786},null,0.5398351648351648,null,{"$f":"IF('N1'!$E12=\"\",\"\",'N1'!$E12)","v":101},null,0.12849872773536897,{"$f":"IF('N1'!$E13=\"\",\"\",'N1'!$E13)","v":221},null,0.28117048346055978,{"$f":"IF('N1'!E14=\"\",\"\",'N1'!E14)","v":84},null,0.10687022900763359,{"$f":"IF('N1'!E15=\"\",\"\",'N1'!E15)","v":380},null,0.48346055979643765]
[null,"N2  -  Cité des Associations",null,null,{"$f":"IF('N2'!$E7=\"\",\"\",'N2'!$E7)","v":904},null,{"$f":"IF('N2'!$E8=\"\",\"\",'N2'!$E8)","v":590},null,{"$f":"IF('N2'!$E9=\"\",\"\",'N2'!$E9)","v":590},null,314,null,0.65265486725663713,null,{"$f":"IF('N2'!$E10=\"\",\"\",'N2'!$E10)","v":26},null,{"$f":"IF('N2'!$E11=\"\",\"\",'N2'!$E11)","v":564},null,0.62389380530973448,null,{"$f":"IF('N2'!$E12=\"\",\"\",'N2'!$E12)","v":42},null,7.4468085106382975E-2,{"$f":"IF('N2'!$E13=\"\",\"\",'N2'!$E13)","v":211},null,0.37411347517730498,{"$f":"IF('N2'!E14=\"\",\"\",'N2'!E14)","v":66},null,0.11702127659574468,{"$f":"IF('N2'!E15=\"\",\"\",'N2'!E15)","v":245},null,0.43439716312056736]
[null,"Canton EST",null,null,{"$f":"SUM(E$12:E$18)","v":7833},null,{"$f":"SUM(G12:G18)","v":4570},null,{"$f":"SUM(I12:I18)","v":4570},null,{"$f":"SUM(K12:K18)","v":3263},null,0.58342908208859956,null,{"$f":"SUM(O12:O18)","v":196},null,{"$f":"SUM(Q12:Q18)","v":4374},null,0.55840674071237073,null,{"$f":"SUM(U12:U18)","v":352},null,{"$f":"IF(U19=0,\"\",U19/$Q19)","v":8.0475537265660729E-2},{"$f":"SUM(X12:X18)","v":1486},null,{"$f":"IF(X19=0,\"\",X19/$Q19)","v":0.33973479652492},{"$f":"SUM(AA12:AA18)","v":447},null,{"$f":"IF(AA19=0,\"\",AA19/$Q19)","v":0.10219478737997256},{"$f":"SUM(AD12:AD18)","v":2089},null,{"$f":"IF(AD19=0,\"\",AD19/$Q19)","v":0.47759487882944673}]
[null,"C1  -  Schoelcher",null,null,{"$f":"IF('C1'!$E7=\"\",\"\",'C1'!$E7)","v":1209},null,{"$f":"IF('C1'!$E8=\"\",\"\",'C1'!$E8)","v":724},null,{"$f":"IF('C1'!$E9=\"\",\"\",'C1'!$E9)","v":724},null,485,null,0.5988420181968569,null,{"$f":"IF('C1'!$E10=\"\",\"\",'C1'!$E10)","v":27},null,{"$f":"IF('C1'!$E11=\"\",\"\",'C1'!$E11)","v":697},null,0.57650951199338296,null,{"$f":"IF('C1'!$E12=\"\",\"\",'C1'!$E12)","v":44},null,{"$f":"IF(U20=\"\",\"\",U20/$Q20)","v":6.3127690100430414E-2},{"$f":"IF('C1'!$E13=\"\",\"\",'C1'!$E13)","v":210},null,{"$f":"IF(X20=\"\",\"\",X20/$Q20)","v":0.30129124820659969},{"$f":"IF('C1'!E14=\"\",\"\",'C1'!E14)","v":70},null,{"$f":"IF(AA20=\"\",\"\",AA20/$Q20)","v":0.10043041606886657},{"$f":"IF('C1'!E15=\"\",\"\",'C1'!E15)","v":373},null,{"$f":"IF(AD20=\"\",\"\",AD20/$Q20)","v":0.5351506456241033}]
[null,"C2  -  Maison du Peuple",null,null,{"$f":"IF('C2'!$E7=\"\",\"\",'C2'!$E7)","v":762},null,{"$f":"IF('C2'!$E8=\"\",\"\",'C2'!$E8)","v":481},null,{"$f":"IF('C2'!$E9=\"\",\"\",'C2'!$E9)","v":481},null,281,null,0.63123359580052496,null,{"$f":"IF('C2'!$E10=\"\",\"\",'C2'!$E10)","v":19},null,{"$f":"IF('C2'!$E11=\"\",\"\",'C2'!$E11)","v":462},null,0.60629921259842523,null,{"$f":"IF('C2'!$E12=\"\",\"\",'C2'!$E12)","v":32},null,6.9264069264069264E-2,{"$f":"IF('C2'!$E13=\"\",\"\",'C2'!$E13)","v":126},null,0.27272727272727271,{"$f":"IF('C2'!E14=\"\",\"\",'C2'!E14)","v":42},null,9.0909090909090912E-2,{"$f":"IF('C2'!E15=\"\",\"\",'C2'!E15)","v":262},null,0.5670995670995671]
[null,"C3  -  Maison du Peuple",null,null,{"$f":"IF('C3'!$E7=\"\",\"\",'C3'!$E7)","v":921},null,{"$f":"IF('C3'!$E8=\"\",\"\",'C3'!$E8)","v":573},null,{"$f":"IF('C3'!$E9=\"\",\"\",'C3'!$E9)","v":573},null,348,null,0.62214983713355054,null,{"$f":"IF('C3'!$E10=\"\",\"\",'C3'!$E10)","v":16},null,{"$f":"IF('C3'!$E11=\"\",\"\",'C3'!$E11)","v":557},null,0.60477741585233447,null,{"$f":"IF('C3'!$E12=\"\",\"\",'C3'!$E12)","v":29},null,5.2064631956912029E-2,{"$f":"IF('C3'!$E13=\"\",\"\",'C3'!$E13)","v":154},null,0.27648114901256732,{"$f":"IF('C3'!E14=\"\",\"\",'C3'!E14)","v":41},null,7.3608617594254938E-2,{"$f":"IF('C3'!E15=\"\",\"\",'C3'!E15)","v":333},null,0.59784560143626575]
[null,"D1  -  Châteaudun",null,null,{"$f":"IF('D1'!$E7=\"\",\"\",'D1'!$E7)","v":1074},null,{"$f":"IF('D1'!$E8=\"\",\"\",'D1'!$E8)","v":638},null,{"$f":"IF('D1'!$E9=\"\",\"\",'D1'!$E9)","v":638},null,436,null,0.5940409683426443,null,{"$f":"IF('D1'!$E10=\"\",\"\",'D1'!$E10)","v":27},null,{"$f":"IF('D1'!$E11=\"\",\"\",'D1'!$E11)","v":611},null,0.56890130353817503,null,{"$f":"IF('D1'!$E12=\"\",\"\",'D1'!$E12)","v":53},null,8.6743044189852694E-2,{"$f":"IF('D1'!$E13=\"\",\"\",'D1'!$E13)","v":152},null,0.24877250409165302,{"$f":"IF('D1'!E14=\"\",\"\",'D1'!E14)","v":48},null,7.855973813420622E-2,{"$f":"IF('D1'!E15=\"\",\"\",'D1'!E15)","v":358},null,0.5859247135842881]
[null,"D2  -  Châteaudun",null,null,{"$f":"IF('D2'!$E7=\"\",\"\",'D2'!$E7)","v":838},null,{"$f":"IF('D2'!$E8=\"\",\"\",'D2'!$E8)","v":501},null,{"$f":"IF('D2'!$E9=\"\",\"\",'D2'!$E9)","v":501},null,337,null,0.59785202863961817,null,{"$f":"IF('D2'!$E10=\"\",\"\",'D2'!$E10)","v":26},null,{"$f":"IF('D2'!$E11=\"\",\"\",'D2'!$E11)","v":475},null,0.56682577565632464,null,{"$f":"IF('D2'!$E12=\"\",\"\",'D2'!$E12)","v":44},null,9.2631578947368426E-2,{"$f":"IF('D2'!$E13=\"\",\"\",'D2'!$E13)","v":112},null,0.23578947368421052,{"$f":"IF('D2'!E14=\"\",\"\",'D2'!E14)","v":52},null,0.10947368421052632,{"$f":"IF('D2'!E15=\"\",\"\",'D2'!E15)","v":267},null,0.56210526315789477]
[null,"D3  -  Châteaudun",null,null,{"$f":"IF('D3'!$E7=\"\",\"\",'D3'!$E7)","v":912},null,{"$f":"IF('D3'!$E8=\"\",\"\",'D3'!$E8)","v":559},null,{"$f":"IF('D3'!$E9=\"\",\"\",'D3'!$E9)","v":559},null,353,null,0.61293859649122806,null,{"$f":"IF('D3'!$E10=\"\",\"\",'D3'!$E10)","v":30},null,{"$f":"IF('D3'!$E11=\"\",\"\",'D3'!$E11)","v":529},null,0.58004385964912286,null,{"$f":"IF('D3'!$E12=\"\",\"\",'D3'!$E12)","v":74},null,0.13988657844990549,{"$f":"IF('D3'!$E13=\"\",\"\",'D3'!$E13)","v":129},null,0.24385633270321361,{"$f":"IF('D3'!E14=\"\",\"\",'D3'!E14)","v":47},null,8.8846880907372403E-2,{"$f":"IF('D3'!E15=\"\",\"\",'D3'!E15)","v":279},null,0.52741020793950855]
[null,"Canton CENTRE",null,null,{"$f":"SUM(E$20:E$25)","v":5716},null,{"$f":"SUM(G20:G25)","v":3476},null,{"$f":"SUM(I20:I25)","v":3476},null,{"$f":"SUM(K20:K25)","v":2240},null,0.60811756473058087,null,{"$f":"SUM(O20:O25)","v":145},null,{"$f":"SUM(Q20:Q25)","v":3331},null,0.5827501749475158,null,{"$f":"SUM(U20:U25)","v":276},null,{"$f":"IF(U26=0,\"\",U26/$Q26)","v":8.2858000600420298E-2},{"$f":"SUM(X20:X25)","v":883},null,{"$f":"IF(X26=0,\"\",X26/$Q26)","v":0.26508555989192434},{"$f":"SUM(AA20:AA25)","v":300},null,{"$f":"IF(AA26=0,\"\",AA26/$Q26)","v":9.0063044130891626E-2},{"$f":"SUM(AD20:AD25)","v":1872},null,{"$f":"IF(AD26=0,\"\",AD26/$Q26)","v":0.56199339537676374}]
[null,"E1  -  Raymond Aubert",null,null,{"$f":"IF('E1'!E$7=\"\",\"\",'E1'!E$7)","v":1178},null,{"$f":"IF('E1'!$E8=\"\",\"\",'E1'!$E8)","v":674},null,{"$f":"IF('E1'!$E9=\"\",\"\",'E1'!$E9)","v":674},null,504,null,0.57215619694397279,null,{"$f":"IF('E1'!$E10=\"\",\"\",'E1'!$E10)","v":28},null,{"$f":"IF('E1'!$E11=\"\",\"\",'E1'!$E11)","v":646},null,0.54838709677419351,null,{"$f":"IF('E1'!$E12=\"\",\"\",'E1'!$E12)","v":86},null,{"$f":"IF(U27=\"\",\"\",U27/$Q27)","v":0.13312693498452013},{"$f":"IF('E1'!$E13=\"\",\"\",'E1'!$E13)","v":142},null,{"$f":"IF(X27=\"\",\"\",X27/$Q27)","v":0.21981424148606812},{"$f":"IF('E1'!E14=\"\",\"\",'E1'!E14)","v":76},null,{"$f":"IF(AA27=\"\",\"\",AA27/$Q27)","v":0.11764705882352941},{"$f":"IF('E1'!E15=\"\",\"\",'E1'!E15)","v":342},null,{"$f":"IF(AD27=\"\",\"\",AD27/$Q27)","v":0.52941176470588236}]
[null,"E2  -  Raymond Aubert",null,null,{"$f":"IF('E2'!$E7=\"\",\"\",'E2'!$E7)","v":1212},null,{"$f":"IF('E2'!$E8=\"\",\"\",'E2'!$E8)","v":696},null,{"$f":"IF('E2'!$E9=\"\",\"\",'E2'!$E9)","v":696},null,516,null,0.57425742574257421,null,{"$f":"IF('E2'!$E10=\"\",\"\",'E2'!$E10)","v":31},null,{"$f":"IF('E2'!$E11=\"\",\"\",'E2'!$E11)","v":665},null,0.54867986798679869,null,{"$f":"IF('E2'!$E12=\"\",\"\",'E2'!$E12)","v":91},null,{"$f":"IF(U28=\"\",\"\",U28/$Q28)","v":0.1368421052631579},{"$f":"IF('E2'!$E13=\"\",\"\",'E2'!$E13)","v":167},null,{"$f":"IF(X28=\"\",\"\",X28/$Q28)","v":0.2511278195488722},{"$f":"IF('E2'!E14=\"\",\"\",'E2'!E14)","v":64},null,{"$f":"IF(AA28=\"\",\"\",AA28/$Q28)","v":9.6240601503759404E-2},{"$f":"IF('E2'!E15=\"\",\"\",'E2'!E15)","v":343},null,{"$f":"IF(AD28=\"\",\"\",AD28/$Q28)","v":0.51578947368421058}]
[null,"E3  -  Raymond Aubert",null,null,{"$f":"IF('E3'!$E7=\"\",\"\",'E3'!$E7)","v":1037},null,{"$f":"IF('E3'!$E8=\"\",\"\",'E3'!$E8)","v":598},null,{"$f":"IF('E3'!$E9=\"\",\"\",'E3'!$E9)","v":600},null,437,null,0.57859209257473476,null,{"$f":"IF('E3'!$E10=\"\",\"\",'E3'!$E10)","v":30},null,{"$f":"IF('E3'!$E11=\"\",\"\",'E3'!$E11)","v":570},null,0.54966248794599804,null,{"$f":"IF('E3'!$E12=\"\",\"\",'E3'!$E12)","v":76},null,{"$f":"IF(U29=\"\",\"\",U29/$Q29)","v":0.13333333333333333},{"$f":"IF('E3'!$E13=\"\",\"\",'E3'!$E13)","v":174},null,{"$f":"IF(X29=\"\",\"\",X29/$Q29)","v":0.30526315789473685},{"$f":"IF('E3'!E14=\"\",\"\",'E3'!E14)","v":64},null,{"$f":"IF(AA29=\"\",\"\",AA29/$Q29)","v":0.11228070175438597},{"$f":"IF('E3'!E15=\"\",\"\",'E3'!E15)","v":256},null,{"$f":"IF(AD29=\"\",\"\",AD29/$Q29)","v":0.44912280701754387}]
[null,"F1  -  Maison de l'enfant",null,null,{"$f":"IF('F1'!$E7=\"\",\"\",'F1'!$E7)","v":776},null,{"$f":"IF('F1'!$E8=\"\",\"\",'F1'!$E8)","v":476},null,{"$f":"IF('F1'!$E9=\"\",\"\",'F1'!$E9)","v":476},null,300,null,0.61340206185567014,null,{"$f":"IF('F1'!$E10=\"\",\"\",'F1'!$E10)","v":30},null,{"$f":"IF('F1'!$E11=\"\",\"\",'F1'!$E11)","v":446},null,0.57474226804123707,null,{"$f":"IF('F1'!$E12=\"\",\"\",'F1'!$E12)","v":52},null,{"$f":"IF(U30=\"\",\"\",U30/$Q30)","v":0.11659192825112108},{"$f":"IF('F1'!$E13=\"\",\"\",'F1'!$E13)","v":144},null,{"$f":"IF(X30=\"\",\"\",X30/$Q30)","v":0.32286995515695066},{"$f":"IF('F1'!E14=\"\",\"\",'F1'!E14)","v":44},null,{"$f":"IF(AA30=\"\",\"\",AA30/$Q30)","v":9.8654708520179366E-2},{"$f":"IF('F1'!E15=\"\",\"\",'F1'!E15)","v":206},null,{"$f":"IF(AD30=\"\",\"\",AD30/$Q30)","v":0.46188340807174888}]
[null,"F2  -  Émile Géhant",null,null,{"$f":"IF('F2'!$E7=\"\",\"\",'F2'!$E7)","v":521},null,{"$f":"IF('F2'!$E8=\"\",\"\",'F2'!$E8)","v":295},null,{"$f":"IF('F2'!$E9=\"\",\"\",'F2'!$E9)","v":295},null,226,null,0.56621880998080609,null,{"$f":"IF('F2'!$E10=\"\",\"\",'F2'!$E10)","v":19},null,{"$f":"IF('F2'!$E11=\"\",\"\",'F2'!$E11)","v":276},null,0.52975047984644918,null,{"$f":"IF('F2'!$E12=\"\",\"\",'F2'!$E12)","v":41},null,{"$f":"IF(U31=\"\",\"\",U31/$Q31)","v":0.14855072463768115},{"$f":"IF('F2'!$E13=\"\",\"\",'F2'!$E13)","v":101},null,{"$f":"IF(X31=\"\",\"\",X31/$Q31)","v":0.36594202898550726},{"$f":"IF('F2'!E14=\"\",\"\",'F2'!E14)","v":38},null,{"$f":"IF(AA31=\"\",\"\",AA31/$Q31)","v":0.13768115942028986},{"$f":"IF('F2'!E15=\"\",\"\",'F2'!E15)","v":96},null,{"$f":"IF(AD31=\"\",\"\",AD31/$Q31)","v":0.34782608695652173}]
[null,"Canton NORD",null,null,{"$f":"SUM(E$27:E$31)","v":4724},null,{"$f":"SUM(G27:G31)","v":2739},null,{"$f":"SUM(I27:I31)","v":2741},null,{"$f":"SUM(K27:K31)","v":1983},null,0.58022861981371721,null,{"$f":"SUM(O27:O31)","v":138},null,{"$f":"SUM(Q27:Q31)","v":2603},null,0.55101608806096525,null,{"$f":"SUM(U27:U31)","v":346},null,{"$f":"IF(U32=0,\"\",U32/$Q32)","v":0.13292354975028814},{"$f":"SUM(X27:X31)","v":728},null,{"$f":"IF(X32=0,\"\",X32/$Q32)","v":0.2796772954283519},{"$f":"SUM(AA27:AA31)","v":286},null,{"$f":"IF(AA32=0,\"\",AA32/$Q32)","v":0.1098732232039954},{"$f":"SUM(AD27:AD31)","v":1243},null,{"$f":"IF(AD32=0,\"\",AD32/$Q32)","v":0.47752593161736456}]
[null,"G1  -  Hubert Metzger",null,null,{"$f":"IF('G1'!$E7=\"\",\"\",'G1'!$E7)","v":653},null,{"$f":"IF('G1'!$E8=\"\",\"\",'G1'!$E8)","v":416},null,{"$f":"IF('G1'!$E9=\"\",\"\",'G1'!$E9)","v":416},null,237,null,0.6370597243491577,null,{"$f":"IF('G1'!$E10=\"\",\"\",'G1'!$E10)","v":25},null,{"$f":"IF('G1'!$E11=\"\",\"\",'G1'!$E11)","v":391},null,0.59877488514548238,null,{"$f":"IF('G1'!$E12=\"\",\"\",'G1'!$E12)","v":50},null,{"$f":"IF(U33=\"\",\"\",U33/$Q33)","v":0.12787723785166241},{"$f":"IF('G1'!$E13=\"\",\"\",'G1'!$E13)","v":144},null,{"$f":"IF(X33=\"\",\"\",X33/$Q33)","v":0.36828644501278773},{"$f":"IF('G1'!E14=\"\",\"\",'G1'!E14)","v":48},null,{"$f":"IF(AA33=\"\",\"\",AA33/$Q33)","v":0.12276214833759591},{"$f":"IF('G1'!E15=\"\",\"\",'G1'!E15)","v":149},null,{"$f":"IF(AD33=\"\",\"\",AD33/$Q33)","v":0.38107416879795397}]
[null,"G2  -  Hubert Metzger",null,null,{"$f":"IF('G2'!$E7=\"\",\"\",'G2'!$E7)","v":754},null,{"$f":"IF('G2'!$E8=\"\",\"\",'G2'!$E8)","v":425},null,{"$f":"IF('G2'!$E9=\"\",\"\",'G2'!$E9)","v":425},null,329,null,0.56366047745358094,null,{"$f":"IF('G2'!$E10=\"\",\"\",'G2'!$E10)","v":26},null,{"$f":"IF('G2'!$E11=\"\",\"\",'G2'!$E11)","v":399},null,0.52917771883289122,null,{"$f":"IF('G2'!$E12=\"\",\"\",'G2'!$E12)","v":55},null,0.13784461152882205,{"$f":"IF('G2'!$E13=\"\",\"\",'G2'!$E13)","v":163},null,0.40852130325814534,{"$f":"IF('G2'!E14=\"\",\"\",'G2'!E14)","v":34},null,8.5213032581453629E-2,{"$f":"IF('G2'!E15=\"\",\"\",'G2'!E15)","v":147},null,0.36842105263157893]
[null,"H1  -  Léonard de Vinci",null,null,{"$f":"IF('H1'!$E7=\"\",\"\",'H1'!$E7)","v":1041},null,{"$f":"IF('H1'!$E8=\"\",\"\",'H1'!$E8)","v":585},null,{"$f":"IF('H1'!$E9=\"\",\"\",'H1'!$E9)","v":584},null,457,null,0.56099903938520657,null,{"$f":"IF('H1'!$E10=\"\",\"\",'H1'!$E10)","v":25},null,{"$f":"IF('H1'!$E11=\"\",\"\",'H1'!$E11)","v":559},null,0.53698366954851107,null,{"$f":"IF('H1'!$E12=\"\",\"\",'H1'!$E12)","v":65},null,0.11627906976744186,{"$f":"IF('H1'!$E13=\"\",\"\",'H1'!$E13)","v":190},null,0.33989266547406083,{"$f":"IF('H1'!E14=\"\",\"\",'H1'!E14)","v":54},null,9.6601073345259386E-2,{"$f":"IF('H1'!E15=\"\",\"\",'H1'!E15)","v":250},null,0.44722719141323791]
[null,"J1  -  René Rücklin",null,null,{"$f":"IF('J1'!$E7=\"\",\"\",'J1'!$E7)","v":597},null,{"$f":"IF('J1'!$E8=\"\",\"\",'J1'!$E8)","v":282},null,{"$f":"IF('J1'!$E9=\"\",\"\",'J1'!$E9)","v":282},null,315,null,0.47236180904522612,null,{"$f":"IF('J1'!$E10=\"\",\"\",'J1'!$E10)","v":9},null,{"$f":"IF('J1'!$E11=\"\",\"\",'J1'!$E11)","v":273},null,0.457286432160804,null,{"$f":"IF('J1'!$E12=\"\",\"\",'J1'!$E12)","v":50},null,0.18315018315018314,{"$f":"IF('J1'!$E13=\"\",\"\",'J1'!$E13)","v":98},null,0.35897435897435898,{"$f":"IF('J1'!E14=\"\",\"\",'J1'!E14)","v":30},null,0.10989010989010989,{"$f":"IF('J1'!E15=\"\",\"\",'J1'!E15)","v":95},null,0.34798534798534797]
[null,"J2  -  René Rücklin",null,null,{"$f":"IF('J2'!$E7=\"\",\"\",'J2'!$E7)","v":818},null,{"$f":"IF('J2'!$E8=\"\",\"\",'J2'!$E8)","v":471},null,{"$f":"IF('J2'!$E9=\"\",\"\",'J2'!$E9)","v":471},null,347,null,0.57579462102689483,null,{"$f":"IF('J2'!$E10=\"\",\"\",'J2'!$E10)","v":28},null,{"$f":"IF('J2'!$E11=\"\",\"\",'J2'!$E11)","v":443},null,0.54156479217603914,null,{"$f":"IF('J2'!$E12=\"\",\"\",'J2'!$E12)","v":47},null,0.10609480812641084,{"$f":"IF('J2'!$E13=\"\",\"\",'J2'!$E13)","v":148},null,0.3340857787810384,{"$f":"IF('J2'!E14=\"\",\"\",'J2'!E14)","v":40},null,9.0293453724604969E-2,{"$f":"IF('J2'!E15=\"\",\"\",'J2'!E15)","v":208},null,0.46952595936794583]
[null,"J3  -  René Rücklin",null,null,{"$f":"IF('J3'!$E7=\"\",\"\",'J3'!$E7)","v":562},null,{"$f":"IF('J3'!$E8=\"\",\"\",'J3'!$E8)","v":297},null,{"$f":"IF('J3'!$E9=\"\",\"\",'J3'!$E9)","v":297},null,265,null,0.52846975088967973,null,{"$f":"IF('J3'!$E10=\"\",\"\",'J3'!$E10)","v":22},null,{"$f":"IF('J3'!$E11=\"\",\"\",'J3'!$E11)","v":275},null,0.48932384341637009,null,{"$f":"IF('J3'!$E12=\"\",\"\",'J3'!$E12)","v":30},null,0.10909090909090909,{"$f":"IF('J3'!$E13=\"\",\"\",'J3'!$E13)","v":116},null,0.42181818181818181,{"$f":"IF('J3'!E14=\"\",\"\",'J3'!E14)","v":33},null,0.12,{"$f":"IF('J3'!E15=\"\",\"\",'J3'!E15)","v":96},null,0.34909090909090912]
[null,"Canton SUD",null,null,{"$f":"SUM(E$33:E$38)","v":4425},null,{"$f":"SUM(G33:G38)","v":2476},null,{"$f":"SUM(I33:I38)","v":2475},null,{"$f":"SUM(K33:K38)","v":1950},null,0.55932203389830504,null,{"$f":"SUM(O33:O38)","v":135},null,{"$f":"SUM(Q33:Q38)","v":2340},null,0.52881355932203389,null,{"$f":"SUM(U33:U38)","v":297},null,{"$f":"IF(U39=0,\"\",U39/$Q39)","v":0.12692307692307692},{"$f":"SUM(X33:X38)","v":859},null,{"$f":"IF(X39=0,\"\",X39/$Q39)","v":0.36709401709401707},{"$f":"SUM(AA33:AA38)","v":239},null,{"$f":"IF(AA39=0,\"\",AA39/$Q39)","v":0.10213675213675213},{"$f":"SUM(AD33:AD38)","v":945},null,{"$f":"IF(AD39=0,\"\",AD39/$Q39)","v":0.40384615384615385}]
[null,"K1  -  Louis Pergaud",null,null,{"$f":"IF('K1'!$E7=\"\",\"\",'K1'!$E7)","v":958},null,{"$f":"IF('K1'!$E8=\"\",\"\",'K1'!$E8)","v":500},null,{"$f":"IF('K1'!$E9=\"\",\"\",'K1'!$E9)","v":500},null,458,null,0.52192066805845516,null,{"$f":"IF('K1'!$E10=\"\",\"\",'K1'!$E10)","v":23},null,{"$f":"IF('K1'!$E11=\"\",\"\",'K1'!$E11)","v":477},null,0.4979123173277662,null,{"$f":"IF('K1'!$E12=\"\",\"\",'K1'!$E12)","v":43},null,{"$f":"IF(U40=\"\",\"\",U40/$Q40)","v":9.0146750524109018E-2},{"$f":"IF('K1'!$E13=\"\",\"\",'K1'!$E13)","v":208},null,{"$f":"IF(X40=\"\",\"\",X40/$Q40)","v":0.4360587002096436},{"$f":"IF('K1'!E14=\"\",\"\",'K1'!E14)","v":37},null,{"$f":"IF(AA40=\"\",\"\",AA40/$Q40)","v":7.7568134171907763E-2},{"$f":"IF('K1'!E15=\"\",\"\",'K1'!E15)","v":189},null,{"$f":"IF(AD40=\"\",\"\",AD40/$Q40)","v":0.39622641509433965}]
[null,"K2  -  Louis Pergaud",null,null,{"$f":"IF('K2'!$E7=\"\",\"\",'K2'!$E7)","v":789},null,{"$f":"IF('K2'!$E8=\"\",\"\",'K2'!$E8)","v":444},null,{"$f":"IF('K2'!$E9=\"\",\"\",'K2'!$E9)","v":444},null,345,null,0.56273764258555137,null,{"$f":"IF('K2'!$E10=\"\",\"\",'K2'!$E10)","v":14},null,{"$f":"IF('K2'!$E11=\"\",\"\",'K2'!$E11)","v":430},null,0.54499366286438533,null,{"$f":"IF('K2'!$E12=\"\",\"\",'K2'!$E12)","v":47},null,{"$f":"IF(U41=\"\",\"\",U41/$Q41)","v":0.10930232558139535},{"$f":"IF('K2'!$E13=\"\",\"\",'K2'!$E13)","v":185},null,{"$f":"IF(X41=\"\",\"\",X41/$Q41)","v":0.43023255813953487},{"$f":"IF('K2'!E14=\"\",\"\",'K2'!E14)","v":24},null,{"$f":"IF(AA41=\"\",\"\",AA41/$Q41)","v":5.5813953488372092E-2},{"$f":"IF('K2'!E15=\"\",\"\",'K2'!E15)","v":174},null,{"$f":"IF(AD41=\"\",\"\",AD41/$Q41)","v":0.40465116279069768}]
[null,"L1  -  Les Barres",null,null,{"$f":"IF('L1'!$E7=\"\",\"\",'L1'!$E7)","v":1336},null,{"$f":"IF('L1'!$E8=\"\",\"\",'L1'!$E8)","v":759},null,{"$f":"IF('L1'!$E9=\"\",\"\",'L1'!$E9)","v":759},null,577,null,0.56811377245508987,null,{"$f":"IF('L1'!$E10=\"\",\"\",'L1'!$E10)","v":27},null,{"$f":"IF('L1'!$E11=\"\",\"\",'L1'!$E11)","v":732},null,0.54790419161676651,null,{"$f":"IF('L1'!$E12=\"\",\"\",'L1'!$E12)","v":97},null,{"$f":"IF(U42=\"\",\"\",U42/$Q42)","v":0.1325136612021858},{"$f":"IF('L1'!$E13=\"\",\"\",'L1'!$E13)","v":218},null,{"$f":"IF(X42=\"\",\"\",X42/$Q42)","v":0.29781420765027322},{"$f":"IF('L1'!E14=\"\",\"\",'L1'!E14)","v":116},null,{"$f":"IF(AA42=\"\",\"\",AA42/$Q42)","v":0.15846994535519127},{"$f":"IF('L1'!E15=\"\",\"\",'L1'!E15)","v":301},null,{"$f":"IF(AD42=\"\",\"\",AD42/$Q42)","v":0.41120218579234974}]
[null,"L2  -  Les Barres",null,null,{"$f":"IF('L2'!$E7=\"\",\"\",'L2'!$E7)","v":1154},null,{"$f":"IF('L2'!$E8=\"\",\"\",'L2'!$E8)","v":727},null,{"$f":"IF('L2'!$E9=\"\",\"\",'L2'!$E9)","v":727},null,427,null,0.62998266897746968,null,{"$f":"IF('L2'!$E10=\"\",\"\",'L2'!$E10)","v":40},null,{"$f":"IF('L2'!$E11=\"\",\"\",'L2'!$E11)","v":687},null,0.59532062391681106,null,{"$f":"IF('L2'!$E12=\"\",\"\",'L2'!$E12)","v":104},null,{"$f":"IF(U43=\"\",\"\",U43/$Q43)","v":0.15138282387190685},{"$f":"IF('L2'!$E13=\"\",\"\",'L2'!$E13)","v":219},null,{"$f":"IF(X43=\"\",\"\",X43/$Q43)","v":0.31877729257641924},{"$f":"IF('L2'!E14=\"\",\"\",'L2'!E14)","v":81},null,{"$f":"IF(AA43=\"\",\"\",AA43/$Q43)","v":0.11790393013100436},{"$f":"IF('L2'!E15=\"\",\"\",'L2'!E15)","v":283},null,{"$f":"IF(AD43=\"\",\"\",AD43/$Q43)","v":0.41193595342066958}]
[null,"Canton OUEST",null,null,{"$f":"SUM(E$40:E$43)","v":4237},null,{"$f":"SUM(G40:G43)","v":2430},null,{"$f":"SUM(I40:I43)","v":2430},null,{"$f":"SUM(K40:K43)","v":1807},null,0.57351899929195183,null,{"$f":"SUM(O40:O43)","v":104},null,{"$f":"SUM(Q40:Q43)","v":2326},null,0.54897333018645267,null,{"$f":"SUM(U40:U43)","v":291},null,{"$f":"IF(U44=0,\"\",U44/$Q44)","v":0.12510748065348237},{"$f":"SUM(X40:X43)","v":830},null,{"$f":"IF(X44=0,\"\",X44/$Q44)","v":0.35683576956147894},{"$f":"SUM(AA40:AA43)","v":258},null,{"$f":"IF(AA44=0,\"\",AA44/$Q44)","v":0.11092003439380911},{"$f":"SUM(AD40:AD43)","v":947},null,{"$f":"IF(AD44=0,\"\",AD44/$Q44)","v":0.40713671539122959}]
[]
[]
[null,"TOTAUX",null,null,{"$f":"E$19+E$26+E$32+E$39+E$44","v":26935},null,{"$f":"G$19+G$26+G$32+G$39+G$44","v":15691},null,{"$f":"I$19+I$26+I$32+I$39+I$44","v":15692},null,{"$f":"K$19+K$26+K$32+K$39+K$44","v":11243},null,{"$f":"IF(I47=\"\",\" \",I47/$E47)","v":0.58258771115648789},null,{"$f":"O$19+O$26+O$32+O$39+O$44","v":718},null,{"$f":"Q$19+Q$26+Q$32+Q$39+Q$44","v":14974},null,null,null,{"$f":"U$19+U$26+U$32+U$39+U$44","v":1562},null,{"$f":"IF(U47=0,\"\",U47/$Q47)","v":0.10431414451716309},{"$f":"X$19+X$26+X$32+X$39+X$44","v":4786},null,{"$f":"IF(X47=0,\"\",X47/$Q47)","v":0.31962067583811943},{"$f":"AA$19+AA$26+AA$32+AA$39+AA$44","v":1530},null,{"$f":"IF(AA47=0,\"\",AA47/$Q47)","v":0.10217710698544143},{"$f":"AD$19+AD$26+AD$32+AD$39+AD$44","v":7096},null,{"$f":"IF(AD47=0,\"\",AD47/$Q47)","v":0.47388807265927607}]
[]
[null,"%     /    Inscrits",null,null,null,null,null,null,{"$f":"IF(I47=\"\",\" \",I47/$E47)","v":0.58258771115648789},null,{"$f":"IF(K47=\"\",\" \",K47/$E47)","v":0.41741228884351217},null,null,null,{"$f":"IF(I47=0,0,O47/E47)","v":2.6656766289214776E-2},null,{"$f":"IF(I47=0,0,Q47/E47)","v":0.55593094486727301},null,null,null,{"$f":"IF($Q$47=0,0,U47/$E$47)","v":5.7991460924447742E-2},null,null,{"$f":"IF($Q$47=0,0,X47/$E$47)","v":0.17768702431780212},null,null,{"$f":"IF($Q$47=0,0,AA47/$E$47)","v":5.6803415630220899E-2},null,null,{"$f":"IF($Q$47=0,0,AD47/$E$47)","v":0.26344904399480229}]
[null,"Sièges",null,null,null,null,null,null,null,null,null,null,null,null,null,null,null,null,null,null,null,null,{"$f":"'REPART VdB 2T'!C56","v":2},null,null,{"$f":"'REPART VdB 2T'!E56","v":7},null,null,{"$f":"'REPART VdB 2T'!G56","v":2},null,null,{"$f":"'REPART VdB 2T'!I56","v":34}]

{"sheet":"RECENS 2T","index":34,"n_rows":42,"n_cols":24,"rows_kept":42,"cut":false,"hidden":false,"merged":[[7,23,7,24],[8,23,8,24],[7,17,7,18],[7,19,7,20],[7,21,7,22],[8,17,8,18],[8,19,8,20],[8,21,8,22]]}
[]
[]
[null,null,null,null,null,null,"R E C E N S E M E N T   par   B U R E A U"]
[]
[]
[]
[]
[null,null,null,null,null,null,null,null,null,null,null,null,null,null,null,null,null,{"$f":"Candidats!A2","v":"Marc"},null,{"$f":"Candidats!A3","v":"Étienne"},null,{"$f":"Candidats!A4","v":"Bastien"},null,{"$f":"Candidats!A5","v":"Damien"}]
[null,null,null,"BUREAUX",null,"Inscrits",null,"Émargements",null,"Abstentions",null,"Votants",null,"Nuls",null,"Exprimés",null,{"$f":"Candidats!B2","v":"ARCHAMBAULT"},null,{"$f":"Candidats!B3","v":"BUTZBACH"},null,{"$f":"Candidats!B4","v":"FAUDOT"},null,{"$f":"Candidats!B5","v":"MESLOT"}]
[null,null,null,1,null,2,null,3,null,4,null,5,null,6,null,7,null,8,null,9,null,10,null,12]
[]
[]
["A","01","-"," Hôtel de Ville  ","E",{"$f":"RESULTATS!E12","v":949},null,{"$f":"RESULTATS!G12","v":516},null,{"$f":"RESULTATS!K12","v":433},null,{"$f":"RESULTATS!I12","v":516},null,{"$f":"RESULTATS!O12","v":11},null,{"$f":"RESULTATS!Q12","v":505},null,{"$f":"RESULTATS!U12","v":22},null,{"$f":"RESULTATS!X12","v":172},null,{"$f":"RESULTATS!AA12","v":59},null,{"$f":"RESULTATS!AD12","v":252}]
["A","02","-","Salle des fêtes ","E",{"$f":"RESULTATS!E13","v":955},null,{"$f":"RESULTATS!G13","v":619},null,{"$f":"RESULTATS!K13","v":336},null,{"$f":"RESULTATS!I13","v":619},null,{"$f":"RESULTATS!O13","v":31},null,{"$f":"RESULTATS!Q13","v":588},null,{"$f":"RESULTATS!U13","v":35},null,{"$f":"RESULTATS!X13","v":147},null,{"$f":"RESULTATS!AA13","v":69},null,{"$f":"RESULTATS!AD13","v":337}]
["B","01","-","Victor Hugo","E",{"$f":"RESULTATS!E14","v":1096},null,{"$f":"RESULTATS!G14","v":622},null,{"$f":"RESULTATS!K14","v":474},null,{"$f":"RESULTATS!I14","v":622},null,{"$f":"RESULTATS!O14","v":16},null,{"$f":"RESULTATS!Q14","v":606},null,{"$f":"RESULTATS!U14","v":36},null,{"$f":"RESULTATS!X14","v":187},null,{"$f":"RESULTATS!AA14","v":62},null,{"$f":"RESULTATS!AD14","v":321}]
["B","02","-","Victor Hugo","E",{"$f":"RESULTATS!E15","v":1167},null,{"$f":"RESULTATS!G15","v":734},null,{"$f":"RESULTATS!K15","v":433},null,{"$f":"RESULTATS!I15","v":734},null,{"$f":"RESULTATS!O15","v":36},null,{"$f":"RESULTATS!Q15","v":698},null,{"$f":"RESULTATS!U15","v":64},null,{"$f":"RESULTATS!X15","v":201},null,{"$f":"RESULTATS!AA15","v":70},null,{"$f":"RESULTATS!AD15","v":363}]
["M","01","-","Saint-Exupéry","E",{"$f":"RESULTATS!E16","v":1306},null,{"$f":"RESULTATS!G16","v":656},null,{"$f":"RESULTATS!K16","v":650},null,{"$f":"RESULTATS!I16","v":656},null,{"$f":"RESULTATS!O16","v":29},null,{"$f":"RESULTATS!Q16","v":627},null,{"$f":"RESULTATS!U16","v":52},null,{"$f":"RESULTATS!X16","v":347},null,{"$f":"RESULTATS!AA16","v":37},null,{"$f":"RESULTATS!AD16","v":191}]
["N","01","-","Jean Moulin","E",{"$f":"RESULTATS!E17","v":1456},null,{"$f":"RESULTATS!G17","v":833},null,{"$f":"RESULTATS!K17","v":623},null,{"$f":"RESULTATS!I17","v":833},null,{"$f":"RESULTATS!O17","v":47},null,{"$f":"RESULTATS!Q17","v":786},null,{"$f":"RESULTATS!U17","v":101},null,{"$f":"RESULTATS!X17","v":221},null,{"$f":"RESULTATS!AA17","v":84},null,{"$f":"RESULTATS!AD17","v":380}]
["N","02","-","Cité des Associations","E",{"$f":"RESULTATS!E18","v":904},null,{"$f":"RESULTATS!G18","v":590},null,{"$f":"RESULTATS!K18","v":314},null,{"$f":"RESULTATS!I18","v":590},null,{"$f":"RESULTATS!O18","v":26},null,{"$f":"RESULTATS!Q18","v":564},null,{"$f":"RESULTATS!U18","v":42},null,{"$f":"RESULTATS!X18","v":211},null,{"$f":"RESULTATS!AA18","v":66},null,{"$f":"RESULTATS!AD18","v":245}]
["C","01","-","Schoelcher","C",{"$f":"RESULTATS!E20","v":1209},null,{"$f":"RESULTATS!G20","v":724},null,{"$f":"RESULTATS!K20","v":485},null,{"$f":"RESULTATS!I20","v":724},null,{"$f":"RESULTATS!O20","v":27},null,{"$f":"RESULTATS!Q20","v":697},null,{"$f":"RESULTATS!U20","v":44},null,{"$f":"RESULTATS!X20","v":210},null,{"$f":"RESULTATS!AA20","v":70},null,{"$f":"RESULTATS!AD20","v":373}]
["C","02","-","Maison du Peuple","C",{"$f":"RESULTATS!E21","v":762},null,{"$f":"RESULTATS!G21","v":481},null,{"$f":"RESULTATS!K21","v":281},null,{"$f":"RESULTATS!I21","v":481},null,{"$f":"RESULTATS!O21","v":19},null,{"$f":"RESULTATS!Q21","v":462},null,{"$f":"RESULTATS!U21","v":32},null,{"$f":"RESULTATS!X21","v":126},null,{"$f":"RESULTATS!AA21","v":42},null,{"$f":"RESULTATS!AD21","v":262}]
["C","03","-","Maison du Peuple","C",{"$f":"RESULTATS!E22","v":921},null,{"$f":"RESULTATS!G22","v":573},null,{"$f":"RESULTATS!K22","v":348},null,{"$f":"RESULTATS!I22","v":573},null,{"$f":"RESULTATS!O22","v":16},null,{"$f":"RESULTATS!Q22","v":557},null,{"$f":"RESULTATS!U22","v":29},null,{"$f":"RESULTATS!X22","v":154},null,{"$f":"RESULTATS!AA22","v":41},null,{"$f":"RESULTATS!AD22","v":333}]
["D","01","-","Châteaudun","C",{"$f":"RESULTATS!E23","v":1074},null,{"$f":"RESULTATS!G23","v":638},null,{"$f":"RESULTATS!K23","v":436},null,{"$f":"RESULTATS!I23","v":638},null,{"$f":"RESULTATS!O23","v":27},null,{"$f":"RESULTATS!Q23","v":611},null,{"$f":"RESULTATS!U23","v":53},null,{"$f":"RESULTATS!X23","v":152},null,{"$f":"RESULTATS!AA23","v":48},null,{"$f":"RESULTATS!AD23","v":358}]
["D","02","-","Châteaudun","C",{"$f":"RESULTATS!E24","v":838},null,{"$f":"RESULTATS!G24","v":501},null,{"$f":"RESULTATS!K24","v":337},null,{"$f":"RESULTATS!I24","v":501},null,{"$f":"RESULTATS!O24","v":26},null,{"$f":"RESULTATS!Q24","v":475},null,{"$f":"RESULTATS!U24","v":44},null,{"$f":"RESULTATS!X24","v":112},null,{"$f":"RESULTATS!AA24","v":52},null,{"$f":"RESULTATS!AD24","v":267}]
["D","03","-","Châteaudun","C",{"$f":"RESULTATS!E25","v":912},null,{"$f":"RESULTATS!G25","v":559},null,{"$f":"RESULTATS!K25","v":353},null,{"$f":"RESULTATS!I25","v":559},null,{"$f":"RESULTATS!O25","v":30},null,{"$f":"RESULTATS!Q25","v":529},null,{"$f":"RESULTATS!U25","v":74},null,{"$f":"RESULTATS!X25","v":129},null,{"$f":"RESULTATS!AA25","v":47},null,{"$f":"RESULTATS!AD25","v":279}]
["E","01","-","Raymond Aubert","N",{"$f":"RESULTATS!E27","v":1178},null,{"$f":"RESULTATS!G27","v":674},null,{"$f":"RESULTATS!K27","v":504},null,{"$f":"RESULTATS!I27","v":674},null,{"$f":"RESULTATS!O27","v":28},null,{"$f":"RESULTATS!Q27","v":646},null,{"$f":"RESULTATS!U27","v":86},null,{"$f":"RESULTATS!X27","v":142},null,{"$f":"RESULTATS!AA27","v":76},null,{"$f":"RESULTATS!AD27","v":342}]
["E","02","-","Raymond Aubert","N",{"$f":"RESULTATS!E28","v":1212},null,{"$f":"RESULTATS!G28","v":696},null,{"$f":"RESULTATS!K28","v":516},null,{"$f":"RESULTATS!I28","v":696},null,{"$f":"RESULTATS!O28","v":31},null,{"$f":"RESULTATS!Q28","v":665},null,{"$f":"RESULTATS!U28","v":91},null,{"$f":"RESULTATS!X28","v":167},null,{"$f":"RESULTATS!AA28","v":64},null,{"$f":"RESULTATS!AD28","v":343}]
["E","03","-","Raymond Aubert","N",{"$f":"RESULTATS!E29","v":1037},null,{"$f":"RESULTATS!G29","v":598},null,{"$f":"RESULTATS!K29","v":437},null,{"$f":"RESULTATS!I29","v":600},null,{"$f":"RESULTATS!O29","v":30},null,{"$f":"RESULTATS!Q29","v":570},null,{"$f":"RESULTATS!U29","v":76},null,{"$f":"RESULTATS!X29","v":174},null,{"$f":"RESULTATS!AA29","v":64},null,{"$f":"RESULTATS!AD29","v":256}]
["F","01","-","Maison de l'enfant","N",{"$f":"RESULTATS!E30","v":776},null,{"$f":"RESULTATS!G30","v":476},null,{"$f":"RESULTATS!K30","v":300},null,{"$f":"RESULTATS!I30","v":476},null,{"$f":"RESULTATS!O30","v":30},null,{"$f":"RESULTATS!Q30","v":446},null,{"$f":"RESULTATS!U30","v":52},null,{"$f":"RESULTATS!X30","v":144},null,{"$f":"RESULTATS!AA30","v":44},null,{"$f":"RESULTATS!AD30","v":206}]
["F","02","-","Émile Géhant","N",{"$f":"RESULTATS!E31","v":521},null,{"$f":"RESULTATS!G31","v":295},null,{"$f":"RESULTATS!K31","v":226},null,{"$f":"RESULTATS!I31","v":295},null,{"$f":"RESULTATS!O31","v":19},null,{"$f":"RESULTATS!Q31","v":276},null,{"$f":"RESULTATS!U31","v":41},null,{"$f":"RESULTATS!X31","v":101},null,{"$f":"RESULTATS!AA31","v":38},null,{"$f":"RESULTATS!AD31","v":96}]
["G","01","-","Hubert Metzger","S",{"$f":"RESULTATS!E33","v":653},null,{"$f":"RESULTATS!G33","v":416},null,{"$f":"RESULTATS!K33","v":237},null,{"$f":"RESULTATS!I33","v":416},null,{"$f":"RESULTATS!O33","v":25},null,{"$f":"RESULTATS!Q33","v":391},null,{"$f":"RESULTATS!U33","v":50},null,{"$f":"RESULTATS!X33","v":144},null,{"$f":"RESULTATS!AA33","v":48},null,{"$f":"RESULTATS!AD33","v":149}]
["G","02","-","Hubert Metzger","S",{"$f":"RESULTATS!E34","v":754},null,{"$f":"RESULTATS!G34","v":425},null,{"$f":"RESULTATS!K34","v":329},null,{"$f":"RESULTATS!I34","v":425},null,{"$f":"RESULTATS!O34","v":26},null,{"$f":"RESULTATS!Q34","v":399},null,{"$f":"RESULTATS!U34","v":55},null,{"$f":"RESULTATS!X34","v":163},null,{"$f":"RESULTATS!AA34","v":34},null,{"$f":"RESULTATS!AD34","v":147}]
["H","01","-","Léonard de Vinci","S",{"$f":"RESULTATS!E35","v":1041},null,{"$f":"RESULTATS!G35","v":585},null,{"$f":"RESULTATS!K35","v":457},null,{"$f":"RESULTATS!I35","v":584},null,{"$f":"RESULTATS!O35","v":25},null,{"$f":"RESULTATS!Q35","v":559},null,{"$f":"RESULTATS!U35","v":65},null,{"$f":"RESULTATS!X35","v":190},null,{"$f":"RESULTATS!AA35","v":54},null,{"$f":"RESULTATS!AD35","v":250}]
["J","01","-","René Rücklin","S",{"$f":"RESULTATS!E36","v":597},null,{"$f":"RESULTATS!G36","v":282},null,{"$f":"RESULTATS!K36","v":315},null,{"$f":"RESULTATS!I36","v":282},null,{"$f":"RESULTATS!O36","v":9},null,{"$f":"RESULTATS!Q36","v":273},null,{"$f":"RESULTATS!U36","v":50},null,{"$f":"RESULTATS!X36","v":98},null,{"$f":"RESULTATS!AA36","v":30},null,{"$f":"RESULTATS!AD36","v":95}]
["J","02","-","René Rücklin","S",{"$f":"RESULTATS!E37","v":818},null,{"$f":"RESULTATS!G37","v":471},null,{"$f":"RESULTATS!K37","v":347},null,{"$f":"RESULTATS!I37","v":471},null,{"$f":"RESULTATS!O37","v":28},null,{"$f":"RESULTATS!Q37","v":443},null,{"$f":"RESULTATS!U37","v":47},null,{"$f":"RESULTATS!X37","v":148},null,{"$f":"RESULTATS!AA37","v":40},null,{"$f":"RESULTATS!AD37","v":208}]
["J","03","-","René Rücklin","S",{"$f":"RESULTATS!E38","v":562},null,{"$f":"RESULTATS!G38","v":297},null,{"$f":"RESULTATS!K38","v":265},null,{"$f":"RESULTATS!I38","v":297},null,{"$f":"RESULTATS!O38","v":22},null,{"$f":"RESULTATS!Q38","v":275},null,{"$f":"RESULTATS!U38","v":30},null,{"$f":"RESULTATS!X38","v":116},null,{"$f":"RESULTATS!AA38","v":33},null,{"$f":"RESULTATS!AD38","v":96}]
["K","01","-","Louis Pergaud","O",{"$f":"RESULTATS!E40","v":958},null,{"$f":"RESULTATS!G40","v":500},null,{"$f":"RESULTATS!K40","v":458},null,{"$f":"RESULTATS!I40","v":500},null,{"$f":"RESULTATS!O40","v":23},null,{"$f":"RESULTATS!Q40","v":477},null,{"$f":"RESULTATS!U40","v":43},null,{"$f":"RESULTATS!X40","v":208},null,{"$f":"RESULTATS!AA40","v":37},null,{"$f":"RESULTATS!AD40","v":189}]
["K","02","-","Louis Pergaud","O",{"$f":"RESULTATS!E41","v":789},null,{"$f":"RESULTATS!G41","v":444},null,{"$f":"RESULTATS!K41","v":345},null,{"$f":"RESULTATS!I41","v":444},null,{"$f":"RESULTATS!O41","v":14},null,{"$f":"RESULTATS!Q41","v":430},null,{"$f":"RESULTATS!U41","v":47},null,{"$f":"RESULTATS!X41","v":185},null,{"$f":"RESULTATS!AA41","v":24},null,{"$f":"RESULTATS!AD41","v":174}]
["L","01","-","Les Barres","O",{"$f":"RESULTATS!E42","v":1336},null,{"$f":"RESULTATS!G42","v":759},null,{"$f":"RESULTATS!K42","v":577},null,{"$f":"RESULTATS!I42","v":759},null,{"$f":"RESULTATS!O42","v":27},null,{"$f":"RESULTATS!Q42","v":732},null,{"$f":"RESULTATS!U42","v":97},null,{"$f":"RESULTATS!X42","v":218},null,{"$f":"RESULTATS!AA42","v":116},null,{"$f":"RESULTATS!AD42","v":301}]
["L","02","-","Les Barres","O",{"$f":"RESULTATS!E43","v":1154},null,{"$f":"RESULTATS!G43","v":727},null,{"$f":"RESULTATS!K43","v":427},null,{"$f":"RESULTATS!I43","v":727},null,{"$f":"RESULTATS!O43","v":40},null,{"$f":"RESULTATS!Q43","v":687},null,{"$f":"RESULTATS!U43","v":104},null,{"$f":"RESULTATS!X43","v":219},null,{"$f":"RESULTATS!AA43","v":81},null,{"$f":"RESULTATS!AD43","v":283}]
[]
[null,null,null,"TOTAUX",null,{"$f":"SUM(F13:F40)","v":26935},null,{"$f":"SUM(H13:H40)","v":15691},null,{"$f":"SUM(J13:J40)","v":11243},null,{"$f":"SUM(L13:L40)","v":15692},null,{"$f":"SUM(N13:N40)","v":718},null,{"$f":"SUM(P13:P40)","v":14974},null,{"$f":"SUM(R13:R40)","v":1562},null,{"$f":"SUM(T13:T40)","v":4786},null,{"$f":"SUM(V13:V40)","v":1530},null,{"$f":"SUM(X13:X40)","v":7096}]

{"sheet":"REPART VdB 2T","index":35,"n_rows":64,"n_cols":10,"rows_kept":64,"cut":false,"hidden":false,"merged":[[10,2,10,3],[10,4,10,5],[10,6,10,7],[10,8,10,9]]}
[]
["R É P A R T I T I O N   des   S I È G E S    V.d.B.",null,null,null,null,null,null,null,"Nombre de sièges à répartir",45]
[null,null,null,null,null,null,null,null," Majorité absolue des sièges",{"$f":"ROUNDUP(J2/2,0)","v":23}]
[null,null,null,null,null,null,null,null," Majorité absolue des Exprimés",{"$f":"INT(RESULTATS!$Q$47/2)+1","v":7488}]
[null,null,null,null,null,null,null,null,"25% des Inscrits",{"$f":"SUM(RESULTATS!Q5*25%)","v":6733.75}]
[null,null,null,null,null,null,null,null,"5% des Exprimés",{"$f":"SUM(RESULTATS!$Q$47*5%)","v":748.7}]
[null,null,null,null,null,null,null,null,"Quotient Electoral (1)",{"$f":"ROUND(SUMIF(C20:I20,\">0\",C14:I14)/(J2-J3),0)","v":681}]
[]
[]
[]
[null,null,{"$f":"Candidats!A2&\" \"&Candidats!B2","v":"Marc ARCHAMBAULT"},null,{"$f":"Candidats!A3&\" \"&Candidats!B3","v":"Étienne BUTZBACH"},null,{"$f":"Candidats!A4&\" \"&Candidats!B4","v":"Bastien FAUDOT"},null,{"$f":"Candidats!A5&\" \"&Candidats!B5","v":"Damien MESLOT"}]
[]
[]
["Suffrages Exprimés",null,{"$f":"RESULTATS!U47","v":1562},null,{"$f":"RESULTATS!X47","v":4786},null,{"$f":"RESULTATS!AA47","v":1530},null,{"$f":"RESULTATS!AD47","v":7096}]
[]
["% des Suffrages Exprimés",null,{"$f":"IF(RESULTATS!$Q$47=0,0,RESULTATS!U47/RESULTATS!$Q$47)","v":0.10431414451716309},null,{"$f":"IF(RESULTATS!$Q$47=0,0,RESULTATS!X47/RESULTATS!$Q$47)","v":0.31962067583811943},null,{"$f":"IF(RESULTATS!$Q$47=0,0,RESULTATS!AA47/RESULTATS!$Q$47)","v":0.10217710698544143},null,{"$f":"IF(RESULTATS!$Q$47=0,0,RESULTATS!AD47/RESULTATS!$Q$47)","v":0.47388807265927607}]
[]
["Sièges à répartir",{"$f":"J2","v":45}]
[]
["Suffrages à prendre en compte (2)",null,{"$f":"IF(C14>=$J$6,C14,0)","v":1562},null,{"$f":"IF(E14>=$J$6,E14,0)","v":4786},null,{"$f":"IF(G14>=$J$6,G14,0)","v":1530},null,{"$f":"IF(I14>=$J$6,I14,0)","v":7096}]
[]
["Sièges attribués au scrutin majoritaire (3)",null,{"$f":"IF(AND(C14>E14,C14>G14,C14>I14),$J$3,0)","v":0},null,{"$f":"IF(AND(E14>C14,E14>G14,E14>I14),$J$3,0)","v":0},null,{"$f":"IF(AND(G14>C14,G14>E14,G14>I14),$J$3,0)","v":0},null,{"$f":"IF(AND(I14>C14,I14>E14,I14>G14),$J$3,0)","v":23}]
[]
["Sièges restants",{"$f":"IF($B$18-SUM($C$22:$I$22)>=0,$B$18-SUM($C$22:$I$22),0)","v":22}]
["La suite ne concerne plus que les listes >= 5% des exprimés"]
["Sièges attribués à la proportionnelle (4)",null,{"$f":"IF(OR(SUM($C$22:$I$22)=0,$J$7=0,C20=0),0,INT(C20/$J$7))","v":2},null,{"$f":"IF(OR(SUM($C$22:$I$22)=0,$J$7=0,E20=0),0,INT(E20/$J$7))","v":7},null,{"$f":"IF(OR(SUM($C$22:$I$22)=0,$J$7=0,G20=0),0,INT(G20/$J$7))","v":2},null,{"$f":"IF(OR(SUM($C$22:$I$22)=0,$J$7=0,I20=0),0,INT(I20/$J$7))","v":10}]
[]
["Sièges restants",{"$f":"IF($B$24-SUM($C$26:$I$26)>=0,$B$24-SUM($C$26:$I$26),0)","v":1}]
[]
["1ère moyenne des listes (5)",null,{"$f":"IF(AND($B$28>=1,$B$28<>$B$24,C20<>0),C20/(C26+1),0)","v":520.66666666666663},null,{"$f":"IF(AND($B$28>=1,$B$28<>$B$24,E20<>0),E20/(E26+1),0)","v":598.25},null,{"$f":"IF(AND($B$28>=1,$B$28<>$B$24,G20<>0),G20/(G26+1),0)","v":510},null,{"$f":"IF(AND($B$28>=1,$B$28<>$B$24,I20<>0),I20/(I26+1),0)","v":645.09090909090912}]
[]
["Sièges attribués à la 1ère plus forte moyenne",null,{"$f":"IF(AND(MAX($C30:$I30)=C30,$B$28<>0,$B$28<>$B$24),1,0)","v":0},null,{"$f":"IF(AND(MAX($C30:$I30)=E30,$B$28<>0,$B$28<>$B$24),1,0)","v":0},null,{"$f":"IF(AND(MAX($C30:$I30)=G30,$B$28<>0,$B$28<>$B$24),1,0)","v":0},null,{"$f":"IF(AND(MAX($C30:$I30)=I30,$B$28<>0,$B$28<>$B$24),1,0)","v":1}]
[]
["Sièges restants",{"$f":"IF($B$28-SUM($C$32:$I$32)>=0,$B$28-SUM($C$32:$I$32),0)","v":0}]
[]
["2ème moyenne des listes (5)",null,{"$f":"IF(AND($B$34>=1,$B$34<>$B$28,C20<>0),C20/(C26+C32+1),0)","v":0},null,{"$f":"IF(AND($B$34>=1,$B$34<>$B$28,E20<>0),E20/(E26+E32+1),0)","v":0},null,{"$f":"IF(AND($B$34>=1,$B$34<>$B$28,G20<>0),G20/(G26+G32+1),0)","v":0},null,{"$f":"IF(AND($B$34>=1,$B$34<>$B$28,I20<>0),I20/(I26+I32+1),0)","v":0}]
[]
["Sièges attribués à la 2ème plus forte moyenne",null,{"$f":"IF(AND(MAX($C36:$I36)=C36,$B$34<>0,$B$34<>$B$28),1,0)","v":0},null,{"$f":"IF(AND(MAX($C36:$I36)=E36,$B$34<>0,$B$34<>$B$28),1,0)","v":0},null,{"$f":"IF(AND(MAX($C36:$I36)=G36,$B$34<>0,$B$34<>$B$28),1,0)","v":0},null,{"$f":"IF(AND(MAX($C36:$I36)=I36,$B$34<>0,$B$34<>$B$28),1,0)","v":0}]
[]
["Sièges restants",{"$f":"IF($B$34-SUM($C$38:$I$38)>=0,$B$34-SUM($C$38:$I$38),0)","v":0}]
[]
["3ème moyenne des listes (5)",null,{"$f":"IF(AND($B$40>=1,$B$40<>$B$34,C20<>0),C20/(C26+C32+C38+1),0)","v":0},null,{"$f":"IF(AND($B$40>=1,$B$40<>$B$34,E20<>0),E20/(E26+E32+E38+1),0)","v":0},null,{"$f":"IF(AND($B$40>=1,$B$40<>$B$34,G20<>0),G20/(G26+G32+G38+1),0)","v":0},null,{"$f":"IF(AND($B$40>=1,$B$40<>$B$34,I20<>0),I20/(I26+I32+I38+1),0)","v":0}]
[]
["Sièges attribués à la 3ème plus forte moyenne",null,{"$f":"IF(AND(MAX($C42:$I42)=C42,$B$40<>0,$B$40<>$B$34),1,0)","v":0},null,{"$f":"IF(AND(MAX($C42:$I42)=E42,$B$40<>0,$B$40<>$B$34),1,0)","v":0},null,{"$f":"IF(AND(MAX($C42:$I42)=G42,$B$40<>0,$B$40<>$B$34),1,0)","v":0},null,{"$f":"IF(AND(MAX($C42:$I42)=I42,$B$40<>0,$B$40<>$B$34),1,0)","v":0}]
[]
["Sièges restants",{"$f":"IF($B$40-SUM($C$44:$I$44)>=0,$B$40-SUM($C$44:$I$44),0)","v":0}]
[]
["4ème moyenne des listes (5)",null,{"$f":"IF(AND($B$40>=1,$B$40<>$B$34,C26<>0),C26/(C32+C38+C44+1),0)","v":0},null,{"$f":"IF(AND($B$40>=1,$B$40<>$B$34,E26<>0),E26/(E32+E38+E44+1),0)","v":0},null,{"$f":"IF(AND($B$40>=1,$B$40<>$B$34,G26<>0),G26/(G32+G38+G44+1),0)","v":0},null,{"$f":"IF(AND($B$40>=1,$B$40<>$B$34,I26<>0),I26/(I32+I38+I44+1),0)","v":0}]
[]
["Sièges attribués à la 4ème plus forte moyenne",null,{"$f":"IF(AND(MAX($C48:$I48)=C48,$B$46<>0,$B$46<>$B$40),1,0)","v":0},null,{"$f":"IF(AND(MAX($C48:$I48)=E48,$B$46<>0,$B$46<>$B$40),1,0)","v":0},null,{"$f":"IF(AND(MAX($C48:$I48)=G48,$B$46<>0,$B$46<>$B$40),1,0)","v":0},null,{"$f":"IF(AND(MAX($C48:$I48)=I48,$B$46<>0,$B$46<>$B$40),1,0)","v":0}]
[]
["Sièges restants",{"$f":"IF($B$46-SUM($C$50:$I$50)>=0,$B$46-SUM($C$50:$I$50),0)","v":0}]
[]
[]
[]
["TOTAL DES SIÈGES RÉPARTIS",null,{"$f":"SUM(C22+C26+C32+C38+C44+C50)","v":2},null,{"$f":"SUM(E22+E26+E32+E38+E44+E50)","v":7},null,{"$f":"SUM(G22+G26+G32+G38+G44+G50)","v":2},null,{"$f":"SUM(I22+I26+I32+I38+I44+I50)","v":34}]
[]
["(1) Somme des Suffrages Exprimés des listes >= 5% du total des Exprimés / le nombre de"]
["     sièges restant après répartition au scrutin majoritaire"]
["(2)Listes ayant obtenues au mois 5% du total des Exprimés"]
["(3) Affectation de la Majorité absolue des sièges (23) à la liste qui a obtenu au moins la majorité absolue des Exprimés",null,null,null,"Si égalité des suffrages exprimés : attribution à la liste dont la moyenne d'âge est la plus élevée"]
["(4) Suffrages Exprimés de la liste / Quotient Electoral"]
["(5) Suffrages Exprimés de la liste / Sièges attribués à partir du second tour + 1"]
["* Pour l'attribution du dernier siège : si plusieurs listes ont la même moyenne le siège revient à la liste ayant le plus de suffrages; si encore égalité : candidat le plus âgé"]

{"sheet":"REPART CAB 2T","index":36,"n_rows":58,"n_cols":10,"rows_kept":58,"cut":false,"hidden":false,"merged":[[10,2,10,3],[10,4,10,5],[10,6,10,7],[10,8,10,9]]}
[]
["R É P A R T I T I O N   des   S I È G E S    C.A.B.",null,null,null,null,null,null,null,"Nombre de sièges à répartir",30]
[null,null,null,null,null,null,null,null," Majorité absolue des sièges",{"$f":"ROUNDUP(J2/2,0)","v":15}]
[null,null,null,null,null,null,null,null," Majorité absolue des Exprimés",{"$f":"INT(RESULTATS!$Q$47/2)+1","v":7488}]
[null,null,null,null,null,null,null,null,"25% des Inscrits",{"$f":"SUM(RESULTATS!Q5*25%)","v":6733.75}]
[null,null,null,null,null,null,null,null,"5% des Exprimés",{"$f":"SUM(RESULTATS!$Q$47*5%)","v":748.7}]
[null,null,null,null,null,null,null,null,"Quotient Electoral (1)",{"$f":"ROUND(SUMIF(C20:I20,\">0\",C14:I14)/(J2-J3),0)","v":998}]
[]
[]
[]
[null,null,{"$f":"Candidats!A2&\" \"&Candidats!B2","v":"Marc ARCHAMBAULT"},null,{"$f":"Candidats!A3&\" \"&Candidats!B3","v":"Étienne BUTZBACH"},null,{"$f":"Candidats!A4&\" \"&Candidats!B4","v":"Bastien FAUDOT"},null,{"$f":"Candidats!A5&\" \"&Candidats!B5","v":"Damien MESLOT"}]
[]
[]
["Suffrages Exprimés",null,{"$f":"RESULTATS!U47","v":1562},null,{"$f":"RESULTATS!X47","v":4786},null,{"$f":"RESULTATS!AA47","v":1530},null,{"$f":"RESULTATS!AD47","v":7096}]
[]
["% des Suffrages Exprimés",null,{"$f":"IF(RESULTATS!$Q$47=0,0,RESULTATS!U47/RESULTATS!$Q$47)","v":0.10431414451716309},null,{"$f":"IF(RESULTATS!$Q$47=0,0,RESULTATS!X47/RESULTATS!$Q$47)","v":0.31962067583811943},null,{"$f":"IF(RESULTATS!$Q$47=0,0,RESULTATS!AA47/RESULTATS!$Q$47)","v":0.10217710698544143},null,{"$f":"IF(RESULTATS!$Q$47=0,0,RESULTATS!AD47/RESULTATS!$Q$47)","v":0.47388807265927607}]
[]
["Sièges à répartir",{"$f":"J2","v":30}]
[]
["Suffrages à prendre en compte (2)",null,{"$f":"IF(C14>=$J$6,C14,0)","v":1562},null,{"$f":"IF(E14>=$J$6,E14,0)","v":4786},null,{"$f":"IF(G14>=$J$6,G14,0)","v":1530},null,{"$f":"IF(I14>=$J$6,I14,0)","v":7096}]
[]
["Sièges attribués au scrutin majoritaire (3)",null,{"$f":"IF(AND(C14>E14,C14>G14,C14>I14),$J$3,0)","v":0},null,{"$f":"IF(AND(E14>C14,E14>G14,E14>I14),$J$3,0)","v":0},null,{"$f":"IF(AND(G14>C14,G14>E14,G14>I14),$J$3,0)","v":0},null,{"$f":"IF(AND(I14>C14,I14>E14,I14>G14),$J$3,0)","v":15}]
[]
["Sièges restants",{"$f":"IF($B$18-SUM($C$22:$I$22)>=0,$B$18-SUM($C$22:$I$22),0)","v":15}]
["La suite ne concerne plus que les listes >= 5% des exprimés"]
["Sièges attribués à la proportionnelle (4)",null,{"$f":"IF(OR(SUM($C$22:$I$22)=0,$J$7=0,C20=0),0,INT(C20/$J$7))","v":1},null,{"$f":"IF(OR(SUM($C$22:$I$22)=0,$J$7=0,E20=0),0,INT(E20/$J$7))","v":4},null,{"$f":"IF(OR(SUM($C$22:$I$22)=0,$J$7=0,G20=0),0,INT(G20/$J$7))","v":1},null,{"$f":"IF(OR(SUM($C$22:$I$22)=0,$J$7=0,I20=0),0,INT(I20/$J$7))","v":7}]
[]
["Sièges restants",{"$f":"IF($B$24-SUM($C$26:$I$26)>=0,$B$24-SUM($C$26:$I$26),0)","v":2}]
[]
["1ère moyenne des listes (5)",null,{"$f":"IF(AND($B$28>=1,$B$28<>$B$24,C20<>0),C20/(C26+1),0)","v":781},null,{"$f":"IF(AND($B$28>=1,$B$28<>$B$24,E20<>0),E20/(E26+1),0)","v":957.2},null,{"$f":"IF(AND($B$28>=1,$B$28<>$B$24,G20<>0),G20/(G26+1),0)","v":765},null,{"$f":"IF(AND($B$28>=1,$B$28<>$B$24,I20<>0),I20/(I26+1),0)","v":887}]
[]
["Sièges attribués à la 1ère plus forte moyenne",null,{"$f":"IF(AND(MAX($C30:$I30)=C30,$B$28<>0,$B$28<>$B$24),1,0)","v":0},null,{"$f":"IF(AND(MAX($C30:$I30)=E30,$B$28<>0,$B$28<>$B$24),1,0)","v":1},null,{"$f":"IF(AND(MAX($C30:$I30)=G30,$B$28<>0,$B$28<>$B$24),1,0)","v":0},null,{"$f":"IF(AND(MAX($C30:$I30)=I30,$B$28<>0,$B$28<>$B$24),1,0)","v":0}]
[]
["Sièges restants",{"$f":"IF($B$28-SUM($C$32:$I$32)>=0,$B$28-SUM($C$32:$I$32),0)","v":1}]
[]
["2ème moyenne des listes (5)",null,{"$f":"IF(AND($B$34>=1,$B$34<>$B$28,C20<>0),C20/(C26+C32+1),0)","v":781},null,{"$f":"IF(AND($B$34>=1,$B$34<>$B$28,E20<>0),E20/(E26+E32+1),0)","v":797.66666666666663},null,{"$f":"IF(AND($B$34>=1,$B$34<>$B$28,G20<>0),G20/(G26+G32+1),0)","v":765},null,{"$f":"IF(AND($B$34>=1,$B$34<>$B$28,I20<>0),I20/(I26+I32+1),0)","v":887}]
[]
["Sièges attribués à la 2ème plus forte moyenne",null,{"$f":"IF(AND(MAX($C36:$I36)=C36,$B$34<>0,$B$34<>$B$28),1,0)","v":0},null,{"$f":"IF(AND(MAX($C36:$I36)=E36,$B$34<>0,$B$34<>$B$28),1,0)","v":0},null,{"$f":"IF(AND(MAX($C36:$I36)=G36,$B$34<>0,$B$34<>$B$28),1,0)","v":0},null,{"$f":"IF(AND(MAX($C36:$I36)=I36,$B$34<>0,$B$34<>$B$28),1,0)","v":1}]
[]
["Sièges restants",{"$f":"IF($B$34-SUM($C$38:$I$38)>=0,$B$34-SUM($C$38:$I$38),0)","v":0}]
[]
["3ème moyenne des listes (5)",null,{"$f":"IF(AND($B$40>=1,$B$40<>$B$34,C20<>0),C20/(C26+C32+C38+1),0)","v":0},null,{"$f":"IF(AND($B$40>=1,$B$40<>$B$34,E20<>0),E20/(E26+E32+E38+1),0)","v":0},null,{"$f":"IF(AND($B$40>=1,$B$40<>$B$34,G20<>0),G20/(G26+G32+G38+1),0)","v":0},null,{"$f":"IF(AND($B$40>=1,$B$40<>$B$34,I20<>0),I20/(I26+I32+I38+1),0)","v":0}]
[]
["Sièges attribués à la 3ème plus forte moyenne",null,{"$f":"IF(AND(MAX($C42:$I42)=C42,$B$40<>0,$B$40<>$B$34),1,0)","v":0},null,{"$f":"IF(AND(MAX($C42:$I42)=E42,$B$40<>0,$B$40<>$B$34),1,0)","v":0},null,{"$f":"IF(AND(MAX($C42:$I42)=G42,$B$40<>0,$B$40<>$B$34),1,0)","v":0},null,{"$f":"IF(AND(MAX($C42:$I42)=I42,$B$40<>0,$B$40<>$B$34),1,0)","v":0}]
[]
["Sièges restants",{"$f":"IF($B$40-SUM($C$44:$I$44)>=0,$B$40-SUM($C$44:$I$44),0)","v":0}]
[]
[]
[]
["TOTAL DES SIEGES REPARTIS",null,{"$f":"SUM(C22+C26+C32+C38+C44)","v":1},null,{"$f":"SUM(E22+E26+E32+E38+E44)","v":5},null,{"$f":"SUM(G22+G26+G32+G38+G44)","v":1},null,{"$f":"SUM(I22+I26+I32+I38+I44)","v":23}]
[]
["(1) Somme des Suffrages Exprimés des listes >= 5% du total des Exprimés / le nombre de"]
["     sièges restant après répartition au scrutin majoritaire"]
["(2)Listes ayant obtenues au mois 5% du total des Exprimés"]
["(3) Affectation de la Majorité absolue des sièges (23) à la liste qui a obtenu au moins la majorité absolue des Exprimés",null,null,null,"Si égalité des suffrages exprimés : attribution à la liste dont la moyenne d'âge est la plus élevée"]
["(4) Suffrages Exprimés de la liste / Quotient Electoral"]
["(5) Suffrages Exprimés de la liste / Sièges attribués à partir du second tour + 1"]
["* Pour l'attribution du dernier siège : si plusieurs listes ont la même moyenne le siège revient à la liste ayant le plus de suffrages; si encore égalité : candidat le plus âgé"]

{"sheet":"ELUS 2T","index":37,"n_rows":52,"n_cols":16,"rows_kept":52,"cut":false,"hidden":false,"merged":[[6,0,6,1],[6,8,6,9],[6,4,6,5],[6,12,6,13],[1,1,3,13]]}
[]
[null,"            DÉSIGNATION  des  ÉLUS   au   2ème   TOUR"]
[]
[]
[]
[null,null,"VdB","CAB",null,null,"VdB","CAB",null,null,"VdB","CAB",null,null,"VdB","CAB"]
[{"$f":"Candidats!A2&\" \"&Candidats!B2","v":"Marc ARCHAMBAULT"},null,{"$f":"'REPART VdB 2T'!C56","v":2},{"$f":"'REPART CAB 2T'!C50","v":1},{"$f":"Candidats!A3&\" \"&Candidats!B3","v":"Étienne BUTZBACH"},null,{"$f":"'REPART VdB 2T'!E56","v":7},{"$f":"'REPART CAB 2T'!E50","v":5},{"$f":"Candidats!A4&\" \"&Candidats!B4","v":"Bastien FAUDOT"},null,{"$f":"'REPART VdB 2T'!G56","v":2},{"$f":"'REPART CAB 2T'!G50","v":1},{"$f":"Candidats!A5&\" \"&Candidats!B5","v":"Damien MESLOT"},null,{"$f":"'REPART VdB 2T'!I56","v":34},{"$f":"'REPART CAB 2T'!I50","v":23}]
[1,"Marc ARCHAMBAULT",{"$f":"IF((C$7>=$A8),\"ÉLU\",\"\")","v":"ÉLU"},"ÉLU",1,"Etienne BUTZBACH",{"$f":"IF((G$7>=$A8),\"ÉLU\",\"\")","v":"ÉLU"},"ÉLU",1,"Bastien FAUDOT",{"$f":"IF((K$7>=$A8),\"ÉLU\",\"\")","v":"ÉLU"},"ÉLU",1,"Damien MESLOT",{"$f":"IF((O$7>=$A8),\"ÉLU\",\"\")","v":"ÉLU"},"ÉLU"]
[2,"Marie-Eloïse NARDINI","ÉLU","",2,"Samia JABER","ÉLU","ÉLU",2,"Isabelle LOPEZ","ÉLU","",2,"Florence BESANCENOT","ÉLU","ÉLU"]
[3,"Thibaut MONNIER","","",3,"Gérard SIMON","ÉLU","ÉLU",3,"Bruno KERN","","",3,"Sébastien VIVOT","ÉLU","ÉLU"]
[4,"Patricia BOISUMEAU","","",4,"Eva PEDROCCHI","ÉLU","ÉLU",4,"Gwénaëlle RADAIS","","",4,"Marie-Hélène IVOL","ÉLU","ÉLU"]
[5,"Eric WIEDMANN","","",5,"Robert BELOT","ÉLU","ÉLU",5,"Alain LETAILLEUR","","",5,"Mustapha LOUNES","ÉLU","ÉLU"]
[6,"Marie-Jose LEHMANN","","",6,"Jacqueline GUIOT","ÉLU","",6,"Nagia MEGHRICHE","","",6,"Delphine MENTRE","ÉLU","ÉLU"]
[7,"Claude FRANÇOIS","","",7,"Mazouz BENLAZERI","ÉLU","",7,"Olivier PREVOT","","",7,"Ian BOUCARD","ÉLU","ÉLU"]
[8,"Olivia SCHNOEBELEN","","",8,"Armelle LELEUP","","",8,"Nadine DANTON-SCHALK","","",8,"Marie ROCHETTE DE LEMPDES","ÉLU","ÉLU"]
[9,"Franck FOURE","","",9,"René SCHMITT","","",9,"Lakhdar CHERFAOUI","","",9,"Jean-Marie HERZOG","ÉLU","ÉLU"]
[10,"Céline MAIROT","","",10,"Francine GALLIEN","","",10,"Géraldine SIMON","","",10,"Monique MONNOT","ÉLU","ÉLU"]
[11,"Hervé BRUNET","","",11,"Alain DREYFUS-SCHMIDT","","",11,"Jean-Michel GLON-VILLENEUVE","","",11,"Jean-Pierre MARCHAND","ÉLU","ÉLU"]
[12,"Ginette PETITPERRIN","","",12,"Latifa GILLIOTTE","","",12,"Véronique SOHIER","","",12,"Marion VALLET","ÉLU","ÉLU"]
[13,"René CARDOT","","",13,"Selim GUEMAZI","","",13,"Philippe PEQUIGNOT","","",13,"Gérard PIQUEPAILLE","ÉLU","ÉLU"]
[14,"Chloé BABELOT","","",14,"Céline SOUAKRIA","","",14,"Noura BOUGUERRA","","",14,"Frieda BACHARETTI","ÉLU","ÉLU"]
[15,"Jean RECEVEUR","","",15,"Hubert BELZ","","",15,"Maurice SCHWARTZ","","",15,"Alain PICARD","ÉLU","ÉLU"]
[16,"Leslie BROCARD","","",16,"Marie-Christine MOREL","","",16,"Marie-Laure SCHNEIDER","","",16,"Marie STABILE","ÉLU","ÉLU"]
[17,"Dominique FREUND","","",17,"Pascal MARTIN","","",17,"Dominique MEA","","",17,"Pierre-Jérôme COLLARD","ÉLU","ÉLU"]
[18,"Cindy BURGKHALTER","","",18,"Nicole LARCAT","","",18,"Aurélie JEANGERARD","","",18,"Parvin CERF","ÉLU","ÉLU"]
[19,"Roger GUILLAUME","","",19,"Azeddine GOUTAS","","",19,"Abdel Jalil ABBAS-TURKI","","",19,"Yves VOLA","ÉLU","ÉLU"]
[20,"Alexandra GROSS","","",20,"Marie-Antoinette VACELET","","",20,"Charline COUTHERUT","","",20,"Loubna CHEKOUAT","ÉLU","ÉLU"]
[21,"Gaëtan DEVILLERS",{"$f":"IF((C$7>=$A28),\"ÉLU\",\"\")","v":""},"",21,"Bertrand THIEBAUD",{"$f":"IF((G$7>=$A28),\"ÉLU\",\"\")","v":""},"",21,"Vladimir DJORDJEVIC",{"$f":"IF((K$7>=$A28),\"ÉLU\",\"\")","v":""},"",21,"Tony KNEIP",{"$f":"IF((O$7>=$A28),\"ÉLU\",\"\")","v":"ÉLU"},"ÉLU"]
[22,"Denise MICHALLAND","","",22,"Corinne BOHLINGER","","",22,"Josée MARTINEZ","","",22,"Claude JOLY","ÉLU","ÉLU"]
[23,"Maurice FERNEL","","",23,"Abdelghani NIAME","","",23,"Christian PROUST","","",23,"Brice MICHEL","ÉLU","ÉLU"]
[24,"Marie-Antoinette DECLE","","",24,"Martine DAERON","","",24,"Monique NANINO","","",24,"Marie-Thérèse FOHRER","ÉLU",""]
[25,"Germain THONNESSEN","","",25,"Joël BIGNAMI","","",25,"Yacine HOUADEF","","",25,"François BORON","ÉLU",""]
[26,"Sophie CANET","","",26,"Anny MOREL-GRUNBLATT","","",26,"Madeleine FLEURY","","",26,"Pascale CHAGUE","ÉLU",""]
[27,"Manuel CHANTERANNE","","",27,"Salih AKTAS","","",27,"Jean-Paul BOURREAU","","",27,"Guy CORVEC","ÉLU",""]
[28,"Chantal TOURDOT","","",28,"Marie-José JOURD'HEUIL","","",28,"Eva GUYOT","","",28,"Léa MANGUIN","ÉLU",""]
[29,"Cyril BURGKHALTER","","",29,"Francis COTTET","","",29,"Guillaume ASTIER","","",29,"David DIMEY","ÉLU",""]
[30,"Marie DENIZET","","",30,"Christine POWOLNY","","",30,"Fabienne DERRIEN","","",30,"Christiane EINHORN","ÉLU",""]
[31,"Mathieu KAMINSKI","","",31,"Philippe VENCK","","",31,"Denis GREVILLOT","","",31,"Olivier DEROY","ÉLU",""]
[32,"Florence OUDRY","","",32,"Lorène BAUDET","","",32,"Zoé RUNDSTADLER","","",32,"Brigitte BRUN","ÉLU",""]
[33,"Philippe WITTLING","","",33,"Dominique SIESS","","",33,"Guy DESGRANGES","","",33,"Emmanuel FILLAUDEAU","ÉLU",""]
[34,"Juliette BRULLOT","","",34,"Evelyne GIULIANI","","",34,"Cécilia PAUVRET","","",34,"Isabelle HELIOT","ÉLU",""]
[35,"Eric NICOLAS","","",35,"Pascal BROGGI","","",35,"Jérémy GRESSOT","","",35,"Patrick FORESTIER","",""]
[36,"Sabrina LE-FEVRE","","",36,"Rahima HOUADEF","","",36,"Noëmie HENNEQUIN","","",36,"Dominique CHIPEAUX","",""]
[37,"François RITZMANN","","",37,"Claude PAUFERT","","",37,"Dominique FUMEY","","",37,"Ugur UCAL","",""]
[38,"Lucette LAMBERT","","",38,"Chantal GAMMA","","",38,"Alexandra KRSTIC","","",38,"Michelle BECUE","",""]
[39,"Nicolas OBRY","","",39,"Philippe LEGROS","","",39,"André DA COL","","",39,"Gérard THOUVEREZ","",""]
[40,"Andrée LAMIELLE","","",40,"Hermine LIBAI","","",40,"Christelle BOISSON","","",40,"Cécile DAVID","",""]
[41,"Denis FURDERER","","",41,"Nicolas FRIOT","","",41,"Jean-Michel PERCHE","","",41,"Alain COULOT","",""]
[42,"Germaine MEYER","","",42,"Linda BOUSSAHA","","",42,"Renée REMY","","",42,"Karine BOSSU","",""]
[43,"Denis LE-FEVRE","","",43,"Mohamed BOULGUID","","",43,"Paul COLLIN","","",43,"Alain AIMMEUR","",""]
[44,"Louisette BRULLOT","","",44,"Myriam LATOUR","","",44,"Dominique ROGNON","","",44,"Jocelyne JECKER","",""]
[45,"René THIRIET","","",45,"Arthur COURTY","","",45,"Édouard BONTEMPS","","",45,"Christian BEAUSEIGNEUR","",""]

{"sheet":"Candidats","index":38,"n_rows":5,"n_cols":7,"rows_kept":5,"cut":false,"hidden":false,"merged":[]}
["Prénom","Nom","Parti","Photo","Commentaire","Nb sièges","Libellé"]
["Marc","ARCHAMBAULT","Belfort Bleu marine","marchambault",{"$f":"CONCATENATE(F2,G2)","v":"2 sièges attribués"},{"$f":"IF(RESULTATS!$Q$3=28,'REPART VdB 2T'!C$56,\"\")","v":2},{"$f":"IF(RESULTATS!$Q$3=28,IF('REPART VdB 2T'!C$56>1,\" sièges attribués\",\" siège attribué\"),\"\")","v":" sièges attribués"}]
["Étienne","BUTZBACH","Belfort, Innovante et bienveillante","ebutzbach",{"$f":"CONCATENATE(F3,G3)","v":"7 sièges attribués"},{"$f":"IF(RESULTATS!$Q$3=28,'REPART VdB 2T'!E$56,\"\")","v":7},{"$f":"IF(RESULTATS!$Q$3=28,IF('REPART VdB 2T'!E$56>1,\" sièges attribués\",\" siège attribué\"),\"\")","v":" sièges attribués"}]
["Bastien","FAUDOT","Oser Belfort","bfaudot","2 sièges attribués",{"$f":"IF(RESULTATS!$Q$3=28,'REPART VdB 2T'!G$56,\"\")","v":2},{"$f":"IF(RESULTATS!$Q$3=28,IF('REPART VdB 2T'!G$56>1,\" sièges attribués\",\" siège attribué\"),\"\")","v":" sièges attribués"}]
["Damien","MESLOT","Tous ensemble pour Belfort","dmeslot","34 sièges attribués",{"$f":"IF(RESULTATS!$Q$3=28,'REPART VdB 2T'!I$56,\"\")","v":34},{"$f":"IF(RESULTATS!$Q$3=28,IF('REPART VdB 2T'!I$56>1,\" sièges attribués\",\" siège attribué\"),\"\")","v":" sièges attribués"}]

{"sheet":"GRAPHE","index":39,"n_rows":4,"n_cols":11,"rows_kept":4,"cut":false,"hidden":false,"merged":[[0,10,0,11],[0,2,0,9]]}
["Mairie de Belfort",null,"ÉLECTIONS MUNICIPALES",null,null,null,null,null,null,null,"2014-03-30"]
[]
[null,null,{"$f":"COUNTIF(RESULTATS!$I$12:$I$18,\">0\")+COUNTIF(RESULTATS!$I$20:$I$25,\">0\")+COUNTIF(RESULTATS!$I$27:$I$31,\">0\")+COUNTIF(RESULTATS!$I$33:$I$38,\">0\")+COUNTIF(RESULTATS!$I$40:$I$43,\">0\")","v":28}," Bureaux sur",null,{"$f":"COUNTIF(RESULTATS!$E$12:$E$18,\">0\")+COUNTIF(RESULTATS!$E$20:$E$25,\">0\")+COUNTIF(RESULTATS!$E$27:$E$31,\">0\")+COUNTIF(RESULTATS!$E$33:$E$38,\">0\")+COUNTIF(RESULTATS!$E$40:$E$43,\">0\")","v":28}]
[null,null,{"$f":"SUMIF(RESULTATS!$I$12:$I$18,\">0\",RESULTATS!$E$12:$E$18)+SUMIF(RESULTATS!$I$20:$I$25,\">0\",RESULTATS!$E$20:$E$25)+SUMIF(RESULTATS!$I$27:$I$31,\">0\",RESULTATS!$E$27:$E$31)+SUMIF(RESULTATS!$I$33:$I$38,\">0\",RESULTATS!$E$33:$E$38)+SUMIF(RESULTATS!$I$40:$I$43,\">0\",RESULTATS!$E$40:$E$43)","v":26935},"Inscrits sur",null,{"$f":"RESULTATS!E47","v":26935},"soit",":",{"$f":"C4/F4","v":1}]