{"text_format":"1","workbook":"xlsx","n_sheets":32,"sheets":["A1","A2","B1","B2","M1","N1","N2","C1","C2","C3","D1","D2","D3","E1","E2","E3","F1","F2","G1","G2","H1","J1","J2","J3","K1","K2","L1","L2","Candidats","RECENS","RESULTATS","RESULTATS A3"],"not_rendered":{"charts":0,"images":29,"macros":1,"external_links":0,"defined_names":0,"comments":0,"pivot_tables":0},"unopened":[],"bounds":{"document_bytes":16777216,"sheet_cells":100000,"rows_first":2000,"rows_last":500,"rows_between":2000,"halvings":0,"cell_chars":16384,"cell_head_chars":4096},"cells_cut":0,"cells_raw":0,"read":"whole","date_system":"1900"}

{"sheet":"A1","index":0,"n_rows":42,"n_cols":7,"rows_kept":42,"cut":false,"hidden":false,"merged":[]}
[]
[]
["A1","-","HÔTEL DE VILLE (Place d'Armes)"]
[]
[]
[]
[null,null,null,"INSCRITS",856,"%"]
[null,null,null,"Émargements",368]
[null,null,null,"Votants (participation)",368,{"$f":"IF($E$7=0,0,E9/$E$7)","v":0.42990654205607476},"(1)"]
[null,null,null,"Blancs",4,{"$f":"IF($E$9=0,0,E10/$E$9)","v":1.0869565217391304E-2},"(2)"]
[null,null,null,"Nuls",4,{"$f":"IF($E$9=0,0,E11/$E$9)","v":1.0869565217391304E-2},"(2)"]
[null,null,null,"Exprimés",360,{"$f":"IF($E$7=0,0,E12/$E$7)","v":0.42056074766355139},"(3)"]
[null,null,null,{"$f":"CONCATENATE(\"Liste \",RESULTATS!U$9,\" \",RESULTATS!U$10)","v":"Liste Nadine MORANO"},87,{"$f":"IF(E$12=0,0,E13/E$12)","v":0.24166666666666667},"(4)"]
[null,null,null,{"$f":"CONCATENATE(\"Liste \",RESULTATS!Y$9,\" \",RESULTATS!Y$10)","v":"Liste Joe LABAT"},1,2.7777777777777779E-3]
[null,null,null,{"$f":"CONCATENATE(\"Liste \",RESULTATS!AC$9,\" \",RESULTATS!AC$10)","v":"Liste Claire ROCHER"},5,1.3888888888888888E-2]
[null,null,null,{"$f":"CONCATENATE(\"Liste \",RESULTATS!AG$9,\" \",RESULTATS!AG$10)","v":"Liste Christian D'ANDLAU-HOMBOURG"},0,0]
[null,null,null,{"$f":"CONCATENATE(\"Liste \",RESULTATS!AK$9,\" \",RESULTATS!AK$10)","v":"Liste Edouard MARTIN"},57,0.15833333333333333]
[null,null,null,{"$f":"CONCATENATE(\"Liste \",RESULTATS!AO$9,\" \",RESULTATS!AO$10)","v":"Liste Gaël DIAFERIA"},1,2.7777777777777779E-3]
[null,null,null,{"$f":"CONCATENATE(\"Liste \",RESULTATS!AS$9,\" \",RESULTATS!AS$10)","v":"Liste Nathalie GRIESBECK"},42,0.11666666666666667]
[null,null,null,{"$f":"CONCATENATE(\"Liste \",RESULTATS!AW$9,\" \",RESULTATS!AW$10)","v":"Liste Julien GONZALEZ"},7,1.9444444444444445E-2]
[null,null,null,{"$f":"CONCATENATE(\"Liste \",RESULTATS!BA$9,\" \",RESULTATS!BA$10)","v":"Liste Philippe COUKA"},0,0]
[null,null,null,{"$f":"CONCATENATE(\"Liste \",RESULTATS!BE$9,\" \",RESULTATS!BE$10)","v":"Liste Antoine RENARD"},6,{"$f":"IF(E$12=0,0,E22/E$12)","v":1.6666666666666666E-2}]
[null,null,null,{"$f":"CONCATENATE(\"Liste \",RESULTATS!BI$9,\" \",RESULTATS!BI$10)","v":"Liste Geneviève MARTIN"},1,2.7777777777777779E-3]
[null,null,null,{"$f":"CONCATENATE(\"Liste \",RESULTATS!BM$9,\" \",RESULTATS!BM$10)","v":"Liste Isabelle VÉRIN"},3,8.3333333333333332E-3]
[null,null,null,{"$f":"CONCATENATE(\"Liste \",RESULTATS!U$59,\" \",RESULTATS!U$60)","v":"Liste Xavier DESSAIGNE"},3,8.3333333333333332E-3]
[null,null,null,{"$f":"CONCATENATE(\"Liste \",RESULTATS!Y$59,\" \",RESULTATS!Y$60)","v":"Liste Sandrine PICO"},0,0]
[null,null,null,{"$f":"CONCATENATE(\"Liste \",RESULTATS!AC$59,\" \",RESULTATS!AC$60)","v":"Liste Florian PHILIPPOT"},58,0.16111111111111112]
[null,null,null,{"$f":"CONCATENATE(\"Liste \",RESULTATS!AG$59,\" \",RESULTATS!AG$60)","v":"Liste Sandrine BELIER"},31,8.611111111111111E-2]
[null,null,null,{"$f":"CONCATENATE(\"Liste \",RESULTATS!AK$59,\" \",RESULTATS!AK$60)","v":"Liste Ismaël BOUDJEKADA"},0,0]
[null,null,null,{"$f":"CONCATENATE(\"Liste \",RESULTATS!AO$59,\" \",RESULTATS!AO$60)","v":"Liste Laure FERRARI"},18,0.05]
[null,null,null,{"$f":"CONCATENATE(\"Liste \",RESULTATS!AS$59,\" \",RESULTATS!AS$60)","v":"Liste Antonio SANCHEZ"},0,0]
[null,null,null,{"$f":"CONCATENATE(\"Liste \",RESULTATS!AW$59,\" \",RESULTATS!AW$60)","v":"Liste Isabelle MAURER"},21,{"$f":"IF(E$12=0,0,E32/E$12)","v":5.8333333333333334E-2}]
[null,null,null,{"$f":"CONCATENATE(\"Liste \",RESULTATS!BA$59,\" \",RESULTATS!BA$60)","v":"Liste Yannick HERVE"},3,{"$f":"IF(E$12=0,0,E33/E$12)","v":8.3333333333333332E-3}]
[null,null,null,{"$f":"CONCATENATE(\"Liste \",RESULTATS!BE$59,\" \",RESULTATS!BE$60)","v":"Liste Gabriel AMARD"},14,{"$f":"IF(E$12=0,0,E34/E$12)","v":3.888888888888889E-2}]
[null,null,null,{"$f":"CONCATENATE(\"Liste \",RESULTATS!BI$59,\" \",RESULTATS!BI$60)","v":"Liste Florence LHOTE"},2,{"$f":"IF(E$12=0,0,E35/E$12)","v":5.5555555555555558E-3}]
[null,null,null,null,{"$f":"IF(SUM(E13:E35)<>E12,\"!!! FAUX\",\"\")","v":""}]
[null,null,null,"TOTAL  :",{"$f":"SUM(E13:E35)","v":360}]
[]
[null,null,null,null,null,"(1) Votants / Inscrits"]
[null,null,null,null,null,"(2) Nuls / Votants"]
[null,null,null,null,null,"(3) Exprimés / Inscrits"]
[null,null,null,null,null,"(4) Score / Exprimés"]

{"sheet":"A2","index":1,"n_rows":42,"n_cols":7,"rows_kept":42,"cut":false,"hidden":false,"merged":[]}
[]
[]
["A2","-","SALLE DES FÊTES (Place de la République)"]
[]
[]
[]
[null,null,null,"INSCRITS",934,"%"]
[null,null,null,"Émargements",476]
[null,null,null,"Votants (participation)",476,{"$f":"IF($E$7=0,0,E9/$E$7)","v":0.50963597430406848},"(1)"]
[null,null,null,"Blancs",7,{"$f":"IF($E$9=0,0,E10/$E$9)","v":1.4705882352941176E-2},"(2)"]
[null,null,null,"Nuls",10,{"$f":"IF($E$9=0,0,E11/$E$9)","v":2.100840336134454E-2},"(2)"]
[null,null,null,"Exprimés",459,{"$f":"IF($E$7=0,0,E12/$E$7)","v":0.49143468950749464},"(3)"]
[null,null,null,{"$f":"CONCATENATE(\"Liste \",RESULTATS!U$9,\" \",RESULTATS!U$10)","v":"Liste Nadine MORANO"},160,{"$f":"IF(E$12=0,0,E13/E$12)","v":0.34858387799564272},"(4)"]
[null,null,null,{"$f":"CONCATENATE(\"Liste \",RESULTATS!Y$9,\" \",RESULTATS!Y$10)","v":"Liste Joe LABAT"},0,0]
[null,null,null,{"$f":"CONCATENATE(\"Liste \",RESULTATS!AC$9,\" \",RESULTATS!AC$10)","v":"Liste Claire ROCHER"},5,1.0893246187363835E-2]
[null,null,null,{"$f":"CONCATENATE(\"Liste \",RESULTATS!AG$9,\" \",RESULTATS!AG$10)","v":"Liste Christian D'ANDLAU-HOMBOURG"},0,0]
[null,null,null,{"$f":"CONCATENATE(\"Liste \",RESULTATS!AK$9,\" \",RESULTATS!AK$10)","v":"Liste Edouard MARTIN"},60,0.13071895424836602]
[null,null,null,{"$f":"CONCATENATE(\"Liste \",RESULTATS!AO$9,\" \",RESULTATS!AO$10)","v":"Liste Gaël DIAFERIA"},0,0]
[null,null,null,{"$f":"CONCATENATE(\"Liste \",RESULTATS!AS$9,\" \",RESULTATS!AS$10)","v":"Liste Nathalie GRIESBECK"},53,0.11546840958605664]
[null,null,null,{"$f":"CONCATENATE(\"Liste \",RESULTATS!AW$9,\" \",RESULTATS!AW$10)","v":"Liste Julien GONZALEZ"},10,2.178649237472767E-2]
[null,null,null,{"$f":"CONCATENATE(\"Liste \",RESULTATS!BA$9,\" \",RESULTATS!BA$10)","v":"Liste Philippe COUKA"},0,0]
[null,null,null,{"$f":"CONCATENATE(\"Liste \",RESULTATS!BE$9,\" \",RESULTATS!BE$10)","v":"Liste Antoine RENARD"},6,1.3071895424836602E-2]
[null,null,null,{"$f":"CONCATENATE(\"Liste \",RESULTATS!BI$9,\" \",RESULTATS!BI$10)","v":"Liste Geneviève MARTIN"},0,0]
[null,null,null,{"$f":"CONCATENATE(\"Liste \",RESULTATS!BM$9,\" \",RESULTATS!BM$10)","v":"Liste Isabelle VÉRIN"},2,4.3572984749455342E-3]
[null,null,null,{"$f":"CONCATENATE(\"Liste \",RESULTATS!U$59,\" \",RESULTATS!U$60)","v":"Liste Xavier DESSAIGNE"},7,1.5250544662309368E-2]
[null,null,null,{"$f":"CONCATENATE(\"Liste \",RESULTATS!Y$59,\" \",RESULTATS!Y$60)","v":"Liste Sandrine PICO"},1,2.1786492374727671E-3]
[null,null,null,{"$f":"CONCATENATE(\"Liste \",RESULTATS!AC$59,\" \",RESULTATS!AC$60)","v":"Liste Florian PHILIPPOT"},66,0.1437908496732026]
[null,null,null,{"$f":"CONCATENATE(\"Liste \",RESULTATS!AG$59,\" \",RESULTATS!AG$60)","v":"Liste Sandrine BELIER"},32,6.9716775599128547E-2]
[null,null,null,{"$f":"CONCATENATE(\"Liste \",RESULTATS!AK$59,\" \",RESULTATS!AK$60)","v":"Liste Ismaël BOUDJEKADA"},0,0]
[null,null,null,{"$f":"CONCATENATE(\"Liste \",RESULTATS!AO$59,\" \",RESULTATS!AO$60)","v":"Liste Laure FERRARI"},16,3.4858387799564274E-2]
[null,null,null,{"$f":"CONCATENATE(\"Liste \",RESULTATS!AS$59,\" \",RESULTATS!AS$60)","v":"Liste Antonio SANCHEZ"},0,0]
[null,null,null,{"$f":"CONCATENATE(\"Liste \",RESULTATS!AW$59,\" \",RESULTATS!AW$60)","v":"Liste Isabelle MAURER"},7,{"$f":"IF(E$12=0,0,E32/E$12)","v":1.5250544662309368E-2}]
[null,null,null,{"$f":"CONCATENATE(\"Liste \",RESULTATS!BA$59,\" \",RESULTATS!BA$60)","v":"Liste Yannick HERVE"},2,{"$f":"IF(E$12=0,0,E33/E$12)","v":4.3572984749455342E-3}]
[null,null,null,{"$f":"CONCATENATE(\"Liste \",RESULTATS!BE$59,\" \",RESULTATS!BE$60)","v":"Liste Gabriel AMARD"},30,{"$f":"IF(E$12=0,0,E34/E$12)","v":6.535947712418301E-2}]
[null,null,null,{"$f":"CONCATENATE(\"Liste \",RESULTATS!BI$59,\" \",RESULTATS!BI$60)","v":"Liste Florence LHOTE"},2,{"$f":"IF(E$12=0,0,E35/E$12)","v":4.3572984749455342E-3}]
[null,null,null,null,{"$f":"IF(SUM(E13:E35)<>E12,\"!!! FAUX\",\"\")","v":""}]
[null,null,null,"TOTAL  :",{"$f":"SUM(E13:E35)","v":459}]
[]
[null,null,null,null,null,"(1) Votants / Inscrits"]
[null,null,null,null,null,"(2) Nuls / Votants"]
[null,null,null,null,null,"(3) Exprimés / Inscrits"]
[null,null,null,null,null,"(4) Score / Exprimés"]

{"sheet":"B1","index":2,"n_rows":42,"n_cols":7,"rows_kept":42,"cut":false,"hidden":false,"merged":[]}
[]
[]
["B1","-","GROUPE SCOLAIRE VICTOR HUGO (Faubourg de Montbéliard)"]
[]
[]
[]
[null,null,null,"INSCRITS",1068,"%"]
[null,null,null,"Émargements",434]
[null,null,null,"Votants (participation)",434,{"$f":"IF($E$7=0,0,E9/$E$7)","v":0.40636704119850187},"(1)"]
[null,null,null,"Blancs",4,{"$f":"IF($E$9=0,0,E10/$E$9)","v":9.2165898617511521E-3},"(2)"]
[null,null,null,"Nuls",3,{"$f":"IF($E$9=0,0,E11/$E$9)","v":6.9124423963133645E-3},"(2)"]
[null,null,null,"Exprimés",427,{"$f":"IF($E$7=0,0,E12/$E$7)","v":0.39981273408239698},"(3)"]
[null,null,null,{"$f":"CONCATENATE(\"Liste \",RESULTATS!U$9,\" \",RESULTATS!U$10)","v":"Liste Nadine MORANO"},121,{"$f":"IF(E$12=0,0,E13/E$12)","v":0.28337236533957844},"(4)"]
[null,null,null,{"$f":"CONCATENATE(\"Liste \",RESULTATS!Y$9,\" \",RESULTATS!Y$10)","v":"Liste Joe LABAT"},2,4.6838407494145199E-3]
[null,null,null,{"$f":"CONCATENATE(\"Liste \",RESULTATS!AC$9,\" \",RESULTATS!AC$10)","v":"Liste Claire ROCHER"},4,9.3676814988290398E-3]
[null,null,null,{"$f":"CONCATENATE(\"Liste \",RESULTATS!AG$9,\" \",RESULTATS!AG$10)","v":"Liste Christian D'ANDLAU-HOMBOURG"},1,2.34192037470726E-3]
[null,null,null,{"$f":"CONCATENATE(\"Liste \",RESULTATS!AK$9,\" \",RESULTATS!AK$10)","v":"Liste Edouard MARTIN"},74,0.17330210772833723]
[null,null,null,{"$f":"CONCATENATE(\"Liste \",RESULTATS!AO$9,\" \",RESULTATS!AO$10)","v":"Liste Gaël DIAFERIA"},0,0]
[null,null,null,{"$f":"CONCATENATE(\"Liste \",RESULTATS!AS$9,\" \",RESULTATS!AS$10)","v":"Liste Nathalie GRIESBECK"},61,0.14285714285714285]
[null,null,null,{"$f":"CONCATENATE(\"Liste \",RESULTATS!AW$9,\" \",RESULTATS!AW$10)","v":"Liste Julien GONZALEZ"},8,1.873536299765808E-2]
[null,null,null,{"$f":"CONCATENATE(\"Liste \",RESULTATS!BA$9,\" \",RESULTATS!BA$10)","v":"Liste Philippe COUKA"},0,0]
[null,null,null,{"$f":"CONCATENATE(\"Liste \",RESULTATS!BE$9,\" \",RESULTATS!BE$10)","v":"Liste Antoine RENARD"},2,4.6838407494145199E-3]
[null,null,null,{"$f":"CONCATENATE(\"Liste \",RESULTATS!BI$9,\" \",RESULTATS!BI$10)","v":"Liste Geneviève MARTIN"},1,2.34192037470726E-3]
[null,null,null,{"$f":"CONCATENATE(\"Liste \",RESULTATS!BM$9,\" \",RESULTATS!BM$10)","v":"Liste Isabelle VÉRIN"},1,2.34192037470726E-3]
[null,null,null,{"$f":"CONCATENATE(\"Liste \",RESULTATS!U$59,\" \",RESULTATS!U$60)","v":"Liste Xavier DESSAIGNE"},4,9.3676814988290398E-3]
[null,null,null,{"$f":"CONCATENATE(\"Liste \",RESULTATS!Y$59,\" \",RESULTATS!Y$60)","v":"Liste Sandrine PICO"},0,0]
[null,null,null,{"$f":"CONCATENATE(\"Liste \",RESULTATS!AC$59,\" \",RESULTATS!AC$60)","v":"Liste Florian PHILIPPOT"},57,0.13348946135831383]
[null,null,null,{"$f":"CONCATENATE(\"Liste \",RESULTATS!AG$59,\" \",RESULTATS!AG$60)","v":"Liste Sandrine BELIER"},33,7.7283372365339581E-2]
[null,null,null,{"$f":"CONCATENATE(\"Liste \",RESULTATS!AK$59,\" \",RESULTATS!AK$60)","v":"Liste Ismaël BOUDJEKADA"},0,0]
[null,null,null,{"$f":"CONCATENATE(\"Liste \",RESULTATS!AO$59,\" \",RESULTATS!AO$60)","v":"Liste Laure FERRARI"},16,3.7470725995316159E-2]
[null,null,null,{"$f":"CONCATENATE(\"Liste \",RESULTATS!AS$59,\" \",RESULTATS!AS$60)","v":"Liste Antonio SANCHEZ"},0,0]
[null,null,null,{"$f":"CONCATENATE(\"Liste \",RESULTATS!AW$59,\" \",RESULTATS!AW$60)","v":"Liste Isabelle MAURER"},9,{"$f":"IF(E$12=0,0,E32/E$12)","v":2.1077283372365339E-2}]
[null,null,null,{"$f":"CONCATENATE(\"Liste \",RESULTATS!BA$59,\" \",RESULTATS!BA$60)","v":"Liste Yannick HERVE"},6,{"$f":"IF(E$12=0,0,E33/E$12)","v":1.405152224824356E-2}]
[null,null,null,{"$f":"CONCATENATE(\"Liste \",RESULTATS!BE$59,\" \",RESULTATS!BE$60)","v":"Liste Gabriel AMARD"},25,{"$f":"IF(E$12=0,0,E34/E$12)","v":5.8548009367681501E-2}]
[null,null,null,{"$f":"CONCATENATE(\"Liste \",RESULTATS!BI$59,\" \",RESULTATS!BI$60)","v":"Liste Florence LHOTE"},2,{"$f":"IF(E$12=0,0,E35/E$12)","v":4.6838407494145199E-3}]
[null,null,null,null,{"$f":"IF(SUM(E13:E35)<>E12,\"!!! FAUX\",\"\")","v":""}]
[null,null,null,"TOTAL  :",{"$f":"SUM(E13:E35)","v":427}]
[]
[null,null,null,null,null,"(1) Votants / Inscrits"]
[null,null,null,null,null,"(2) Nuls / Votants"]
[null,null,null,null,null,"(3) Exprimés / Inscrits"]
[null,null,null,null,null,"(4) Score / Exprimés"]

{"sheet":"B2","index":3,"n_rows":42,"n_cols":7,"rows_kept":42,"cut":false,"hidden":false,"merged":[]}
[]
[]
["B2","-","GROUPE SCOLAIRE VICTOR HUGO (Faubourg de Montbéliard)"]
[]
[]
[]
[null,null,null,"INSCRITS",1149,"%"]
[null,null,null,"Émargements",524]
[null,null,null,"Votants (participation)",524,{"$f":"IF($E$7=0,0,E9/$E$7)","v":0.45604873803307222},"(1)"]
[null,null,null,"Blancs",1,{"$f":"IF($E$9=0,0,E10/$E$9)","v":1.9083969465648854E-3},"(2)"]
[null,null,null,"Nuls",7,{"$f":"IF($E$9=0,0,E11/$E$9)","v":1.3358778625954198E-2},"(2)"]
[null,null,null,"Exprimés",516,{"$f":"IF($E$7=0,0,E12/$E$7)","v":0.44908616187989558},"(3)"]
[null,null,null,{"$f":"CONCATENATE(\"Liste \",RESULTATS!U$9,\" \",RESULTATS!U$10)","v":"Liste Nadine MORANO"},145,{"$f":"IF(E$12=0,0,E13/E$12)","v":0.2810077519379845},"(4)"]
[null,null,null,{"$f":"CONCATENATE(\"Liste \",RESULTATS!Y$9,\" \",RESULTATS!Y$10)","v":"Liste Joe LABAT"},0,0]
[null,null,null,{"$f":"CONCATENATE(\"Liste \",RESULTATS!AC$9,\" \",RESULTATS!AC$10)","v":"Liste Claire ROCHER"},5,9.6899224806201549E-3]
[null,null,null,{"$f":"CONCATENATE(\"Liste \",RESULTATS!AG$9,\" \",RESULTATS!AG$10)","v":"Liste Christian D'ANDLAU-HOMBOURG"},1,1.937984496124031E-3]
[null,null,null,{"$f":"CONCATENATE(\"Liste \",RESULTATS!AK$9,\" \",RESULTATS!AK$10)","v":"Liste Edouard MARTIN"},66,0.12790697674418605]
[null,null,null,{"$f":"CONCATENATE(\"Liste \",RESULTATS!AO$9,\" \",RESULTATS!AO$10)","v":"Liste Gaël DIAFERIA"},4,7.7519379844961239E-3]
[null,null,null,{"$f":"CONCATENATE(\"Liste \",RESULTATS!AS$9,\" \",RESULTATS!AS$10)","v":"Liste Nathalie GRIESBECK"},64,0.12403100775193798]
[null,null,null,{"$f":"CONCATENATE(\"Liste \",RESULTATS!AW$9,\" \",RESULTATS!AW$10)","v":"Liste Julien GONZALEZ"},12,2.3255813953488372E-2]
[null,null,null,{"$f":"CONCATENATE(\"Liste \",RESULTATS!BA$9,\" \",RESULTATS!BA$10)","v":"Liste Philippe COUKA"},1,1.937984496124031E-3]
[null,null,null,{"$f":"CONCATENATE(\"Liste \",RESULTATS!BE$9,\" \",RESULTATS!BE$10)","v":"Liste Antoine RENARD"},10,1.937984496124031E-2]
[null,null,null,{"$f":"CONCATENATE(\"Liste \",RESULTATS!BI$9,\" \",RESULTATS!BI$10)","v":"Liste Geneviève MARTIN"},1,1.937984496124031E-3]
[null,null,null,{"$f":"CONCATENATE(\"Liste \",RESULTATS!BM$9,\" \",RESULTATS!BM$10)","v":"Liste Isabelle VÉRIN"},0,0]
[null,null,null,{"$f":"CONCATENATE(\"Liste \",RESULTATS!U$59,\" \",RESULTATS!U$60)","v":"Liste Xavier DESSAIGNE"},4,7.7519379844961239E-3]
[null,null,null,{"$f":"CONCATENATE(\"Liste \",RESULTATS!Y$59,\" \",RESULTATS!Y$60)","v":"Liste Sandrine PICO"},0,0]
[null,null,null,{"$f":"CONCATENATE(\"Liste \",RESULTATS!AC$59,\" \",RESULTATS!AC$60)","v":"Liste Florian PHILIPPOT"},86,0.16666666666666666]
[null,null,null,{"$f":"CONCATENATE(\"Liste \",RESULTATS!AG$59,\" \",RESULTATS!AG$60)","v":"Liste Sandrine BELIER"},59,0.11434108527131782]
[null,null,null,{"$f":"CONCATENATE(\"Liste \",RESULTATS!AK$59,\" \",RESULTATS!AK$60)","v":"Liste Ismaël BOUDJEKADA"},0,0]
[null,null,null,{"$f":"CONCATENATE(\"Liste \",RESULTATS!AO$59,\" \",RESULTATS!AO$60)","v":"Liste Laure FERRARI"},19,3.6821705426356592E-2]
[null,null,null,{"$f":"CONCATENATE(\"Liste \",RESULTATS!AS$59,\" \",RESULTATS!AS$60)","v":"Liste Antonio SANCHEZ"},0,0]
[null,null,null,{"$f":"CONCATENATE(\"Liste \",RESULTATS!AW$59,\" \",RESULTATS!AW$60)","v":"Liste Isabelle MAURER"},17,{"$f":"IF(E$12=0,0,E32/E$12)","v":3.294573643410853E-2}]
[null,null,null,{"$f":"CONCATENATE(\"Liste \",RESULTATS!BA$59,\" \",RESULTATS!BA$60)","v":"Liste Yannick HERVE"},1,{"$f":"IF(E$12=0,0,E33/E$12)","v":1.937984496124031E-3}]
[null,null,null,{"$f":"CONCATENATE(\"Liste \",RESULTATS!BE$59,\" \",RESULTATS!BE$60)","v":"Liste Gabriel AMARD"},20,{"$f":"IF(E$12=0,0,E34/E$12)","v":3.875968992248062E-2}]
[null,null,null,{"$f":"CONCATENATE(\"Liste \",RESULTATS!BI$59,\" \",RESULTATS!BI$60)","v":"Liste Florence LHOTE"},1,{"$f":"IF(E$12=0,0,E35/E$12)","v":1.937984496124031E-3}]
[null,null,null,null,{"$f":"IF(SUM(E13:E35)<>E12,\"!!! FAUX\",\"\")","v":""}]
[null,null,null,"TOTAL  :",{"$f":"SUM(E13:E35)","v":516}]
[]
[null,null,null,null,null,"(1) Votants / Inscrits"]
[null,null,null,null,null,"(2) Nuls / Votants"]
[null,null,null,null,null,"(3) Exprimés / Inscrits"]
[null,null,null,null,null,"(4) Score / Exprimés"]

{"sheet":"M1","index":4,"n_rows":42,"n_cols":7,"rows_kept":42,"cut":false,"hidden":false,"merged":[]}
[]
[]
["M1","-","ÉCOLE MATERNELLE SAINT-EXUPÉRY (Rue de la Paix)"]
[]
[]
[]
[null,null,null,"INSCRITS",1300,"%"]
[null,null,null,"Émargements",274]
[null,null,null,"Votants (participation)",274,{"$f":"IF($E$7=0,0,E9/$E$7)","v":0.21076923076923076},"(1)"]
[null,null,null,"Blancs",4,{"$f":"IF($E$9=0,0,E10/$E$9)","v":1.4598540145985401E-2},"(2)"]
[null,null,null,"Nuls",14,{"$f":"IF($E$9=0,0,E11/$E$9)","v":5.1094890510948905E-2},"(2)"]
[null,null,null,"Exprimés",256,{"$f":"IF($E$7=0,0,E12/$E$7)","v":0.19692307692307692},"(3)"]
[null,null,null,{"$f":"CONCATENATE(\"Liste \",RESULTATS!U$9,\" \",RESULTATS!U$10)","v":"Liste Nadine MORANO"},50,{"$f":"IF(E$12=0,0,E13/E$12)","v":0.1953125},"(4)"]
[null,null,null,{"$f":"CONCATENATE(\"Liste \",RESULTATS!Y$9,\" \",RESULTATS!Y$10)","v":"Liste Joe LABAT"},0,0]
[null,null,null,{"$f":"CONCATENATE(\"Liste \",RESULTATS!AC$9,\" \",RESULTATS!AC$10)","v":"Liste Claire ROCHER"},4,1.5625E-2]
[null,null,null,{"$f":"CONCATENATE(\"Liste \",RESULTATS!AG$9,\" \",RESULTATS!AG$10)","v":"Liste Christian D'ANDLAU-HOMBOURG"},1,3.90625E-3]
[null,null,null,{"$f":"CONCATENATE(\"Liste \",RESULTATS!AK$9,\" \",RESULTATS!AK$10)","v":"Liste Edouard MARTIN"},48,0.1875]
[null,null,null,{"$f":"CONCATENATE(\"Liste \",RESULTATS!AO$9,\" \",RESULTATS!AO$10)","v":"Liste Gaël DIAFERIA"},2,7.8125E-3]
[null,null,null,{"$f":"CONCATENATE(\"Liste \",RESULTATS!AS$9,\" \",RESULTATS!AS$10)","v":"Liste Nathalie GRIESBECK"},24,9.375E-2]
[null,null,null,{"$f":"CONCATENATE(\"Liste \",RESULTATS!AW$9,\" \",RESULTATS!AW$10)","v":"Liste Julien GONZALEZ"},4,1.5625E-2]
[null,null,null,{"$f":"CONCATENATE(\"Liste \",RESULTATS!BA$9,\" \",RESULTATS!BA$10)","v":"Liste Philippe COUKA"},0,0]
[null,null,null,{"$f":"CONCATENATE(\"Liste \",RESULTATS!BE$9,\" \",RESULTATS!BE$10)","v":"Liste Antoine RENARD"},1,3.90625E-3]
[null,null,null,{"$f":"CONCATENATE(\"Liste \",RESULTATS!BI$9,\" \",RESULTATS!BI$10)","v":"Liste Geneviève MARTIN"},1,3.90625E-3]
[null,null,null,{"$f":"CONCATENATE(\"Liste \",RESULTATS!BM$9,\" \",RESULTATS!BM$10)","v":"Liste Isabelle VÉRIN"},2,7.8125E-3]
[null,null,null,{"$f":"CONCATENATE(\"Liste \",RESULTATS!U$59,\" \",RESULTATS!U$60)","v":"Liste Xavier DESSAIGNE"},1,3.90625E-3]
[null,null,null,{"$f":"CONCATENATE(\"Liste \",RESULTATS!Y$59,\" \",RESULTATS!Y$60)","v":"Liste Sandrine PICO"},0,0]
[null,null,null,{"$f":"CONCATENATE(\"Liste \",RESULTATS!AC$59,\" \",RESULTATS!AC$60)","v":"Liste Florian PHILIPPOT"},63,0.24609375]
[null,null,null,{"$f":"CONCATENATE(\"Liste \",RESULTATS!AG$59,\" \",RESULTATS!AG$60)","v":"Liste Sandrine BELIER"},11,4.296875E-2]
[null,null,null,{"$f":"CONCATENATE(\"Liste \",RESULTATS!AK$59,\" \",RESULTATS!AK$60)","v":"Liste Ismaël BOUDJEKADA"},0,0]
[null,null,null,{"$f":"CONCATENATE(\"Liste \",RESULTATS!AO$59,\" \",RESULTATS!AO$60)","v":"Liste Laure FERRARI"},5,1.953125E-2]
[null,null,null,{"$f":"CONCATENATE(\"Liste \",RESULTATS!AS$59,\" \",RESULTATS!AS$60)","v":"Liste Antonio SANCHEZ"},0,0]
[null,null,null,{"$f":"CONCATENATE(\"Liste \",RESULTATS!AW$59,\" \",RESULTATS!AW$60)","v":"Liste Isabelle MAURER"},3,{"$f":"IF(E$12=0,0,E32/E$12)","v":1.171875E-2}]
[null,null,null,{"$f":"CONCATENATE(\"Liste \",RESULTATS!BA$59,\" \",RESULTATS!BA$60)","v":"Liste Yannick HERVE"},1,{"$f":"IF(E$12=0,0,E33/E$12)","v":3.90625E-3}]
[null,null,null,{"$f":"CONCATENATE(\"Liste \",RESULTATS!BE$59,\" \",RESULTATS!BE$60)","v":"Liste Gabriel AMARD"},33,{"$f":"IF(E$12=0,0,E34/E$12)","v":0.12890625}]
[null,null,null,{"$f":"CONCATENATE(\"Liste \",RESULTATS!BI$59,\" \",RESULTATS!BI$60)","v":"Liste Florence LHOTE"},2,{"$f":"IF(E$12=0,0,E35/E$12)","v":7.8125E-3}]
[null,null,null,null,{"$f":"IF(SUM(E13:E35)<>E12,\"!!! FAUX\",\"\")","v":""}]
[null,null,null,"TOTAL  :",{"$f":"SUM(E13:E35)","v":256}]
[]
[null,null,null,null,null,"(1) Votants / Inscrits"]
[null,null,null,null,null,"(2) Nuls / Votants"]
[null,null,null,null,null,"(3) Exprimés / Inscrits"]
[null,null,null,null,null,"(4) Score / Exprimés"]

{"sheet":"N1","index":5,"n_rows":42,"n_cols":7,"rows_kept":42,"cut":false,"hidden":false,"merged":[]}
[]
[]
["N1","-","ÉCOLE JEAN MOULIN (Rue Steiner)"]
[]
[]
[]
[null,null,null,"INSCRITS",1451,"%"]
[null,null,null,"Émargements",603]
[null,null,null,"Votants (participation)",603,{"$f":"IF($E$7=0,0,E9/$E$7)","v":0.41557546519641625},"(1)"]
[null,null,null,"Blancs",12,{"$f":"IF($E$9=0,0,E10/$E$9)","v":1.9900497512437811E-2},"(2)"]
[null,null,null,"Nuls",8,{"$f":"IF($E$9=0,0,E11/$E$9)","v":1.3266998341625208E-2},"(2)"]
[null,null,null,"Exprimés",583,{"$f":"IF($E$7=0,0,E12/$E$7)","v":0.40179186767746383},"(3)"]
[null,null,null,{"$f":"CONCATENATE(\"Liste \",RESULTATS!U$9,\" \",RESULTATS!U$10)","v":"Liste Nadine MORANO"},141,{"$f":"IF(E$12=0,0,E13/E$12)","v":0.241852487135506},"(4)"]
[null,null,null,{"$f":"CONCATENATE(\"Liste \",RESULTATS!Y$9,\" \",RESULTATS!Y$10)","v":"Liste Joe LABAT"},0,0]
[null,null,null,{"$f":"CONCATENATE(\"Liste \",RESULTATS!AC$9,\" \",RESULTATS!AC$10)","v":"Liste Claire ROCHER"},4,6.8610634648370496E-3]
[null,null,null,{"$f":"CONCATENATE(\"Liste \",RESULTATS!AG$9,\" \",RESULTATS!AG$10)","v":"Liste Christian D'ANDLAU-HOMBOURG"},1,1.7152658662092624E-3]
[null,null,null,{"$f":"CONCATENATE(\"Liste \",RESULTATS!AK$9,\" \",RESULTATS!AK$10)","v":"Liste Edouard MARTIN"},78,0.13379073756432247]
[null,null,null,{"$f":"CONCATENATE(\"Liste \",RESULTATS!AO$9,\" \",RESULTATS!AO$10)","v":"Liste Gaël DIAFERIA"},4,6.8610634648370496E-3]
[null,null,null,{"$f":"CONCATENATE(\"Liste \",RESULTATS!AS$9,\" \",RESULTATS!AS$10)","v":"Liste Nathalie GRIESBECK"},62,0.10634648370497427]
[null,null,null,{"$f":"CONCATENATE(\"Liste \",RESULTATS!AW$9,\" \",RESULTATS!AW$10)","v":"Liste Julien GONZALEZ"},13,2.2298456260720412E-2]
[null,null,null,{"$f":"CONCATENATE(\"Liste \",RESULTATS!BA$9,\" \",RESULTATS!BA$10)","v":"Liste Philippe COUKA"},2,3.4305317324185248E-3]
[null,null,null,{"$f":"CONCATENATE(\"Liste \",RESULTATS!BE$9,\" \",RESULTATS!BE$10)","v":"Liste Antoine RENARD"},3,5.1457975986277877E-3]
[null,null,null,{"$f":"CONCATENATE(\"Liste \",RESULTATS!BI$9,\" \",RESULTATS!BI$10)","v":"Liste Geneviève MARTIN"},0,0]
[null,null,null,{"$f":"CONCATENATE(\"Liste \",RESULTATS!BM$9,\" \",RESULTATS!BM$10)","v":"Liste Isabelle VÉRIN"},3,5.1457975986277877E-3]
[null,null,null,{"$f":"CONCATENATE(\"Liste \",RESULTATS!U$59,\" \",RESULTATS!U$60)","v":"Liste Xavier DESSAIGNE"},6,1.0291595197255575E-2]
[null,null,null,{"$f":"CONCATENATE(\"Liste \",RESULTATS!Y$59,\" \",RESULTATS!Y$60)","v":"Liste Sandrine PICO"},0,0]
[null,null,null,{"$f":"CONCATENATE(\"Liste \",RESULTATS!AC$59,\" \",RESULTATS!AC$60)","v":"Liste Florian PHILIPPOT"},149,0.25557461406518012]
[null,null,null,{"$f":"CONCATENATE(\"Liste \",RESULTATS!AG$59,\" \",RESULTATS!AG$60)","v":"Liste Sandrine BELIER"},46,7.8902229845626073E-2]
[null,null,null,{"$f":"CONCATENATE(\"Liste \",RESULTATS!AK$59,\" \",RESULTATS!AK$60)","v":"Liste Ismaël BOUDJEKADA"},0,0]
[null,null,null,{"$f":"CONCATENATE(\"Liste \",RESULTATS!AO$59,\" \",RESULTATS!AO$60)","v":"Liste Laure FERRARI"},19,3.2590051457975985E-2]
[null,null,null,{"$f":"CONCATENATE(\"Liste \",RESULTATS!AS$59,\" \",RESULTATS!AS$60)","v":"Liste Antonio SANCHEZ"},0,0]
[null,null,null,{"$f":"CONCATENATE(\"Liste \",RESULTATS!AW$59,\" \",RESULTATS!AW$60)","v":"Liste Isabelle MAURER"},13,{"$f":"IF(E$12=0,0,E32/E$12)","v":2.2298456260720412E-2}]
[null,null,null,{"$f":"CONCATENATE(\"Liste \",RESULTATS!BA$59,\" \",RESULTATS!BA$60)","v":"Liste Yannick HERVE"},2,{"$f":"IF(E$12=0,0,E33/E$12)","v":3.4305317324185248E-3}]
[null,null,null,{"$f":"CONCATENATE(\"Liste \",RESULTATS!BE$59,\" \",RESULTATS!BE$60)","v":"Liste Gabriel AMARD"},34,{"$f":"IF(E$12=0,0,E34/E$12)","v":5.8319039451114926E-2}]
[null,null,null,{"$f":"CONCATENATE(\"Liste \",RESULTATS!BI$59,\" \",RESULTATS!BI$60)","v":"Liste Florence LHOTE"},3,{"$f":"IF(E$12=0,0,E35/E$12)","v":5.1457975986277877E-3}]
[null,null,null,null,{"$f":"IF(SUM(E13:E35)<>E12,\"!!! FAUX\",\"\")","v":""}]
[null,null,null,"TOTAL  :",{"$f":"SUM(E13:E35)","v":583}]
[]
[null,null,null,null,null,"(1) Votants / Inscrits"]
[null,null,null,null,null,"(2) Nuls / Votants"]
[null,null,null,null,null,"(3) Exprimés / Inscrits"]
[null,null,null,null,null,"(4) Score / Exprimés"]

{"sheet":"N2","index":6,"n_rows":42,"n_cols":7,"rows_kept":42,"cut":false,"hidden":false,"merged":[]}
[]
[]
["N2","-","CITÉ DES ASSOCIATIONS (Rue Jean Pierre Melville)"]
[]
[]
[]
[null,null,null,"INSCRITS",899,"%"]
[null,null,null,"Émargements",409]
[null,null,null,"Votants (participation)",409,{"$f":"IF($E$7=0,0,E9/$E$7)","v":0.45494994438264741},"(1)"]
[null,null,null,"Blancs",12,{"$f":"IF($E$9=0,0,E10/$E$9)","v":2.9339853300733496E-2},"(2)"]
[null,null,null,"Nuls",7,{"$f":"IF($E$9=0,0,E11/$E$9)","v":1.7114914425427872E-2},"(2)"]
[null,null,null,"Exprimés",390,{"$f":"IF($E$7=0,0,E12/$E$7)","v":0.43381535038932145},"(3)"]
[null,null,null,{"$f":"CONCATENATE(\"Liste \",RESULTATS!U$9,\" \",RESULTATS!U$10)","v":"Liste Nadine MORANO"},70,{"$f":"IF(E$12=0,0,E13/E$12)","v":0.17948717948717949},"(4)"]
[null,null,null,{"$f":"CONCATENATE(\"Liste \",RESULTATS!Y$9,\" \",RESULTATS!Y$10)","v":"Liste Joe LABAT"},2,5.1282051282051282E-3]
[null,null,null,{"$f":"CONCATENATE(\"Liste \",RESULTATS!AC$9,\" \",RESULTATS!AC$10)","v":"Liste Claire ROCHER"},6,1.5384615384615385E-2]
[null,null,null,{"$f":"CONCATENATE(\"Liste \",RESULTATS!AG$9,\" \",RESULTATS!AG$10)","v":"Liste Christian D'ANDLAU-HOMBOURG"},0,0]
[null,null,null,{"$f":"CONCATENATE(\"Liste \",RESULTATS!AK$9,\" \",RESULTATS!AK$10)","v":"Liste Edouard MARTIN"},83,0.21282051282051281]
[null,null,null,{"$f":"CONCATENATE(\"Liste \",RESULTATS!AO$9,\" \",RESULTATS!AO$10)","v":"Liste Gaël DIAFERIA"},1,2.5641025641025641E-3]
[null,null,null,{"$f":"CONCATENATE(\"Liste \",RESULTATS!AS$9,\" \",RESULTATS!AS$10)","v":"Liste Nathalie GRIESBECK"},47,0.12051282051282051]
[null,null,null,{"$f":"CONCATENATE(\"Liste \",RESULTATS!AW$9,\" \",RESULTATS!AW$10)","v":"Liste Julien GONZALEZ"},6,1.5384615384615385E-2]
[null,null,null,{"$f":"CONCATENATE(\"Liste \",RESULTATS!BA$9,\" \",RESULTATS!BA$10)","v":"Liste Philippe COUKA"},0,0]
[null,null,null,{"$f":"CONCATENATE(\"Liste \",RESULTATS!BE$9,\" \",RESULTATS!BE$10)","v":"Liste Antoine RENARD"},2,5.1282051282051282E-3]
[null,null,null,{"$f":"CONCATENATE(\"Liste \",RESULTATS!BI$9,\" \",RESULTATS!BI$10)","v":"Liste Geneviève MARTIN"},2,5.1282051282051282E-3]
[null,null,null,{"$f":"CONCATENATE(\"Liste \",RESULTATS!BM$9,\" \",RESULTATS!BM$10)","v":"Liste Isabelle VÉRIN"},2,5.1282051282051282E-3]
[null,null,null,{"$f":"CONCATENATE(\"Liste \",RESULTATS!U$59,\" \",RESULTATS!U$60)","v":"Liste Xavier DESSAIGNE"},6,1.5384615384615385E-2]
[null,null,null,{"$f":"CONCATENATE(\"Liste \",RESULTATS!Y$59,\" \",RESULTATS!Y$60)","v":"Liste Sandrine PICO"},0,0]
[null,null,null,{"$f":"CONCATENATE(\"Liste \",RESULTATS!AC$59,\" \",RESULTATS!AC$60)","v":"Liste Florian PHILIPPOT"},83,0.21282051282051281]
[null,null,null,{"$f":"CONCATENATE(\"Liste \",RESULTATS!AG$59,\" \",RESULTATS!AG$60)","v":"Liste Sandrine BELIER"},38,9.7435897435897437E-2]
[null,null,null,{"$f":"CONCATENATE(\"Liste \",RESULTATS!AK$59,\" \",RESULTATS!AK$60)","v":"Liste Ismaël BOUDJEKADA"},0,0]
[null,null,null,{"$f":"CONCATENATE(\"Liste \",RESULTATS!AO$59,\" \",RESULTATS!AO$60)","v":"Liste Laure FERRARI"},8,2.0512820512820513E-2]
[null,null,null,{"$f":"CONCATENATE(\"Liste \",RESULTATS!AS$59,\" \",RESULTATS!AS$60)","v":"Liste Antonio SANCHEZ"},0,0]
[null,null,null,{"$f":"CONCATENATE(\"Liste \",RESULTATS!AW$59,\" \",RESULTATS!AW$60)","v":"Liste Isabelle MAURER"},8,{"$f":"IF(E$12=0,0,E32/E$12)","v":2.0512820512820513E-2}]
[null,null,null,{"$f":"CONCATENATE(\"Liste \",RESULTATS!BA$59,\" \",RESULTATS!BA$60)","v":"Liste Yannick HERVE"},3,{"$f":"IF(E$12=0,0,E33/E$12)","v":7.6923076923076927E-3}]
[null,null,null,{"$f":"CONCATENATE(\"Liste \",RESULTATS!BE$59,\" \",RESULTATS!BE$60)","v":"Liste Gabriel AMARD"},23,{"$f":"IF(E$12=0,0,E34/E$12)","v":5.8974358974358973E-2}]
[null,null,null,{"$f":"CONCATENATE(\"Liste \",RESULTATS!BI$59,\" \",RESULTATS!BI$60)","v":"Liste Florence LHOTE"},0,{"$f":"IF(E$12=0,0,E35/E$12)","v":0}]
[null,null,null,null,{"$f":"IF(SUM(E13:E35)<>E12,\"!!! FAUX\",\"\")","v":""}]
[null,null,null,"TOTAL  :",{"$f":"SUM(E13:E35)","v":390}]
[]
[null,null,null,null,null,"(1) Votants / Inscrits"]
[null,null,null,null,null,"(2) Nuls / Votants"]
[null,null,null,null,null,"(3) Exprimés / Inscrits"]
[null,null,null,null,null,"(4) Score / Exprimés"]

{"sheet":"C1","index":7,"n_rows":42,"n_cols":7,"rows_kept":42,"cut":false,"hidden":false,"merged":[]}
[]
[]
["C1","-","ÉCOLE VICTOR SCHOELCHER (Rue Gaston Deferre)"]
[]
[]
[]
[null,null,null,"INSCRITS",1194,"%"]
[null,null,null,"Émargements",487]
[null,null,null,"Votants (participation)",487,{"$f":"IF($E$7=0,0,E9/$E$7)","v":0.40787269681742044},"(1)"]
[null,null,null,"Blancs",8,{"$f":"IF($E$9=0,0,E10/$E$9)","v":1.6427104722792608E-2},"(2)"]
[null,null,null,"Nuls",4,{"$f":"IF($E$9=0,0,E11/$E$9)","v":8.2135523613963042E-3},"(2)"]
[null,null,null,"Exprimés",475,{"$f":"IF($E$7=0,0,E12/$E$7)","v":0.39782244556113905},"(3)"]
[null,null,null,{"$f":"CONCATENATE(\"Liste \",RESULTATS!U$9,\" \",RESULTATS!U$10)","v":"Liste Nadine MORANO"},127,{"$f":"IF(E$12=0,0,E13/E$12)","v":0.26736842105263159},"(4)"]
[null,null,null,{"$f":"CONCATENATE(\"Liste \",RESULTATS!Y$9,\" \",RESULTATS!Y$10)","v":"Liste Joe LABAT"},2,4.2105263157894736E-3]
[null,null,null,{"$f":"CONCATENATE(\"Liste \",RESULTATS!AC$9,\" \",RESULTATS!AC$10)","v":"Liste Claire ROCHER"},4,8.4210526315789472E-3]
[null,null,null,{"$f":"CONCATENATE(\"Liste \",RESULTATS!AG$9,\" \",RESULTATS!AG$10)","v":"Liste Christian D'ANDLAU-HOMBOURG"},1,2.1052631578947368E-3]
[null,null,null,{"$f":"CONCATENATE(\"Liste \",RESULTATS!AK$9,\" \",RESULTATS!AK$10)","v":"Liste Edouard MARTIN"},86,0.18105263157894738]
[null,null,null,{"$f":"CONCATENATE(\"Liste \",RESULTATS!AO$9,\" \",RESULTATS!AO$10)","v":"Liste Gaël DIAFERIA"},2,4.2105263157894736E-3]
[null,null,null,{"$f":"CONCATENATE(\"Liste \",RESULTATS!AS$9,\" \",RESULTATS!AS$10)","v":"Liste Nathalie GRIESBECK"},56,0.11789473684210526]
[null,null,null,{"$f":"CONCATENATE(\"Liste \",RESULTATS!AW$9,\" \",RESULTATS!AW$10)","v":"Liste Julien GONZALEZ"},10,2.1052631578947368E-2]
[null,null,null,{"$f":"CONCATENATE(\"Liste \",RESULTATS!BA$9,\" \",RESULTATS!BA$10)","v":"Liste Philippe COUKA"},0,0]
[null,null,null,{"$f":"CONCATENATE(\"Liste \",RESULTATS!BE$9,\" \",RESULTATS!BE$10)","v":"Liste Antoine RENARD"},4,8.4210526315789472E-3]
[null,null,null,{"$f":"CONCATENATE(\"Liste \",RESULTATS!BI$9,\" \",RESULTATS!BI$10)","v":"Liste Geneviève MARTIN"},0,0]
[null,null,null,{"$f":"CONCATENATE(\"Liste \",RESULTATS!BM$9,\" \",RESULTATS!BM$10)","v":"Liste Isabelle VÉRIN"},3,6.3157894736842104E-3]
[null,null,null,{"$f":"CONCATENATE(\"Liste \",RESULTATS!U$59,\" \",RESULTATS!U$60)","v":"Liste Xavier DESSAIGNE"},1,2.1052631578947368E-3]
[null,null,null,{"$f":"CONCATENATE(\"Liste \",RESULTATS!Y$59,\" \",RESULTATS!Y$60)","v":"Liste Sandrine PICO"},0,0]
[null,null,null,{"$f":"CONCATENATE(\"Liste \",RESULTATS!AC$59,\" \",RESULTATS!AC$60)","v":"Liste Florian PHILIPPOT"},89,0.18736842105263157]
[null,null,null,{"$f":"CONCATENATE(\"Liste \",RESULTATS!AG$59,\" \",RESULTATS!AG$60)","v":"Liste Sandrine BELIER"},37,7.7894736842105267E-2]
[null,null,null,{"$f":"CONCATENATE(\"Liste \",RESULTATS!AK$59,\" \",RESULTATS!AK$60)","v":"Liste Ismaël BOUDJEKADA"},0,0]
[null,null,null,{"$f":"CONCATENATE(\"Liste \",RESULTATS!AO$59,\" \",RESULTATS!AO$60)","v":"Liste Laure FERRARI"},19,0.04]
[null,null,null,{"$f":"CONCATENATE(\"Liste \",RESULTATS!AS$59,\" \",RESULTATS!AS$60)","v":"Liste Antonio SANCHEZ"},0,0]
[null,null,null,{"$f":"CONCATENATE(\"Liste \",RESULTATS!AW$59,\" \",RESULTATS!AW$60)","v":"Liste Isabelle MAURER"},11,{"$f":"IF(E$12=0,0,E32/E$12)","v":2.3157894736842106E-2}]
[null,null,null,{"$f":"CONCATENATE(\"Liste \",RESULTATS!BA$59,\" \",RESULTATS!BA$60)","v":"Liste Yannick HERVE"},4,{"$f":"IF(E$12=0,0,E33/E$12)","v":8.4210526315789472E-3}]
[null,null,null,{"$f":"CONCATENATE(\"Liste \",RESULTATS!BE$59,\" \",RESULTATS!BE$60)","v":"Liste Gabriel AMARD"},18,{"$f":"IF(E$12=0,0,E34/E$12)","v":3.7894736842105266E-2}]
[null,null,null,{"$f":"CONCATENATE(\"Liste \",RESULTATS!BI$59,\" \",RESULTATS!BI$60)","v":"Liste Florence LHOTE"},1,{"$f":"IF(E$12=0,0,E35/E$12)","v":2.1052631578947368E-3}]
[null,null,null,null,{"$f":"IF(SUM(E13:E35)<>E12,\"!!! FAUX\",\"\")","v":""}]
[null,null,null,"TOTAL  :",{"$f":"SUM(E13:E35)","v":475}]
[]
[null,null,null,null,null,"(1) Votants / Inscrits"]
[null,null,null,null,null,"(2) Nuls / Votants"]
[null,null,null,null,null,"(3) Exprimés / Inscrits"]
[null,null,null,null,null,"(4) Score / Exprimés"]

{"sheet":"C2","index":8,"n_rows":42,"n_cols":7,"rows_kept":42,"cut":false,"hidden":false,"merged":[]}
[]
[]
["C2","-","MAISON DU PEUPLE (Place de la Résistance)"]
[]
[]
[]
[null,null,null,"INSCRITS",749,"%"]
[null,null,null,"Émargements",359]
[null,null,null,"Votants (participation)",359,{"$f":"IF($E$7=0,0,E9/$E$7)","v":0.47930574098798395},"(1)"]
[null,null,null,"Blancs",4,{"$f":"IF($E$9=0,0,E10/$E$9)","v":1.1142061281337047E-2},"(2)"]
[null,null,null,"Nuls",8,{"$f":"IF($E$9=0,0,E11/$E$9)","v":2.2284122562674095E-2},"(2)"]
[null,null,null,"Exprimés",347,{"$f":"IF($E$7=0,0,E12/$E$7)","v":0.46328437917222964},"(3)"]
[null,null,null,{"$f":"CONCATENATE(\"Liste \",RESULTATS!U$9,\" \",RESULTATS!U$10)","v":"Liste Nadine MORANO"},108,{"$f":"IF(E$12=0,0,E13/E$12)","v":0.31123919308357351},"(4)"]
[null,null,null,{"$f":"CONCATENATE(\"Liste \",RESULTATS!Y$9,\" \",RESULTATS!Y$10)","v":"Liste Joe LABAT"},0,0]
[null,null,null,{"$f":"CONCATENATE(\"Liste \",RESULTATS!AC$9,\" \",RESULTATS!AC$10)","v":"Liste Claire ROCHER"},2,5.763688760806916E-3]
[null,null,null,{"$f":"CONCATENATE(\"Liste \",RESULTATS!AG$9,\" \",RESULTATS!AG$10)","v":"Liste Christian D'ANDLAU-HOMBOURG"},0,0]
[null,null,null,{"$f":"CONCATENATE(\"Liste \",RESULTATS!AK$9,\" \",RESULTATS!AK$10)","v":"Liste Edouard MARTIN"},52,0.14985590778097982]
[null,null,null,{"$f":"CONCATENATE(\"Liste \",RESULTATS!AO$9,\" \",RESULTATS!AO$10)","v":"Liste Gaël DIAFERIA"},2,5.763688760806916E-3]
[null,null,null,{"$f":"CONCATENATE(\"Liste \",RESULTATS!AS$9,\" \",RESULTATS!AS$10)","v":"Liste Nathalie GRIESBECK"},33,9.5100864553314124E-2]
[null,null,null,{"$f":"CONCATENATE(\"Liste \",RESULTATS!AW$9,\" \",RESULTATS!AW$10)","v":"Liste Julien GONZALEZ"},7,2.0172910662824207E-2]
[null,null,null,{"$f":"CONCATENATE(\"Liste \",RESULTATS!BA$9,\" \",RESULTATS!BA$10)","v":"Liste Philippe COUKA"},1,2.881844380403458E-3]
[null,null,null,{"$f":"CONCATENATE(\"Liste \",RESULTATS!BE$9,\" \",RESULTATS!BE$10)","v":"Liste Antoine RENARD"},1,2.881844380403458E-3]
[null,null,null,{"$f":"CONCATENATE(\"Liste \",RESULTATS!BI$9,\" \",RESULTATS!BI$10)","v":"Liste Geneviève MARTIN"},1,2.881844380403458E-3]
[null,null,null,{"$f":"CONCATENATE(\"Liste \",RESULTATS!BM$9,\" \",RESULTATS!BM$10)","v":"Liste Isabelle VÉRIN"},1,2.881844380403458E-3]
[null,null,null,{"$f":"CONCATENATE(\"Liste \",RESULTATS!U$59,\" \",RESULTATS!U$60)","v":"Liste Xavier DESSAIGNE"},6,1.7291066282420751E-2]
[null,null,null,{"$f":"CONCATENATE(\"Liste \",RESULTATS!Y$59,\" \",RESULTATS!Y$60)","v":"Liste Sandrine PICO"},0,0]
[null,null,null,{"$f":"CONCATENATE(\"Liste \",RESULTATS!AC$59,\" \",RESULTATS!AC$60)","v":"Liste Florian PHILIPPOT"},57,0.16426512968299711]
[null,null,null,{"$f":"CONCATENATE(\"Liste \",RESULTATS!AG$59,\" \",RESULTATS!AG$60)","v":"Liste Sandrine BELIER"},23,6.6282420749279536E-2]
[null,null,null,{"$f":"CONCATENATE(\"Liste \",RESULTATS!AK$59,\" \",RESULTATS!AK$60)","v":"Liste Ismaël BOUDJEKADA"},0,0]
[null,null,null,{"$f":"CONCATENATE(\"Liste \",RESULTATS!AO$59,\" \",RESULTATS!AO$60)","v":"Liste Laure FERRARI"},17,4.8991354466858789E-2]
[null,null,null,{"$f":"CONCATENATE(\"Liste \",RESULTATS!AS$59,\" \",RESULTATS!AS$60)","v":"Liste Antonio SANCHEZ"},0,0]
[null,null,null,{"$f":"CONCATENATE(\"Liste \",RESULTATS!AW$59,\" \",RESULTATS!AW$60)","v":"Liste Isabelle MAURER"},12,{"$f":"IF(E$12=0,0,E32/E$12)","v":3.4582132564841501E-2}]
[null,null,null,{"$f":"CONCATENATE(\"Liste \",RESULTATS!BA$59,\" \",RESULTATS!BA$60)","v":"Liste Yannick HERVE"},0,{"$f":"IF(E$12=0,0,E33/E$12)","v":0}]
[null,null,null,{"$f":"CONCATENATE(\"Liste \",RESULTATS!BE$59,\" \",RESULTATS!BE$60)","v":"Liste Gabriel AMARD"},20,{"$f":"IF(E$12=0,0,E34/E$12)","v":5.7636887608069162E-2}]
[null,null,null,{"$f":"CONCATENATE(\"Liste \",RESULTATS!BI$59,\" \",RESULTATS!BI$60)","v":"Liste Florence LHOTE"},4,{"$f":"IF(E$12=0,0,E35/E$12)","v":1.1527377521613832E-2}]
[null,null,null,null,{"$f":"IF(SUM(E13:E35)<>E12,\"!!! FAUX\",\"\")","v":""}]
[null,null,null,"TOTAL  :",{"$f":"SUM(E13:E35)","v":347}]
[]
[null,null,null,null,null,"(1) Votants / Inscrits"]
[null,null,null,null,null,"(2) Nuls / Votants"]
[null,null,null,null,null,"(3) Exprimés / Inscrits"]
[null,null,null,null,null,"(4) Score / Exprimés"]

{"sheet":"C3","index":9,"n_rows":42,"n_cols":7,"rows_kept":42,"cut":false,"hidden":false,"merged":[]}
[]
[]
["C3","-","MAISON DU PEUPLE (Place de la Résistance)"]
[]
[]
[]
[null,null,null,"INSCRITS",909,"%"]
[null,null,null,"Émargements",426]
[null,null,null,"Votants (participation)",426,{"$f":"IF($E$7=0,0,E9/$E$7)","v":0.46864686468646866},"(1)"]
[null,null,null,"Blancs",6,{"$f":"IF($E$9=0,0,E10/$E$9)","v":1.4084507042253521E-2},"(2)"]
[null,null,null,"Nuls",5,{"$f":"IF($E$9=0,0,E11/$E$9)","v":1.1737089201877934E-2},"(2)"]
[null,null,null,"Exprimés",415,{"$f":"IF($E$7=0,0,E12/$E$7)","v":0.45654565456545654},"(3)"]
[null,null,null,{"$f":"CONCATENATE(\"Liste \",RESULTATS!U$9,\" \",RESULTATS!U$10)","v":"Liste Nadine MORANO"},148,{"$f":"IF(E$12=0,0,E13/E$12)","v":0.3566265060240964},"(4)"]
[null,null,null,{"$f":"CONCATENATE(\"Liste \",RESULTATS!Y$9,\" \",RESULTATS!Y$10)","v":"Liste Joe LABAT"},1,2.4096385542168677E-3]
[null,null,null,{"$f":"CONCATENATE(\"Liste \",RESULTATS!AC$9,\" \",RESULTATS!AC$10)","v":"Liste Claire ROCHER"},2,4.8192771084337354E-3]
[null,null,null,{"$f":"CONCATENATE(\"Liste \",RESULTATS!AG$9,\" \",RESULTATS!AG$10)","v":"Liste Christian D'ANDLAU-HOMBOURG"},0,0]
[null,null,null,{"$f":"CONCATENATE(\"Liste \",RESULTATS!AK$9,\" \",RESULTATS!AK$10)","v":"Liste Edouard MARTIN"},65,0.15662650602409639]
[null,null,null,{"$f":"CONCATENATE(\"Liste \",RESULTATS!AO$9,\" \",RESULTATS!AO$10)","v":"Liste Gaël DIAFERIA"},2,4.8192771084337354E-3]
[null,null,null,{"$f":"CONCATENATE(\"Liste \",RESULTATS!AS$9,\" \",RESULTATS!AS$10)","v":"Liste Nathalie GRIESBECK"},39,9.3975903614457831E-2]
[null,null,null,{"$f":"CONCATENATE(\"Liste \",RESULTATS!AW$9,\" \",RESULTATS!AW$10)","v":"Liste Julien GONZALEZ"},7,1.6867469879518072E-2]
[null,null,null,{"$f":"CONCATENATE(\"Liste \",RESULTATS!BA$9,\" \",RESULTATS!BA$10)","v":"Liste Philippe COUKA"},0,0]
[null,null,null,{"$f":"CONCATENATE(\"Liste \",RESULTATS!BE$9,\" \",RESULTATS!BE$10)","v":"Liste Antoine RENARD"},3,7.2289156626506026E-3]
[null,null,null,{"$f":"CONCATENATE(\"Liste \",RESULTATS!BI$9,\" \",RESULTATS!BI$10)","v":"Liste Geneviève MARTIN"},1,2.4096385542168677E-3]
[null,null,null,{"$f":"CONCATENATE(\"Liste \",RESULTATS!BM$9,\" \",RESULTATS!BM$10)","v":"Liste Isabelle VÉRIN"},3,7.2289156626506026E-3]
[null,null,null,{"$f":"CONCATENATE(\"Liste \",RESULTATS!U$59,\" \",RESULTATS!U$60)","v":"Liste Xavier DESSAIGNE"},6,1.4457831325301205E-2]
[null,null,null,{"$f":"CONCATENATE(\"Liste \",RESULTATS!Y$59,\" \",RESULTATS!Y$60)","v":"Liste Sandrine PICO"},0,0]
[null,null,null,{"$f":"CONCATENATE(\"Liste \",RESULTATS!AC$59,\" \",RESULTATS!AC$60)","v":"Liste Florian PHILIPPOT"},66,0.15903614457831325]
[null,null,null,{"$f":"CONCATENATE(\"Liste \",RESULTATS!AG$59,\" \",RESULTATS!AG$60)","v":"Liste Sandrine BELIER"},36,8.6746987951807228E-2]
[null,null,null,{"$f":"CONCATENATE(\"Liste \",RESULTATS!AK$59,\" \",RESULTATS!AK$60)","v":"Liste Ismaël BOUDJEKADA"},0,0]
[null,null,null,{"$f":"CONCATENATE(\"Liste \",RESULTATS!AO$59,\" \",RESULTATS!AO$60)","v":"Liste Laure FERRARI"},9,2.1686746987951807E-2]
[null,null,null,{"$f":"CONCATENATE(\"Liste \",RESULTATS!AS$59,\" \",RESULTATS!AS$60)","v":"Liste Antonio SANCHEZ"},0,0]
[null,null,null,{"$f":"CONCATENATE(\"Liste \",RESULTATS!AW$59,\" \",RESULTATS!AW$60)","v":"Liste Isabelle MAURER"},10,{"$f":"IF(E$12=0,0,E32/E$12)","v":2.4096385542168676E-2}]
[null,null,null,{"$f":"CONCATENATE(\"Liste \",RESULTATS!BA$59,\" \",RESULTATS!BA$60)","v":"Liste Yannick HERVE"},0,{"$f":"IF(E$12=0,0,E33/E$12)","v":0}]
[null,null,null,{"$f":"CONCATENATE(\"Liste \",RESULTATS!BE$59,\" \",RESULTATS!BE$60)","v":"Liste Gabriel AMARD"},16,{"$f":"IF(E$12=0,0,E34/E$12)","v":3.8554216867469883E-2}]
[null,null,null,{"$f":"CONCATENATE(\"Liste \",RESULTATS!BI$59,\" \",RESULTATS!BI$60)","v":"Liste Florence LHOTE"},1,{"$f":"IF(E$12=0,0,E35/E$12)","v":2.4096385542168677E-3}]
[null,null,null,null,{"$f":"IF(SUM(E13:E35)<>E12,\"!!! FAUX\",\"\")","v":""}]
[null,null,null,"TOTAL  :",{"$f":"SUM(E13:E35)","v":415}]
[]
[null,null,null,null,null,"(1) Votants / Inscrits"]
[null,null,null,null,null,"(2) Nuls / Votants"]
[null,null,null,null,null,"(3) Exprimés / Inscrits"]
[null,null,null,null,null,"(4) Score / Exprimés"]

{"sheet":"D1","index":10,"n_rows":42,"n_cols":7,"rows_kept":42,"cut":false,"hidden":false,"merged":[]}
[]
[]
["D1","-","GROUPE SCOLAIRE CHÂTEAUDUN (Rue de Châteaudun)"]
[]
[]
[]
[null,null,null,"INSCRITS",1058,"%"]
[null,null,null,"Émargements",444]
[null,null,null,"Votants (participation)",444,{"$f":"IF($E$7=0,0,E9/$E$7)","v":0.41965973534971646},"(1)"]
[null,null,null,"Blancs",6,{"$f":"IF($E$9=0,0,E10/$E$9)","v":1.3513513513513514E-2},"(2)"]
[null,null,null,"Nuls",7,{"$f":"IF($E$9=0,0,E11/$E$9)","v":1.5765765765765764E-2},"(2)"]
[null,null,null,"Exprimés",431,{"$f":"IF($E$7=0,0,E12/$E$7)","v":0.40737240075614367},"(3)"]
[null,null,null,{"$f":"CONCATENATE(\"Liste \",RESULTATS!U$9,\" \",RESULTATS!U$10)","v":"Liste Nadine MORANO"},140,{"$f":"IF(E$12=0,0,E13/E$12)","v":0.3248259860788863},"(4)"]
[null,null,null,{"$f":"CONCATENATE(\"Liste \",RESULTATS!Y$9,\" \",RESULTATS!Y$10)","v":"Liste Joe LABAT"},0,0]
[null,null,null,{"$f":"CONCATENATE(\"Liste \",RESULTATS!AC$9,\" \",RESULTATS!AC$10)","v":"Liste Claire ROCHER"},3,6.9605568445475635E-3]
[null,null,null,{"$f":"CONCATENATE(\"Liste \",RESULTATS!AG$9,\" \",RESULTATS!AG$10)","v":"Liste Christian D'ANDLAU-HOMBOURG"},0,0]
[null,null,null,{"$f":"CONCATENATE(\"Liste \",RESULTATS!AK$9,\" \",RESULTATS!AK$10)","v":"Liste Edouard MARTIN"},61,0.14153132250580047]
[null,null,null,{"$f":"CONCATENATE(\"Liste \",RESULTATS!AO$9,\" \",RESULTATS!AO$10)","v":"Liste Gaël DIAFERIA"},1,2.3201856148491878E-3]
[null,null,null,{"$f":"CONCATENATE(\"Liste \",RESULTATS!AS$9,\" \",RESULTATS!AS$10)","v":"Liste Nathalie GRIESBECK"},35,8.1206496519721574E-2]
[null,null,null,{"$f":"CONCATENATE(\"Liste \",RESULTATS!AW$9,\" \",RESULTATS!AW$10)","v":"Liste Julien GONZALEZ"},10,2.3201856148491878E-2]
[null,null,null,{"$f":"CONCATENATE(\"Liste \",RESULTATS!BA$9,\" \",RESULTATS!BA$10)","v":"Liste Philippe COUKA"},0,0]
[null,null,null,{"$f":"CONCATENATE(\"Liste \",RESULTATS!BE$9,\" \",RESULTATS!BE$10)","v":"Liste Antoine RENARD"},1,2.3201856148491878E-3]
[null,null,null,{"$f":"CONCATENATE(\"Liste \",RESULTATS!BI$9,\" \",RESULTATS!BI$10)","v":"Liste Geneviève MARTIN"},1,2.3201856148491878E-3]
[null,null,null,{"$f":"CONCATENATE(\"Liste \",RESULTATS!BM$9,\" \",RESULTATS!BM$10)","v":"Liste Isabelle VÉRIN"},0,0]
[null,null,null,{"$f":"CONCATENATE(\"Liste \",RESULTATS!U$59,\" \",RESULTATS!U$60)","v":"Liste Xavier DESSAIGNE"},4,9.2807424593967514E-3]
[null,null,null,{"$f":"CONCATENATE(\"Liste \",RESULTATS!Y$59,\" \",RESULTATS!Y$60)","v":"Liste Sandrine PICO"},0,0]
[null,null,null,{"$f":"CONCATENATE(\"Liste \",RESULTATS!AC$59,\" \",RESULTATS!AC$60)","v":"Liste Florian PHILIPPOT"},84,0.19489559164733178]
[null,null,null,{"$f":"CONCATENATE(\"Liste \",RESULTATS!AG$59,\" \",RESULTATS!AG$60)","v":"Liste Sandrine BELIER"},32,7.4245939675174011E-2]
[null,null,null,{"$f":"CONCATENATE(\"Liste \",RESULTATS!AK$59,\" \",RESULTATS!AK$60)","v":"Liste Ismaël BOUDJEKADA"},0,0]
[null,null,null,{"$f":"CONCATENATE(\"Liste \",RESULTATS!AO$59,\" \",RESULTATS!AO$60)","v":"Liste Laure FERRARI"},20,4.6403712296983757E-2]
[null,null,null,{"$f":"CONCATENATE(\"Liste \",RESULTATS!AS$59,\" \",RESULTATS!AS$60)","v":"Liste Antonio SANCHEZ"},0,0]
[null,null,null,{"$f":"CONCATENATE(\"Liste \",RESULTATS!AW$59,\" \",RESULTATS!AW$60)","v":"Liste Isabelle MAURER"},10,{"$f":"IF(E$12=0,0,E32/E$12)","v":2.3201856148491878E-2}]
[null,null,null,{"$f":"CONCATENATE(\"Liste \",RESULTATS!BA$59,\" \",RESULTATS!BA$60)","v":"Liste Yannick HERVE"},3,{"$f":"IF(E$12=0,0,E33/E$12)","v":6.9605568445475635E-3}]
[null,null,null,{"$f":"CONCATENATE(\"Liste \",RESULTATS!BE$59,\" \",RESULTATS!BE$60)","v":"Liste Gabriel AMARD"},24,{"$f":"IF(E$12=0,0,E34/E$12)","v":5.5684454756380508E-2}]
[null,null,null,{"$f":"CONCATENATE(\"Liste \",RESULTATS!BI$59,\" \",RESULTATS!BI$60)","v":"Liste Florence LHOTE"},2,{"$f":"IF(E$12=0,0,E35/E$12)","v":4.6403712296983757E-3}]
[null,null,null,null,{"$f":"IF(SUM(E13:E35)<>E12,\"!!! FAUX\",\"\")","v":""}]
[null,null,null,"TOTAL  :",{"$f":"SUM(E13:E35)","v":431}]
[]
[null,null,null,null,null,"(1) Votants / Inscrits"]
[null,null,null,null,null,"(2) Nuls / Votants"]
[null,null,null,null,null,"(3) Exprimés / Inscrits"]
[null,null,null,null,null,"(4) Score / Exprimés"]

{"sheet":"D2","index":11,"n_rows":42,"n_cols":7,"rows_kept":42,"cut":false,"hidden":false,"merged":[]}
[]
[]
["D2","-","GROUPE SCOLAIRE CHÂTEAUDUN (Rue de Châteaudun)"]
[]
[]
[]
[null,null,null,"INSCRITS",827,"%"]
[null,null,null,"Émargements",365]
[null,null,null,"Votants (participation)",365,{"$f":"IF($E$7=0,0,E9/$E$7)","v":0.44135429262394194},"(1)"]
[null,null,null,"Blancs",5,{"$f":"IF($E$9=0,0,E10/$E$9)","v":1.3698630136986301E-2},"(2)"]
[null,null,null,"Nuls",4,{"$f":"IF($E$9=0,0,E11/$E$9)","v":1.0958904109589041E-2},"(2)"]
[null,null,null,"Exprimés",356,{"$f":"IF($E$7=0,0,E12/$E$7)","v":0.43047158403869407},"(3)"]
[null,null,null,{"$f":"CONCATENATE(\"Liste \",RESULTATS!U$9,\" \",RESULTATS!U$10)","v":"Liste Nadine MORANO"},104,{"$f":"IF(E$12=0,0,E13/E$12)","v":0.29213483146067415},"(4)"]
[null,null,null,{"$f":"CONCATENATE(\"Liste \",RESULTATS!Y$9,\" \",RESULTATS!Y$10)","v":"Liste Joe LABAT"},1,2.8089887640449437E-3]
[null,null,null,{"$f":"CONCATENATE(\"Liste \",RESULTATS!AC$9,\" \",RESULTATS!AC$10)","v":"Liste Claire ROCHER"},0,0]
[null,null,null,{"$f":"CONCATENATE(\"Liste \",RESULTATS!AG$9,\" \",RESULTATS!AG$10)","v":"Liste Christian D'ANDLAU-HOMBOURG"},0,0]
[null,null,null,{"$f":"CONCATENATE(\"Liste \",RESULTATS!AK$9,\" \",RESULTATS!AK$10)","v":"Liste Edouard MARTIN"},44,0.12359550561797752]
[null,null,null,{"$f":"CONCATENATE(\"Liste \",RESULTATS!AO$9,\" \",RESULTATS!AO$10)","v":"Liste Gaël DIAFERIA"},3,8.4269662921348312E-3]
[null,null,null,{"$f":"CONCATENATE(\"Liste \",RESULTATS!AS$9,\" \",RESULTATS!AS$10)","v":"Liste Nathalie GRIESBECK"},44,0.12359550561797752]
[null,null,null,{"$f":"CONCATENATE(\"Liste \",RESULTATS!AW$9,\" \",RESULTATS!AW$10)","v":"Liste Julien GONZALEZ"},2,5.6179775280898875E-3]
[null,null,null,{"$f":"CONCATENATE(\"Liste \",RESULTATS!BA$9,\" \",RESULTATS!BA$10)","v":"Liste Philippe COUKA"},0,0]
[null,null,null,{"$f":"CONCATENATE(\"Liste \",RESULTATS!BE$9,\" \",RESULTATS!BE$10)","v":"Liste Antoine RENARD"},0,0]
[null,null,null,{"$f":"CONCATENATE(\"Liste \",RESULTATS!BI$9,\" \",RESULTATS!BI$10)","v":"Liste Geneviève MARTIN"},1,2.8089887640449437E-3]
[null,null,null,{"$f":"CONCATENATE(\"Liste \",RESULTATS!BM$9,\" \",RESULTATS!BM$10)","v":"Liste Isabelle VÉRIN"},2,5.6179775280898875E-3]
[null,null,null,{"$f":"CONCATENATE(\"Liste \",RESULTATS!U$59,\" \",RESULTATS!U$60)","v":"Liste Xavier DESSAIGNE"},6,1.6853932584269662E-2]
[null,null,null,{"$f":"CONCATENATE(\"Liste \",RESULTATS!Y$59,\" \",RESULTATS!Y$60)","v":"Liste Sandrine PICO"},0,0]
[null,null,null,{"$f":"CONCATENATE(\"Liste \",RESULTATS!AC$59,\" \",RESULTATS!AC$60)","v":"Liste Florian PHILIPPOT"},84,0.23595505617977527]
[null,null,null,{"$f":"CONCATENATE(\"Liste \",RESULTATS!AG$59,\" \",RESULTATS!AG$60)","v":"Liste Sandrine BELIER"},32,8.98876404494382E-2]
[null,null,null,{"$f":"CONCATENATE(\"Liste \",RESULTATS!AK$59,\" \",RESULTATS!AK$60)","v":"Liste Ismaël BOUDJEKADA"},0,0]
[null,null,null,{"$f":"CONCATENATE(\"Liste \",RESULTATS!AO$59,\" \",RESULTATS!AO$60)","v":"Liste Laure FERRARI"},10,2.8089887640449437E-2]
[null,null,null,{"$f":"CONCATENATE(\"Liste \",RESULTATS!AS$59,\" \",RESULTATS!AS$60)","v":"Liste Antonio SANCHEZ"},0,0]
[null,null,null,{"$f":"CONCATENATE(\"Liste \",RESULTATS!AW$59,\" \",RESULTATS!AW$60)","v":"Liste Isabelle MAURER"},5,{"$f":"IF(E$12=0,0,E32/E$12)","v":1.4044943820224719E-2}]
[null,null,null,{"$f":"CONCATENATE(\"Liste \",RESULTATS!BA$59,\" \",RESULTATS!BA$60)","v":"Liste Yannick HERVE"},0,{"$f":"IF(E$12=0,0,E33/E$12)","v":0}]
[null,null,null,{"$f":"CONCATENATE(\"Liste \",RESULTATS!BE$59,\" \",RESULTATS!BE$60)","v":"Liste Gabriel AMARD"},18,{"$f":"IF(E$12=0,0,E34/E$12)","v":5.0561797752808987E-2}]
[null,null,null,{"$f":"CONCATENATE(\"Liste \",RESULTATS!BI$59,\" \",RESULTATS!BI$60)","v":"Liste Florence LHOTE"},0,{"$f":"IF(E$12=0,0,E35/E$12)","v":0}]
[null,null,null,null,{"$f":"IF(SUM(E13:E35)<>E12,\"!!! FAUX\",\"\")","v":""}]
[null,null,null,"TOTAL  :",{"$f":"SUM(E13:E35)","v":356}]
[]
[null,null,null,null,null,"(1) Votants / Inscrits"]
[null,null,null,null,null,"(2) Nuls / Votants"]
[null,null,null,null,null,"(3) Exprimés / Inscrits"]
[null,null,null,null,null,"(4) Score / Exprimés"]

{"sheet":"D3","index":12,"n_rows":42,"n_cols":7,"rows_kept":42,"cut":false,"hidden":false,"merged":[]}
[]
[]
["D3","-","GROUPE SCOLAIRE CHÂTEAUDUN (Rue de Châteaudun)"]
[]
[]
[]
[null,null,null,"INSCRITS",895,"%"]
[null,null,null,"Émargements",365]
[null,null,null,"Votants (participation)",365,{"$f":"IF($E$7=0,0,E9/$E$7)","v":0.40782122905027934},"(1)"]
[null,null,null,"Blancs",8,{"$f":"IF($E$9=0,0,E10/$E$9)","v":2.1917808219178082E-2},"(2)"]
[null,null,null,"Nuls",7,{"$f":"IF($E$9=0,0,E11/$E$9)","v":1.9178082191780823E-2},"(2)"]
[null,null,null,"Exprimés",350,{"$f":"IF($E$7=0,0,E12/$E$7)","v":0.39106145251396646},"(3)"]
[null,null,null,{"$f":"CONCATENATE(\"Liste \",RESULTATS!U$9,\" \",RESULTATS!U$10)","v":"Liste Nadine MORANO"},83,{"$f":"IF(E$12=0,0,E13/E$12)","v":0.23714285714285716},"(4)"]
[null,null,null,{"$f":"CONCATENATE(\"Liste \",RESULTATS!Y$9,\" \",RESULTATS!Y$10)","v":"Liste Joe LABAT"},0,0]
[null,null,null,{"$f":"CONCATENATE(\"Liste \",RESULTATS!AC$9,\" \",RESULTATS!AC$10)","v":"Liste Claire ROCHER"},7,0.02]
[null,null,null,{"$f":"CONCATENATE(\"Liste \",RESULTATS!AG$9,\" \",RESULTATS!AG$10)","v":"Liste Christian D'ANDLAU-HOMBOURG"},1,2.8571428571428571E-3]
[null,null,null,{"$f":"CONCATENATE(\"Liste \",RESULTATS!AK$9,\" \",RESULTATS!AK$10)","v":"Liste Edouard MARTIN"},42,0.12]
[null,null,null,{"$f":"CONCATENATE(\"Liste \",RESULTATS!AO$9,\" \",RESULTATS!AO$10)","v":"Liste Gaël DIAFERIA"},3,8.5714285714285719E-3]
[null,null,null,{"$f":"CONCATENATE(\"Liste \",RESULTATS!AS$9,\" \",RESULTATS!AS$10)","v":"Liste Nathalie GRIESBECK"},32,9.1428571428571428E-2]
[null,null,null,{"$f":"CONCATENATE(\"Liste \",RESULTATS!AW$9,\" \",RESULTATS!AW$10)","v":"Liste Julien GONZALEZ"},6,1.7142857142857144E-2]
[null,null,null,{"$f":"CONCATENATE(\"Liste \",RESULTATS!BA$9,\" \",RESULTATS!BA$10)","v":"Liste Philippe COUKA"},0,0]
[null,null,null,{"$f":"CONCATENATE(\"Liste \",RESULTATS!BE$9,\" \",RESULTATS!BE$10)","v":"Liste Antoine RENARD"},2,5.7142857142857143E-3]
[null,null,null,{"$f":"CONCATENATE(\"Liste \",RESULTATS!BI$9,\" \",RESULTATS!BI$10)","v":"Liste Geneviève MARTIN"},1,2.8571428571428571E-3]
[null,null,null,{"$f":"CONCATENATE(\"Liste \",RESULTATS!BM$9,\" \",RESULTATS!BM$10)","v":"Liste Isabelle VÉRIN"},4,1.1428571428571429E-2]
[null,null,null,{"$f":"CONCATENATE(\"Liste \",RESULTATS!U$59,\" \",RESULTATS!U$60)","v":"Liste Xavier DESSAIGNE"},4,1.1428571428571429E-2]
[null,null,null,{"$f":"CONCATENATE(\"Liste \",RESULTATS!Y$59,\" \",RESULTATS!Y$60)","v":"Liste Sandrine PICO"},0,0]
[null,null,null,{"$f":"CONCATENATE(\"Liste \",RESULTATS!AC$59,\" \",RESULTATS!AC$60)","v":"Liste Florian PHILIPPOT"},103,0.29428571428571426]
[null,null,null,{"$f":"CONCATENATE(\"Liste \",RESULTATS!AG$59,\" \",RESULTATS!AG$60)","v":"Liste Sandrine BELIER"},21,0.06]
[null,null,null,{"$f":"CONCATENATE(\"Liste \",RESULTATS!AK$59,\" \",RESULTATS!AK$60)","v":"Liste Ismaël BOUDJEKADA"},0,0]
[null,null,null,{"$f":"CONCATENATE(\"Liste \",RESULTATS!AO$59,\" \",RESULTATS!AO$60)","v":"Liste Laure FERRARI"},9,2.5714285714285714E-2]
[null,null,null,{"$f":"CONCATENATE(\"Liste \",RESULTATS!AS$59,\" \",RESULTATS!AS$60)","v":"Liste Antonio SANCHEZ"},0,0]
[null,null,null,{"$f":"CONCATENATE(\"Liste \",RESULTATS!AW$59,\" \",RESULTATS!AW$60)","v":"Liste Isabelle MAURER"},5,{"$f":"IF(E$12=0,0,E32/E$12)","v":1.4285714285714285E-2}]
[null,null,null,{"$f":"CONCATENATE(\"Liste \",RESULTATS!BA$59,\" \",RESULTATS!BA$60)","v":"Liste Yannick HERVE"},2,{"$f":"IF(E$12=0,0,E33/E$12)","v":5.7142857142857143E-3}]
[null,null,null,{"$f":"CONCATENATE(\"Liste \",RESULTATS!BE$59,\" \",RESULTATS!BE$60)","v":"Liste Gabriel AMARD"},25,{"$f":"IF(E$12=0,0,E34/E$12)","v":7.1428571428571425E-2}]
[null,null,null,{"$f":"CONCATENATE(\"Liste \",RESULTATS!BI$59,\" \",RESULTATS!BI$60)","v":"Liste Florence LHOTE"},0,{"$f":"IF(E$12=0,0,E35/E$12)","v":0}]
[null,null,null,null,{"$f":"IF(SUM(E13:E35)<>E12,\"!!! FAUX\",\"\")","v":""}]
[null,null,null,"TOTAL  :",{"$f":"SUM(E13:E35)","v":350}]
[]
[null,null,null,null,null,"(1) Votants / Inscrits"]
[null,null,null,null,null,"(2) Nuls / Votants"]
[null,null,null,null,null,"(3) Exprimés / Inscrits"]
[null,null,null,null,null,"(4) Score / Exprimés"]

{"sheet":"E1","index":13,"n_rows":42,"n_cols":7,"rows_kept":42,"cut":false,"hidden":false,"merged":[]}
[]
[]
["E1","-","GROUPE SCOLAIRE RAYMOND AUBERT (Rue de la 1ère Armée Française)"]
[]
[]
[]
[null,null,null,"INSCRITS",1168,"%"]
[null,null,null,"Émargements",475]
[null,null,null,"Votants (participation)",475,{"$f":"IF($E$7=0,0,E9/$E$7)","v":0.40667808219178081},"(1)"]
[null,null,null,"Blancs",10,{"$f":"IF($E$9=0,0,E10/$E$9)","v":2.1052631578947368E-2},"(2)"]
[null,null,null,"Nuls",8,{"$f":"IF($E$9=0,0,E11/$E$9)","v":1.6842105263157894E-2},"(2)"]
[null,null,null,"Exprimés",457,{"$f":"IF($E$7=0,0,E12/$E$7)","v":0.39126712328767121},"(3)"]
[null,null,null,{"$f":"CONCATENATE(\"Liste \",RESULTATS!U$9,\" \",RESULTATS!U$10)","v":"Liste Nadine MORANO"},117,{"$f":"IF(E$12=0,0,E13/E$12)","v":0.25601750547045954},"(4)"]
[null,null,null,{"$f":"CONCATENATE(\"Liste \",RESULTATS!Y$9,\" \",RESULTATS!Y$10)","v":"Liste Joe LABAT"},0,0]
[null,null,null,{"$f":"CONCATENATE(\"Liste \",RESULTATS!AC$9,\" \",RESULTATS!AC$10)","v":"Liste Claire ROCHER"},8,1.7505470459518599E-2]
[null,null,null,{"$f":"CONCATENATE(\"Liste \",RESULTATS!AG$9,\" \",RESULTATS!AG$10)","v":"Liste Christian D'ANDLAU-HOMBOURG"},1,2.1881838074398249E-3]
[null,null,null,{"$f":"CONCATENATE(\"Liste \",RESULTATS!AK$9,\" \",RESULTATS!AK$10)","v":"Liste Edouard MARTIN"},59,0.12910284463894967]
[null,null,null,{"$f":"CONCATENATE(\"Liste \",RESULTATS!AO$9,\" \",RESULTATS!AO$10)","v":"Liste Gaël DIAFERIA"},1,2.1881838074398249E-3]
[null,null,null,{"$f":"CONCATENATE(\"Liste \",RESULTATS!AS$9,\" \",RESULTATS!AS$10)","v":"Liste Nathalie GRIESBECK"},48,0.10503282275711159]
[null,null,null,{"$f":"CONCATENATE(\"Liste \",RESULTATS!AW$9,\" \",RESULTATS!AW$10)","v":"Liste Julien GONZALEZ"},6,1.3129102844638949E-2]
[null,null,null,{"$f":"CONCATENATE(\"Liste \",RESULTATS!BA$9,\" \",RESULTATS!BA$10)","v":"Liste Philippe COUKA"},0,0]
[null,null,null,{"$f":"CONCATENATE(\"Liste \",RESULTATS!BE$9,\" \",RESULTATS!BE$10)","v":"Liste Antoine RENARD"},0,0]
[null,null,null,{"$f":"CONCATENATE(\"Liste \",RESULTATS!BI$9,\" \",RESULTATS!BI$10)","v":"Liste Geneviève MARTIN"},1,2.1881838074398249E-3]
[null,null,null,{"$f":"CONCATENATE(\"Liste \",RESULTATS!BM$9,\" \",RESULTATS!BM$10)","v":"Liste Isabelle VÉRIN"},1,2.1881838074398249E-3]
[null,null,null,{"$f":"CONCATENATE(\"Liste \",RESULTATS!U$59,\" \",RESULTATS!U$60)","v":"Liste Xavier DESSAIGNE"},3,6.5645514223194746E-3]
[null,null,null,{"$f":"CONCATENATE(\"Liste \",RESULTATS!Y$59,\" \",RESULTATS!Y$60)","v":"Liste Sandrine PICO"},0,0]
[null,null,null,{"$f":"CONCATENATE(\"Liste \",RESULTATS!AC$59,\" \",RESULTATS!AC$60)","v":"Liste Florian PHILIPPOT"},131,0.28665207877461707]
[null,null,null,{"$f":"CONCATENATE(\"Liste \",RESULTATS!AG$59,\" \",RESULTATS!AG$60)","v":"Liste Sandrine BELIER"},30,6.5645514223194742E-2]
[null,null,null,{"$f":"CONCATENATE(\"Liste \",RESULTATS!AK$59,\" \",RESULTATS!AK$60)","v":"Liste Ismaël BOUDJEKADA"},0,0]
[null,null,null,{"$f":"CONCATENATE(\"Liste \",RESULTATS!AO$59,\" \",RESULTATS!AO$60)","v":"Liste Laure FERRARI"},16,3.5010940919037198E-2]
[null,null,null,{"$f":"CONCATENATE(\"Liste \",RESULTATS!AS$59,\" \",RESULTATS!AS$60)","v":"Liste Antonio SANCHEZ"},0,0]
[null,null,null,{"$f":"CONCATENATE(\"Liste \",RESULTATS!AW$59,\" \",RESULTATS!AW$60)","v":"Liste Isabelle MAURER"},12,{"$f":"IF(E$12=0,0,E32/E$12)","v":2.6258205689277898E-2}]
[null,null,null,{"$f":"CONCATENATE(\"Liste \",RESULTATS!BA$59,\" \",RESULTATS!BA$60)","v":"Liste Yannick HERVE"},0,{"$f":"IF(E$12=0,0,E33/E$12)","v":0}]
[null,null,null,{"$f":"CONCATENATE(\"Liste \",RESULTATS!BE$59,\" \",RESULTATS!BE$60)","v":"Liste Gabriel AMARD"},23,{"$f":"IF(E$12=0,0,E34/E$12)","v":5.0328227571115977E-2}]
[null,null,null,{"$f":"CONCATENATE(\"Liste \",RESULTATS!BI$59,\" \",RESULTATS!BI$60)","v":"Liste Florence LHOTE"},0,{"$f":"IF(E$12=0,0,E35/E$12)","v":0}]
[null,null,null,null,{"$f":"IF(SUM(E13:E35)<>E12,\"!!! FAUX\",\"\")","v":""}]
[null,null,null,"TOTAL  :",{"$f":"SUM(E13:E35)","v":457}]
[]
[null,null,null,null,null,"(1) Votants / Inscrits"]
[null,null,null,null,null,"(2) Nuls / Votants"]
[null,null,null,null,null,"(3) Exprimés / Inscrits"]
[null,null,null,null,null,"(4) Score / Exprimés"]

{"sheet":"E2","index":14,"n_rows":42,"n_cols":7,"rows_kept":42,"cut":false,"hidden":false,"merged":[]}
[]
[]
["E2","-","GROUPE SCOLAIRE RAYMOND AUBERT (Rue de la 1ère Armée Française)"]
[]
[]
[]
[null,null,null,"INSCRITS",1204,"%"]
[null,null,null,"Émargements",452]
[null,null,null,"Votants (participation)",452,{"$f":"IF($E$7=0,0,E9/$E$7)","v":0.37541528239202659},"(1)"]
[null,null,null,"Blancs",13,{"$f":"IF($E$9=0,0,E10/$E$9)","v":2.8761061946902654E-2},"(2)"]
[null,null,null,"Nuls",8,{"$f":"IF($E$9=0,0,E11/$E$9)","v":1.7699115044247787E-2},"(2)"]
[null,null,null,"Exprimés",431,{"$f":"IF($E$7=0,0,E12/$E$7)","v":0.35797342192691028},"(3)"]
[null,null,null,{"$f":"CONCATENATE(\"Liste \",RESULTATS!U$9,\" \",RESULTATS!U$10)","v":"Liste Nadine MORANO"},120,{"$f":"IF(E$12=0,0,E13/E$12)","v":0.27842227378190254},"(4)"]
[null,null,null,{"$f":"CONCATENATE(\"Liste \",RESULTATS!Y$9,\" \",RESULTATS!Y$10)","v":"Liste Joe LABAT"},0,0]
[null,null,null,{"$f":"CONCATENATE(\"Liste \",RESULTATS!AC$9,\" \",RESULTATS!AC$10)","v":"Liste Claire ROCHER"},5,1.1600928074245939E-2]
[null,null,null,{"$f":"CONCATENATE(\"Liste \",RESULTATS!AG$9,\" \",RESULTATS!AG$10)","v":"Liste Christian D'ANDLAU-HOMBOURG"},2,4.6403712296983757E-3]
[null,null,null,{"$f":"CONCATENATE(\"Liste \",RESULTATS!AK$9,\" \",RESULTATS!AK$10)","v":"Liste Edouard MARTIN"},51,0.11832946635730858]
[null,null,null,{"$f":"CONCATENATE(\"Liste \",RESULTATS!AO$9,\" \",RESULTATS!AO$10)","v":"Liste Gaël DIAFERIA"},2,4.6403712296983757E-3]
[null,null,null,{"$f":"CONCATENATE(\"Liste \",RESULTATS!AS$9,\" \",RESULTATS!AS$10)","v":"Liste Nathalie GRIESBECK"},45,0.10440835266821345]
[null,null,null,{"$f":"CONCATENATE(\"Liste \",RESULTATS!AW$9,\" \",RESULTATS!AW$10)","v":"Liste Julien GONZALEZ"},11,2.5522041763341066E-2]
[null,null,null,{"$f":"CONCATENATE(\"Liste \",RESULTATS!BA$9,\" \",RESULTATS!BA$10)","v":"Liste Philippe COUKA"},0,0]
[null,null,null,{"$f":"CONCATENATE(\"Liste \",RESULTATS!BE$9,\" \",RESULTATS!BE$10)","v":"Liste Antoine RENARD"},1,2.3201856148491878E-3]
[null,null,null,{"$f":"CONCATENATE(\"Liste \",RESULTATS!BI$9,\" \",RESULTATS!BI$10)","v":"Liste Geneviève MARTIN"},3,6.9605568445475635E-3]
[null,null,null,{"$f":"CONCATENATE(\"Liste \",RESULTATS!BM$9,\" \",RESULTATS!BM$10)","v":"Liste Isabelle VÉRIN"},3,6.9605568445475635E-3]
[null,null,null,{"$f":"CONCATENATE(\"Liste \",RESULTATS!U$59,\" \",RESULTATS!U$60)","v":"Liste Xavier DESSAIGNE"},4,9.2807424593967514E-3]
[null,null,null,{"$f":"CONCATENATE(\"Liste \",RESULTATS!Y$59,\" \",RESULTATS!Y$60)","v":"Liste Sandrine PICO"},0,0]
[null,null,null,{"$f":"CONCATENATE(\"Liste \",RESULTATS!AC$59,\" \",RESULTATS!AC$60)","v":"Liste Florian PHILIPPOT"},122,0.28306264501160094]
[null,null,null,{"$f":"CONCATENATE(\"Liste \",RESULTATS!AG$59,\" \",RESULTATS!AG$60)","v":"Liste Sandrine BELIER"},31,7.1925754060324823E-2]
[null,null,null,{"$f":"CONCATENATE(\"Liste \",RESULTATS!AK$59,\" \",RESULTATS!AK$60)","v":"Liste Ismaël BOUDJEKADA"},0,0]
[null,null,null,{"$f":"CONCATENATE(\"Liste \",RESULTATS!AO$59,\" \",RESULTATS!AO$60)","v":"Liste Laure FERRARI"},9,2.0881670533642691E-2]
[null,null,null,{"$f":"CONCATENATE(\"Liste \",RESULTATS!AS$59,\" \",RESULTATS!AS$60)","v":"Liste Antonio SANCHEZ"},0,0]
[null,null,null,{"$f":"CONCATENATE(\"Liste \",RESULTATS!AW$59,\" \",RESULTATS!AW$60)","v":"Liste Isabelle MAURER"},5,{"$f":"IF(E$12=0,0,E32/E$12)","v":1.1600928074245939E-2}]
[null,null,null,{"$f":"CONCATENATE(\"Liste \",RESULTATS!BA$59,\" \",RESULTATS!BA$60)","v":"Liste Yannick HERVE"},2,{"$f":"IF(E$12=0,0,E33/E$12)","v":4.6403712296983757E-3}]
[null,null,null,{"$f":"CONCATENATE(\"Liste \",RESULTATS!BE$59,\" \",RESULTATS!BE$60)","v":"Liste Gabriel AMARD"},14,{"$f":"IF(E$12=0,0,E34/E$12)","v":3.248259860788863E-2}]
[null,null,null,{"$f":"CONCATENATE(\"Liste \",RESULTATS!BI$59,\" \",RESULTATS!BI$60)","v":"Liste Florence LHOTE"},1,{"$f":"IF(E$12=0,0,E35/E$12)","v":2.3201856148491878E-3}]
[null,null,null,null,{"$f":"IF(SUM(E13:E35)<>E12,\"!!! FAUX\",\"\")","v":""}]
[null,null,null,"TOTAL  :",{"$f":"SUM(E13:E35)","v":431}]
[]
[null,null,null,null,null,"(1) Votants / Inscrits"]
[null,null,null,null,null,"(2) Nuls / Votants"]
[null,null,null,null,null,"(3) Exprimés / Inscrits"]
[null,null,null,null,null,"(4) Score / Exprimés"]

{"sheet":"E3","index":15,"n_rows":42,"n_cols":7,"rows_kept":42,"cut":false,"hidden":false,"merged":[]}
[]
[]
["E3","-","GROUPE SCOLAIRE RAYMOND AUBERT (Rue de la 1ère Armée Française)"]
[]
[]
[]
[null,null,null,"INSCRITS",1030,"%"]
[null,null,null,"Émargements",389]
[null,null,null,"Votants (participation)",389,{"$f":"IF($E$7=0,0,E9/$E$7)","v":0.37766990291262137},"(1)"]
[null,null,null,"Blancs",12,{"$f":"IF($E$9=0,0,E10/$E$9)","v":3.0848329048843187E-2},"(2)"]
[null,null,null,"Nuls",11,{"$f":"IF($E$9=0,0,E11/$E$9)","v":2.8277634961439587E-2},"(2)"]
[null,null,null,"Exprimés",366,{"$f":"IF($E$7=0,0,E12/$E$7)","v":0.35533980582524272},"(3)"]
[null,null,null,{"$f":"CONCATENATE(\"Liste \",RESULTATS!U$9,\" \",RESULTATS!U$10)","v":"Liste Nadine MORANO"},81,{"$f":"IF(E$12=0,0,E13/E$12)","v":0.22131147540983606},"(4)"]
[null,null,null,{"$f":"CONCATENATE(\"Liste \",RESULTATS!Y$9,\" \",RESULTATS!Y$10)","v":"Liste Joe LABAT"},0,0]
[null,null,null,{"$f":"CONCATENATE(\"Liste \",RESULTATS!AC$9,\" \",RESULTATS!AC$10)","v":"Liste Claire ROCHER"},10,2.7322404371584699E-2]
[null,null,null,{"$f":"CONCATENATE(\"Liste \",RESULTATS!AG$9,\" \",RESULTATS!AG$10)","v":"Liste Christian D'ANDLAU-HOMBOURG"},1,2.7322404371584699E-3]
[null,null,null,{"$f":"CONCATENATE(\"Liste \",RESULTATS!AK$9,\" \",RESULTATS!AK$10)","v":"Liste Edouard MARTIN"},58,0.15846994535519127]
[null,null,null,{"$f":"CONCATENATE(\"Liste \",RESULTATS!AO$9,\" \",RESULTATS!AO$10)","v":"Liste Gaël DIAFERIA"},0,0]
[null,null,null,{"$f":"CONCATENATE(\"Liste \",RESULTATS!AS$9,\" \",RESULTATS!AS$10)","v":"Liste Nathalie GRIESBECK"},31,8.4699453551912565E-2]
[null,null,null,{"$f":"CONCATENATE(\"Liste \",RESULTATS!AW$9,\" \",RESULTATS!AW$10)","v":"Liste Julien GONZALEZ"},7,1.912568306010929E-2]
[null,null,null,{"$f":"CONCATENATE(\"Liste \",RESULTATS!BA$9,\" \",RESULTATS!BA$10)","v":"Liste Philippe COUKA"},0,0]
[null,null,null,{"$f":"CONCATENATE(\"Liste \",RESULTATS!BE$9,\" \",RESULTATS!BE$10)","v":"Liste Antoine RENARD"},2,5.4644808743169399E-3]
[null,null,null,{"$f":"CONCATENATE(\"Liste \",RESULTATS!BI$9,\" \",RESULTATS!BI$10)","v":"Liste Geneviève MARTIN"},1,2.7322404371584699E-3]
[null,null,null,{"$f":"CONCATENATE(\"Liste \",RESULTATS!BM$9,\" \",RESULTATS!BM$10)","v":"Liste Isabelle VÉRIN"},0,0]
[null,null,null,{"$f":"CONCATENATE(\"Liste \",RESULTATS!U$59,\" \",RESULTATS!U$60)","v":"Liste Xavier DESSAIGNE"},1,2.7322404371584699E-3]
[null,null,null,{"$f":"CONCATENATE(\"Liste \",RESULTATS!Y$59,\" \",RESULTATS!Y$60)","v":"Liste Sandrine PICO"},0,0]
[null,null,null,{"$f":"CONCATENATE(\"Liste \",RESULTATS!AC$59,\" \",RESULTATS!AC$60)","v":"Liste Florian PHILIPPOT"},103,0.28142076502732238]
[null,null,null,{"$f":"CONCATENATE(\"Liste \",RESULTATS!AG$59,\" \",RESULTATS!AG$60)","v":"Liste Sandrine BELIER"},25,6.8306010928961755E-2]
[null,null,null,{"$f":"CONCATENATE(\"Liste \",RESULTATS!AK$59,\" \",RESULTATS!AK$60)","v":"Liste Ismaël BOUDJEKADA"},0,0]
[null,null,null,{"$f":"CONCATENATE(\"Liste \",RESULTATS!AO$59,\" \",RESULTATS!AO$60)","v":"Liste Laure FERRARI"},12,3.2786885245901641E-2]
[null,null,null,{"$f":"CONCATENATE(\"Liste \",RESULTATS!AS$59,\" \",RESULTATS!AS$60)","v":"Liste Antonio SANCHEZ"},0,0]
[null,null,null,{"$f":"CONCATENATE(\"Liste \",RESULTATS!AW$59,\" \",RESULTATS!AW$60)","v":"Liste Isabelle MAURER"},11,{"$f":"IF(E$12=0,0,E32/E$12)","v":3.0054644808743168E-2}]
[null,null,null,{"$f":"CONCATENATE(\"Liste \",RESULTATS!BA$59,\" \",RESULTATS!BA$60)","v":"Liste Yannick HERVE"},1,{"$f":"IF(E$12=0,0,E33/E$12)","v":2.7322404371584699E-3}]
[null,null,null,{"$f":"CONCATENATE(\"Liste \",RESULTATS!BE$59,\" \",RESULTATS!BE$60)","v":"Liste Gabriel AMARD"},22,{"$f":"IF(E$12=0,0,E34/E$12)","v":6.0109289617486336E-2}]
[null,null,null,{"$f":"CONCATENATE(\"Liste \",RESULTATS!BI$59,\" \",RESULTATS!BI$60)","v":"Liste Florence LHOTE"},0,{"$f":"IF(E$12=0,0,E35/E$12)","v":0}]
[null,null,null,null,{"$f":"IF(SUM(E13:E35)<>E12,\"!!! FAUX\",\"\")","v":""}]
[null,null,null,"TOTAL  :",{"$f":"SUM(E13:E35)","v":366}]
[]
[null,null,null,null,null,"(1) Votants / Inscrits"]
[null,null,null,null,null,"(2) Nuls / Votants"]
[null,null,null,null,null,"(3) Exprimés / Inscrits"]
[null,null,null,null,null,"(4) Score / Exprimés"]

{"sheet":"F1","index":16,"n_rows":42,"n_cols":7,"rows_kept":42,"cut":false,"hidden":false,"merged":[]}
[]
[]
["F1","-","MAISON DE L'ENFANT (Rue Salvador Allendé)"]
[]
[]
[]
[null,null,null,"INSCRITS",768,"%"]
[null,null,null,"Émargements",331]
[null,null,null,"Votants (participation)",331,{"$f":"IF($E$7=0,0,E9/$E$7)","v":0.43098958333333331},"(1)"]
[null,null,null,"Blancs",4,{"$f":"IF($E$9=0,0,E10/$E$9)","v":1.2084592145015106E-2},"(2)"]
[null,null,null,"Nuls",9,{"$f":"IF($E$9=0,0,E11/$E$9)","v":2.7190332326283987E-2},"(2)"]
[null,null,null,"Exprimés",318,{"$f":"IF($E$7=0,0,E12/$E$7)","v":0.4140625},"(3)"]
[null,null,null,{"$f":"CONCATENATE(\"Liste \",RESULTATS!U$9,\" \",RESULTATS!U$10)","v":"Liste Nadine MORANO"},72,{"$f":"IF(E$12=0,0,E13/E$12)","v":0.22641509433962265},"(4)"]
[null,null,null,{"$f":"CONCATENATE(\"Liste \",RESULTATS!Y$9,\" \",RESULTATS!Y$10)","v":"Liste Joe LABAT"},0,0]
[null,null,null,{"$f":"CONCATENATE(\"Liste \",RESULTATS!AC$9,\" \",RESULTATS!AC$10)","v":"Liste Claire ROCHER"},9,2.8301886792452831E-2]
[null,null,null,{"$f":"CONCATENATE(\"Liste \",RESULTATS!AG$9,\" \",RESULTATS!AG$10)","v":"Liste Christian D'ANDLAU-HOMBOURG"},0,0]
[null,null,null,{"$f":"CONCATENATE(\"Liste \",RESULTATS!AK$9,\" \",RESULTATS!AK$10)","v":"Liste Edouard MARTIN"},48,0.15094339622641509]
[null,null,null,{"$f":"CONCATENATE(\"Liste \",RESULTATS!AO$9,\" \",RESULTATS!AO$10)","v":"Liste Gaël DIAFERIA"},3,9.433962264150943E-3]
[null,null,null,{"$f":"CONCATENATE(\"Liste \",RESULTATS!AS$9,\" \",RESULTATS!AS$10)","v":"Liste Nathalie GRIESBECK"},37,0.11635220125786164]
[null,null,null,{"$f":"CONCATENATE(\"Liste \",RESULTATS!AW$9,\" \",RESULTATS!AW$10)","v":"Liste Julien GONZALEZ"},12,3.7735849056603772E-2]
[null,null,null,{"$f":"CONCATENATE(\"Liste \",RESULTATS!BA$9,\" \",RESULTATS!BA$10)","v":"Liste Philippe COUKA"},0,0]
[null,null,null,{"$f":"CONCATENATE(\"Liste \",RESULTATS!BE$9,\" \",RESULTATS!BE$10)","v":"Liste Antoine RENARD"},1,3.1446540880503146E-3]
[null,null,null,{"$f":"CONCATENATE(\"Liste \",RESULTATS!BI$9,\" \",RESULTATS!BI$10)","v":"Liste Geneviève MARTIN"},0,0]
[null,null,null,{"$f":"CONCATENATE(\"Liste \",RESULTATS!BM$9,\" \",RESULTATS!BM$10)","v":"Liste Isabelle VÉRIN"},2,6.2893081761006293E-3]
[null,null,null,{"$f":"CONCATENATE(\"Liste \",RESULTATS!U$59,\" \",RESULTATS!U$60)","v":"Liste Xavier DESSAIGNE"},2,6.2893081761006293E-3]
[null,null,null,{"$f":"CONCATENATE(\"Liste \",RESULTATS!Y$59,\" \",RESULTATS!Y$60)","v":"Liste Sandrine PICO"},0,0]
[null,null,null,{"$f":"CONCATENATE(\"Liste \",RESULTATS!AC$59,\" \",RESULTATS!AC$60)","v":"Liste Florian PHILIPPOT"},66,0.20754716981132076]
[null,null,null,{"$f":"CONCATENATE(\"Liste \",RESULTATS!AG$59,\" \",RESULTATS!AG$60)","v":"Liste Sandrine BELIER"},21,6.6037735849056603E-2]
[null,null,null,{"$f":"CONCATENATE(\"Liste \",RESULTATS!AK$59,\" \",RESULTATS!AK$60)","v":"Liste Ismaël BOUDJEKADA"},0,0]
[null,null,null,{"$f":"CONCATENATE(\"Liste \",RESULTATS!AO$59,\" \",RESULTATS!AO$60)","v":"Liste Laure FERRARI"},8,2.5157232704402517E-2]
[null,null,null,{"$f":"CONCATENATE(\"Liste \",RESULTATS!AS$59,\" \",RESULTATS!AS$60)","v":"Liste Antonio SANCHEZ"},0,0]
[null,null,null,{"$f":"CONCATENATE(\"Liste \",RESULTATS!AW$59,\" \",RESULTATS!AW$60)","v":"Liste Isabelle MAURER"},10,{"$f":"IF(E$12=0,0,E32/E$12)","v":3.1446540880503145E-2}]
[null,null,null,{"$f":"CONCATENATE(\"Liste \",RESULTATS!BA$59,\" \",RESULTATS!BA$60)","v":"Liste Yannick HERVE"},2,{"$f":"IF(E$12=0,0,E33/E$12)","v":6.2893081761006293E-3}]
[null,null,null,{"$f":"CONCATENATE(\"Liste \",RESULTATS!BE$59,\" \",RESULTATS!BE$60)","v":"Liste Gabriel AMARD"},25,{"$f":"IF(E$12=0,0,E34/E$12)","v":7.8616352201257858E-2}]
[null,null,null,{"$f":"CONCATENATE(\"Liste \",RESULTATS!BI$59,\" \",RESULTATS!BI$60)","v":"Liste Florence LHOTE"},0,{"$f":"IF(E$12=0,0,E35/E$12)","v":0}]
[null,null,null,null,{"$f":"IF(SUM(E13:E35)<>E12,\"!!! FAUX\",\"\")","v":""}]
[null,null,null,"TOTAL  :",{"$f":"SUM(E13:E35)","v":318}]
[]
[null,null,null,null,null,"(1) Votants / Inscrits"]
[null,null,null,null,null,"(2) Nuls / Votants"]
[null,null,null,null,null,"(3) Exprimés / Inscrits"]
[null,null,null,null,null,"(4) Score / Exprimés"]

{"sheet":"F2","index":17,"n_rows":42,"n_cols":7,"rows_kept":42,"cut":false,"hidden":false,"merged":[]}
[]
[]
["F2","-","GROUPE SCOLAIRE ÉMILE GEHANT (Avenue des Frères Lumière)"]
[]
[]
[]
[null,null,null,"INSCRITS",516,"%"]
[null,null,null,"Émargements",224]
[null,null,null,"Votants (participation)",224,{"$f":"IF($E$7=0,0,E9/$E$7)","v":0.43410852713178294},"(1)"]
[null,null,null,"Blancs",6,{"$f":"IF($E$9=0,0,E10/$E$9)","v":2.6785714285714284E-2},"(2)"]
[null,null,null,"Nuls",3,{"$f":"IF($E$9=0,0,E11/$E$9)","v":1.3392857142857142E-2},"(2)"]
[null,null,null,"Exprimés",215,{"$f":"IF($E$7=0,0,E12/$E$7)","v":0.41666666666666669},"(3)"]
[null,null,null,{"$f":"CONCATENATE(\"Liste \",RESULTATS!U$9,\" \",RESULTATS!U$10)","v":"Liste Nadine MORANO"},27,{"$f":"IF(E$12=0,0,E13/E$12)","v":0.12558139534883722},"(4)"]
[null,null,null,{"$f":"CONCATENATE(\"Liste \",RESULTATS!Y$9,\" \",RESULTATS!Y$10)","v":"Liste Joe LABAT"},0,0]
[null,null,null,{"$f":"CONCATENATE(\"Liste \",RESULTATS!AC$9,\" \",RESULTATS!AC$10)","v":"Liste Claire ROCHER"},6,2.7906976744186046E-2]
[null,null,null,{"$f":"CONCATENATE(\"Liste \",RESULTATS!AG$9,\" \",RESULTATS!AG$10)","v":"Liste Christian D'ANDLAU-HOMBOURG"},0,0]
[null,null,null,{"$f":"CONCATENATE(\"Liste \",RESULTATS!AK$9,\" \",RESULTATS!AK$10)","v":"Liste Edouard MARTIN"},25,0.11627906976744186]
[null,null,null,{"$f":"CONCATENATE(\"Liste \",RESULTATS!AO$9,\" \",RESULTATS!AO$10)","v":"Liste Gaël DIAFERIA"},0,0]
[null,null,null,{"$f":"CONCATENATE(\"Liste \",RESULTATS!AS$9,\" \",RESULTATS!AS$10)","v":"Liste Nathalie GRIESBECK"},13,6.0465116279069767E-2]
[null,null,null,{"$f":"CONCATENATE(\"Liste \",RESULTATS!AW$9,\" \",RESULTATS!AW$10)","v":"Liste Julien GONZALEZ"},11,5.1162790697674418E-2]
[null,null,null,{"$f":"CONCATENATE(\"Liste \",RESULTATS!BA$9,\" \",RESULTATS!BA$10)","v":"Liste Philippe COUKA"},0,0]
[null,null,null,{"$f":"CONCATENATE(\"Liste \",RESULTATS!BE$9,\" \",RESULTATS!BE$10)","v":"Liste Antoine RENARD"},0,0]
[null,null,null,{"$f":"CONCATENATE(\"Liste \",RESULTATS!BI$9,\" \",RESULTATS!BI$10)","v":"Liste Geneviève MARTIN"},1,4.6511627906976744E-3]
[null,null,null,{"$f":"CONCATENATE(\"Liste \",RESULTATS!BM$9,\" \",RESULTATS!BM$10)","v":"Liste Isabelle VÉRIN"},1,4.6511627906976744E-3]
[null,null,null,{"$f":"CONCATENATE(\"Liste \",RESULTATS!U$59,\" \",RESULTATS!U$60)","v":"Liste Xavier DESSAIGNE"},1,4.6511627906976744E-3]
[null,null,null,{"$f":"CONCATENATE(\"Liste \",RESULTATS!Y$59,\" \",RESULTATS!Y$60)","v":"Liste Sandrine PICO"},0,0]
[null,null,null,{"$f":"CONCATENATE(\"Liste \",RESULTATS!AC$59,\" \",RESULTATS!AC$60)","v":"Liste Florian PHILIPPOT"},71,0.33023255813953489]
[null,null,null,{"$f":"CONCATENATE(\"Liste \",RESULTATS!AG$59,\" \",RESULTATS!AG$60)","v":"Liste Sandrine BELIER"},22,0.10232558139534884]
[null,null,null,{"$f":"CONCATENATE(\"Liste \",RESULTATS!AK$59,\" \",RESULTATS!AK$60)","v":"Liste Ismaël BOUDJEKADA"},0,0]
[null,null,null,{"$f":"CONCATENATE(\"Liste \",RESULTATS!AO$59,\" \",RESULTATS!AO$60)","v":"Liste Laure FERRARI"},4,1.8604651162790697E-2]
[null,null,null,{"$f":"CONCATENATE(\"Liste \",RESULTATS!AS$59,\" \",RESULTATS!AS$60)","v":"Liste Antonio SANCHEZ"},0,0]
[null,null,null,{"$f":"CONCATENATE(\"Liste \",RESULTATS!AW$59,\" \",RESULTATS!AW$60)","v":"Liste Isabelle MAURER"},2,{"$f":"IF(E$12=0,0,E32/E$12)","v":9.3023255813953487E-3}]
[null,null,null,{"$f":"CONCATENATE(\"Liste \",RESULTATS!BA$59,\" \",RESULTATS!BA$60)","v":"Liste Yannick HERVE"},3,{"$f":"IF(E$12=0,0,E33/E$12)","v":1.3953488372093023E-2}]
[null,null,null,{"$f":"CONCATENATE(\"Liste \",RESULTATS!BE$59,\" \",RESULTATS!BE$60)","v":"Liste Gabriel AMARD"},27,{"$f":"IF(E$12=0,0,E34/E$12)","v":0.12558139534883722}]
[null,null,null,{"$f":"CONCATENATE(\"Liste \",RESULTATS!BI$59,\" \",RESULTATS!BI$60)","v":"Liste Florence LHOTE"},1,{"$f":"IF(E$12=0,0,E35/E$12)","v":4.6511627906976744E-3}]
[null,null,null,null,{"$f":"IF(SUM(E13:E35)<>E12,\"!!! FAUX\",\"\")","v":""}]
[null,null,null,"TOTAL  :",{"$f":"SUM(E13:E35)","v":215}]
[]
[null,null,null,null,null,"(1) Votants / Inscrits"]
[null,null,null,null,null,"(2) Nuls / Votants"]
[null,null,null,null,null,"(3) Exprimés / Inscrits"]
[null,null,null,null,null,"(4) Score / Exprimés"]

{"sheet":"G1","index":18,"n_rows":42,"n_cols":7,"rows_kept":42,"cut":false,"hidden":false,"merged":[]}
[]
[]
["G1","-","GROUPE SCOLAIRE HUBERT METZGER (La Pépinière - Rue Cuvier)"]
[]
[]
[]
[null,null,null,"INSCRITS",650,"%"]
[null,null,null,"Émargements",266]
[null,null,null,"Votants (participation)",266,{"$f":"IF($E$7=0,0,E9/$E$7)","v":0.40923076923076923},"(1)"]
[null,null,null,"Blancs",7,{"$f":"IF($E$9=0,0,E10/$E$9)","v":2.6315789473684209E-2},"(2)"]
[null,null,null,"Nuls",7,{"$f":"IF($E$9=0,0,E11/$E$9)","v":2.6315789473684209E-2},"(2)"]
[null,null,null,"Exprimés",252,{"$f":"IF($E$7=0,0,E12/$E$7)","v":0.38769230769230767},"(3)"]
[null,null,null,{"$f":"CONCATENATE(\"Liste \",RESULTATS!U$9,\" \",RESULTATS!U$10)","v":"Liste Nadine MORANO"},31,{"$f":"IF(E$12=0,0,E13/E$12)","v":0.12301587301587301},"(4)"]
[null,null,null,{"$f":"CONCATENATE(\"Liste \",RESULTATS!Y$9,\" \",RESULTATS!Y$10)","v":"Liste Joe LABAT"},1,3.968253968253968E-3]
[null,null,null,{"$f":"CONCATENATE(\"Liste \",RESULTATS!AC$9,\" \",RESULTATS!AC$10)","v":"Liste Claire ROCHER"},5,1.984126984126984E-2]
[null,null,null,{"$f":"CONCATENATE(\"Liste \",RESULTATS!AG$9,\" \",RESULTATS!AG$10)","v":"Liste Christian D'ANDLAU-HOMBOURG"},0,0]
[null,null,null,{"$f":"CONCATENATE(\"Liste \",RESULTATS!AK$9,\" \",RESULTATS!AK$10)","v":"Liste Edouard MARTIN"},29,0.11507936507936507]
[null,null,null,{"$f":"CONCATENATE(\"Liste \",RESULTATS!AO$9,\" \",RESULTATS!AO$10)","v":"Liste Gaël DIAFERIA"},1,3.968253968253968E-3]
[null,null,null,{"$f":"CONCATENATE(\"Liste \",RESULTATS!AS$9,\" \",RESULTATS!AS$10)","v":"Liste Nathalie GRIESBECK"},31,0.12301587301587301]
[null,null,null,{"$f":"CONCATENATE(\"Liste \",RESULTATS!AW$9,\" \",RESULTATS!AW$10)","v":"Liste Julien GONZALEZ"},7,2.7777777777777776E-2]
[null,null,null,{"$f":"CONCATENATE(\"Liste \",RESULTATS!BA$9,\" \",RESULTATS!BA$10)","v":"Liste Philippe COUKA"},0,0]
[null,null,null,{"$f":"CONCATENATE(\"Liste \",RESULTATS!BE$9,\" \",RESULTATS!BE$10)","v":"Liste Antoine RENARD"},3,1.1904761904761904E-2]
[null,null,null,{"$f":"CONCATENATE(\"Liste \",RESULTATS!BI$9,\" \",RESULTATS!BI$10)","v":"Liste Geneviève MARTIN"},0,0]
[null,null,null,{"$f":"CONCATENATE(\"Liste \",RESULTATS!BM$9,\" \",RESULTATS!BM$10)","v":"Liste Isabelle VÉRIN"},0,0]
[null,null,null,{"$f":"CONCATENATE(\"Liste \",RESULTATS!U$59,\" \",RESULTATS!U$60)","v":"Liste Xavier DESSAIGNE"},1,3.968253968253968E-3]
[null,null,null,{"$f":"CONCATENATE(\"Liste \",RESULTATS!Y$59,\" \",RESULTATS!Y$60)","v":"Liste Sandrine PICO"},0,0]
[null,null,null,{"$f":"CONCATENATE(\"Liste \",RESULTATS!AC$59,\" \",RESULTATS!AC$60)","v":"Liste Florian PHILIPPOT"},67,0.26587301587301587]
[null,null,null,{"$f":"CONCATENATE(\"Liste \",RESULTATS!AG$59,\" \",RESULTATS!AG$60)","v":"Liste Sandrine BELIER"},29,0.11507936507936507]
[null,null,null,{"$f":"CONCATENATE(\"Liste \",RESULTATS!AK$59,\" \",RESULTATS!AK$60)","v":"Liste Ismaël BOUDJEKADA"},0,0]
[null,null,null,{"$f":"CONCATENATE(\"Liste \",RESULTATS!AO$59,\" \",RESULTATS!AO$60)","v":"Liste Laure FERRARI"},7,2.7777777777777776E-2]
[null,null,null,{"$f":"CONCATENATE(\"Liste \",RESULTATS!AS$59,\" \",RESULTATS!AS$60)","v":"Liste Antonio SANCHEZ"},0,0]
[null,null,null,{"$f":"CONCATENATE(\"Liste \",RESULTATS!AW$59,\" \",RESULTATS!AW$60)","v":"Liste Isabelle MAURER"},4,{"$f":"IF(E$12=0,0,E32/E$12)","v":1.5873015873015872E-2}]
[null,null,null,{"$f":"CONCATENATE(\"Liste \",RESULTATS!BA$59,\" \",RESULTATS!BA$60)","v":"Liste Yannick HERVE"},4,{"$f":"IF(E$12=0,0,E33/E$12)","v":1.5873015873015872E-2}]
[null,null,null,{"$f":"CONCATENATE(\"Liste \",RESULTATS!BE$59,\" \",RESULTATS!BE$60)","v":"Liste Gabriel AMARD"},31,{"$f":"IF(E$12=0,0,E34/E$12)","v":0.12301587301587301}]
[null,null,null,{"$f":"CONCATENATE(\"Liste \",RESULTATS!BI$59,\" \",RESULTATS!BI$60)","v":"Liste Florence LHOTE"},1,{"$f":"IF(E$12=0,0,E35/E$12)","v":3.968253968253968E-3}]
[null,null,null,null,{"$f":"IF(SUM(E13:E35)<>E12,\"!!! FAUX\",\"\")","v":""}]
[null,null,null,"TOTAL  :",{"$f":"SUM(E13:E35)","v":252}]
[]
[null,null,null,null,null,"(1) Votants / Inscrits"]
[null,null,null,null,null,"(2) Nuls / Votants"]
[null,null,null,null,null,"(3) Exprimés / Inscrits"]
[null,null,null,null,null,"(4) Score / Exprimés"]

{"sheet":"G2","index":19,"n_rows":42,"n_cols":7,"rows_kept":42,"cut":false,"hidden":false,"merged":[]}
[]
[]
["G2","-","GROUPE SCOLAIRE HUBERT METZGER (La Pépinière - Rue Claude Bernard)"]
[]
[]
[]
[null,null,null,"INSCRITS",753,"%"]
[null,null,null,"Émargements",250]
[null,null,null,"Votants (participation)",250,{"$f":"IF($E$7=0,0,E9/$E$7)","v":0.33200531208499334},"(1)"]
[null,null,null,"Blancs",7,{"$f":"IF($E$9=0,0,E10/$E$9)","v":2.8000000000000001E-2},"(2)"]
[null,null,null,"Nuls",6,{"$f":"IF($E$9=0,0,E11/$E$9)","v":2.4E-2},"(2)"]
[null,null,null,"Exprimés",237,{"$f":"IF($E$7=0,0,E12/$E$7)","v":0.3147410358565737},"(3)"]
[null,null,null,{"$f":"CONCATENATE(\"Liste \",RESULTATS!U$9,\" \",RESULTATS!U$10)","v":"Liste Nadine MORANO"},41,{"$f":"IF(E$12=0,0,E13/E$12)","v":0.1729957805907173},"(4)"]
[null,null,null,{"$f":"CONCATENATE(\"Liste \",RESULTATS!Y$9,\" \",RESULTATS!Y$10)","v":"Liste Joe LABAT"},0,0]
[null,null,null,{"$f":"CONCATENATE(\"Liste \",RESULTATS!AC$9,\" \",RESULTATS!AC$10)","v":"Liste Claire ROCHER"},2,8.4388185654008432E-3]
[null,null,null,{"$f":"CONCATENATE(\"Liste \",RESULTATS!AG$9,\" \",RESULTATS!AG$10)","v":"Liste Christian D'ANDLAU-HOMBOURG"},2,8.4388185654008432E-3]
[null,null,null,{"$f":"CONCATENATE(\"Liste \",RESULTATS!AK$9,\" \",RESULTATS!AK$10)","v":"Liste Edouard MARTIN"},49,0.20675105485232068]
[null,null,null,{"$f":"CONCATENATE(\"Liste \",RESULTATS!AO$9,\" \",RESULTATS!AO$10)","v":"Liste Gaël DIAFERIA"},0,0]
[null,null,null,{"$f":"CONCATENATE(\"Liste \",RESULTATS!AS$9,\" \",RESULTATS!AS$10)","v":"Liste Nathalie GRIESBECK"},14,5.9071729957805907E-2]
[null,null,null,{"$f":"CONCATENATE(\"Liste \",RESULTATS!AW$9,\" \",RESULTATS!AW$10)","v":"Liste Julien GONZALEZ"},4,1.6877637130801686E-2]
[null,null,null,{"$f":"CONCATENATE(\"Liste \",RESULTATS!BA$9,\" \",RESULTATS!BA$10)","v":"Liste Philippe COUKA"},0,0]
[null,null,null,{"$f":"CONCATENATE(\"Liste \",RESULTATS!BE$9,\" \",RESULTATS!BE$10)","v":"Liste Antoine RENARD"},1,4.2194092827004216E-3]
[null,null,null,{"$f":"CONCATENATE(\"Liste \",RESULTATS!BI$9,\" \",RESULTATS!BI$10)","v":"Liste Geneviève MARTIN"},0,0]
[null,null,null,{"$f":"CONCATENATE(\"Liste \",RESULTATS!BM$9,\" \",RESULTATS!BM$10)","v":"Liste Isabelle VÉRIN"},2,8.4388185654008432E-3]
[null,null,null,{"$f":"CONCATENATE(\"Liste \",RESULTATS!U$59,\" \",RESULTATS!U$60)","v":"Liste Xavier DESSAIGNE"},0,0]
[null,null,null,{"$f":"CONCATENATE(\"Liste \",RESULTATS!Y$59,\" \",RESULTATS!Y$60)","v":"Liste Sandrine PICO"},0,0]
[null,null,null,{"$f":"CONCATENATE(\"Liste \",RESULTATS!AC$59,\" \",RESULTATS!AC$60)","v":"Liste Florian PHILIPPOT"},75,0.31645569620253167]
[null,null,null,{"$f":"CONCATENATE(\"Liste \",RESULTATS!AG$59,\" \",RESULTATS!AG$60)","v":"Liste Sandrine BELIER"},11,4.6413502109704644E-2]
[null,null,null,{"$f":"CONCATENATE(\"Liste \",RESULTATS!AK$59,\" \",RESULTATS!AK$60)","v":"Liste Ismaël BOUDJEKADA"},0,0]
[null,null,null,{"$f":"CONCATENATE(\"Liste \",RESULTATS!AO$59,\" \",RESULTATS!AO$60)","v":"Liste Laure FERRARI"},4,1.6877637130801686E-2]
[null,null,null,{"$f":"CONCATENATE(\"Liste \",RESULTATS!AS$59,\" \",RESULTATS!AS$60)","v":"Liste Antonio SANCHEZ"},0,0]
[null,null,null,{"$f":"CONCATENATE(\"Liste \",RESULTATS!AW$59,\" \",RESULTATS!AW$60)","v":"Liste Isabelle MAURER"},9,{"$f":"IF(E$12=0,0,E32/E$12)","v":3.7974683544303799E-2}]
[null,null,null,{"$f":"CONCATENATE(\"Liste \",RESULTATS!BA$59,\" \",RESULTATS!BA$60)","v":"Liste Yannick HERVE"},1,{"$f":"IF(E$12=0,0,E33/E$12)","v":4.2194092827004216E-3}]
[null,null,null,{"$f":"CONCATENATE(\"Liste \",RESULTATS!BE$59,\" \",RESULTATS!BE$60)","v":"Liste Gabriel AMARD"},22,{"$f":"IF(E$12=0,0,E34/E$12)","v":9.2827004219409287E-2}]
[null,null,null,{"$f":"CONCATENATE(\"Liste \",RESULTATS!BI$59,\" \",RESULTATS!BI$60)","v":"Liste Florence LHOTE"},0,{"$f":"IF(E$12=0,0,E35/E$12)","v":0}]
[null,null,null,null,{"$f":"IF(SUM(E13:E35)<>E12,\"!!! FAUX\",\"\")","v":""}]
[null,null,null,"TOTAL  :",{"$f":"SUM(E13:E35)","v":237}]
[]
[null,null,null,null,null,"(1) Votants / Inscrits"]
[null,null,null,null,null,"(2) Nuls / Votants"]
[null,null,null,null,null,"(3) Exprimés / Inscrits"]
[null,null,null,null,null,"(4) Score / Exprimés"]

{"sheet":"H1","index":20,"n_rows":42,"n_cols":7,"rows_kept":42,"cut":false,"hidden":false,"merged":[]}
[]
[]
["H1","-","ANNEXE DU COLLÈGE LÉONARD DE VINCI (Faubourg de Lyon)"]
[]
[]
[]
[null,null,null,"INSCRITS",1037,"%"]
[null,null,null,"Émargements",377]
[null,null,null,"Votants (participation)",377,{"$f":"IF($E$7=0,0,E9/$E$7)","v":0.36354869816779173},"(1)"]
[null,null,null,"Blancs",7,{"$f":"IF($E$9=0,0,E10/$E$9)","v":1.8567639257294429E-2},"(2)"]
[null,null,null,"Nuls",5,{"$f":"IF($E$9=0,0,E11/$E$9)","v":1.3262599469496022E-2},"(2)"]
[null,null,null,"Exprimés",365,{"$f":"IF($E$7=0,0,E12/$E$7)","v":0.35197685631629699},"(3)"]
[null,null,null,{"$f":"CONCATENATE(\"Liste \",RESULTATS!U$9,\" \",RESULTATS!U$10)","v":"Liste Nadine MORANO"},87,{"$f":"IF(E$12=0,0,E13/E$12)","v":0.23835616438356164},"(4)"]
[null,null,null,{"$f":"CONCATENATE(\"Liste \",RESULTATS!Y$9,\" \",RESULTATS!Y$10)","v":"Liste Joe LABAT"},0,0]
[null,null,null,{"$f":"CONCATENATE(\"Liste \",RESULTATS!AC$9,\" \",RESULTATS!AC$10)","v":"Liste Claire ROCHER"},9,2.4657534246575342E-2]
[null,null,null,{"$f":"CONCATENATE(\"Liste \",RESULTATS!AG$9,\" \",RESULTATS!AG$10)","v":"Liste Christian D'ANDLAU-HOMBOURG"},1,2.7397260273972603E-3]
[null,null,null,{"$f":"CONCATENATE(\"Liste \",RESULTATS!AK$9,\" \",RESULTATS!AK$10)","v":"Liste Edouard MARTIN"},54,0.14794520547945206]
[null,null,null,{"$f":"CONCATENATE(\"Liste \",RESULTATS!AO$9,\" \",RESULTATS!AO$10)","v":"Liste Gaël DIAFERIA"},4,1.0958904109589041E-2]
[null,null,null,{"$f":"CONCATENATE(\"Liste \",RESULTATS!AS$9,\" \",RESULTATS!AS$10)","v":"Liste Nathalie GRIESBECK"},29,7.9452054794520555E-2]
[null,null,null,{"$f":"CONCATENATE(\"Liste \",RESULTATS!AW$9,\" \",RESULTATS!AW$10)","v":"Liste Julien GONZALEZ"},3,8.21917808219178E-3]
[null,null,null,{"$f":"CONCATENATE(\"Liste \",RESULTATS!BA$9,\" \",RESULTATS!BA$10)","v":"Liste Philippe COUKA"},0,0]
[null,null,null,{"$f":"CONCATENATE(\"Liste \",RESULTATS!BE$9,\" \",RESULTATS!BE$10)","v":"Liste Antoine RENARD"},1,2.7397260273972603E-3]
[null,null,null,{"$f":"CONCATENATE(\"Liste \",RESULTATS!BI$9,\" \",RESULTATS!BI$10)","v":"Liste Geneviève MARTIN"},0,0]
[null,null,null,{"$f":"CONCATENATE(\"Liste \",RESULTATS!BM$9,\" \",RESULTATS!BM$10)","v":"Liste Isabelle VÉRIN"},0,0]
[null,null,null,{"$f":"CONCATENATE(\"Liste \",RESULTATS!U$59,\" \",RESULTATS!U$60)","v":"Liste Xavier DESSAIGNE"},5,1.3698630136986301E-2]
[null,null,null,{"$f":"CONCATENATE(\"Liste \",RESULTATS!Y$59,\" \",RESULTATS!Y$60)","v":"Liste Sandrine PICO"},0,0]
[null,null,null,{"$f":"CONCATENATE(\"Liste \",RESULTATS!AC$59,\" \",RESULTATS!AC$60)","v":"Liste Florian PHILIPPOT"},96,0.26301369863013696]
[null,null,null,{"$f":"CONCATENATE(\"Liste \",RESULTATS!AG$59,\" \",RESULTATS!AG$60)","v":"Liste Sandrine BELIER"},30,8.2191780821917804E-2]
[null,null,null,{"$f":"CONCATENATE(\"Liste \",RESULTATS!AK$59,\" \",RESULTATS!AK$60)","v":"Liste Ismaël BOUDJEKADA"},0,0]
[null,null,null,{"$f":"CONCATENATE(\"Liste \",RESULTATS!AO$59,\" \",RESULTATS!AO$60)","v":"Liste Laure FERRARI"},11,3.0136986301369864E-2]
[null,null,null,{"$f":"CONCATENATE(\"Liste \",RESULTATS!AS$59,\" \",RESULTATS!AS$60)","v":"Liste Antonio SANCHEZ"},0,0]
[null,null,null,{"$f":"CONCATENATE(\"Liste \",RESULTATS!AW$59,\" \",RESULTATS!AW$60)","v":"Liste Isabelle MAURER"},8,{"$f":"IF(E$12=0,0,E32/E$12)","v":2.1917808219178082E-2}]
[null,null,null,{"$f":"CONCATENATE(\"Liste \",RESULTATS!BA$59,\" \",RESULTATS!BA$60)","v":"Liste Yannick HERVE"},1,{"$f":"IF(E$12=0,0,E33/E$12)","v":2.7397260273972603E-3}]
[null,null,null,{"$f":"CONCATENATE(\"Liste \",RESULTATS!BE$59,\" \",RESULTATS!BE$60)","v":"Liste Gabriel AMARD"},26,{"$f":"IF(E$12=0,0,E34/E$12)","v":7.1232876712328766E-2}]
[null,null,null,{"$f":"CONCATENATE(\"Liste \",RESULTATS!BI$59,\" \",RESULTATS!BI$60)","v":"Liste Florence LHOTE"},0,{"$f":"IF(E$12=0,0,E35/E$12)","v":0}]
[null,null,null,null,{"$f":"IF(SUM(E13:E35)<>E12,\"!!! FAUX\",\"\")","v":""}]
[null,null,null,"TOTAL  :",{"$f":"SUM(E13:E35)","v":365}]
[]
[null,null,null,null,null,"(1) Votants / Inscrits"]
[null,null,null,null,null,"(2) Nuls / Votants"]
[null,null,null,null,null,"(3) Exprimés / Inscrits"]
[null,null,null,null,null,"(4) Score / Exprimés"]

{"sheet":"J1","index":21,"n_rows":42,"n_cols":7,"rows_kept":42,"cut":false,"hidden":false,"merged":[]}
[]
[]
["J1","-","GROUPE SCOLAIRE RENÉ RÜCKLIN (Rue Braille)"]
[]
[]
[]
[null,null,null,"INSCRITS",591,"%"]
[null,null,null,"Émargements",179]
[null,null,null,"Votants (participation)",179,{"$f":"IF($E$7=0,0,E9/$E$7)","v":0.30287648054145516},"(1)"]
[null,null,null,"Blancs",8,{"$f":"IF($E$9=0,0,E10/$E$9)","v":4.4692737430167599E-2},"(2)"]
[null,null,null,"Nuls",7,{"$f":"IF($E$9=0,0,E11/$E$9)","v":3.9106145251396648E-2},"(2)"]
[null,null,null,"Exprimés",164,{"$f":"IF($E$7=0,0,E12/$E$7)","v":0.27749576988155666},"(3)"]
[null,null,null,{"$f":"CONCATENATE(\"Liste \",RESULTATS!U$9,\" \",RESULTATS!U$10)","v":"Liste Nadine MORANO"},23,{"$f":"IF(E$12=0,0,E13/E$12)","v":0.1402439024390244},"(4)"]
[null,null,null,{"$f":"CONCATENATE(\"Liste \",RESULTATS!Y$9,\" \",RESULTATS!Y$10)","v":"Liste Joe LABAT"},0,0]
[null,null,null,{"$f":"CONCATENATE(\"Liste \",RESULTATS!AC$9,\" \",RESULTATS!AC$10)","v":"Liste Claire ROCHER"},7,4.2682926829268296E-2]
[null,null,null,{"$f":"CONCATENATE(\"Liste \",RESULTATS!AG$9,\" \",RESULTATS!AG$10)","v":"Liste Christian D'ANDLAU-HOMBOURG"},1,6.0975609756097563E-3]
[null,null,null,{"$f":"CONCATENATE(\"Liste \",RESULTATS!AK$9,\" \",RESULTATS!AK$10)","v":"Liste Edouard MARTIN"},21,0.12804878048780488]
[null,null,null,{"$f":"CONCATENATE(\"Liste \",RESULTATS!AO$9,\" \",RESULTATS!AO$10)","v":"Liste Gaël DIAFERIA"},0,0]
[null,null,null,{"$f":"CONCATENATE(\"Liste \",RESULTATS!AS$9,\" \",RESULTATS!AS$10)","v":"Liste Nathalie GRIESBECK"},10,6.097560975609756E-2]
[null,null,null,{"$f":"CONCATENATE(\"Liste \",RESULTATS!AW$9,\" \",RESULTATS!AW$10)","v":"Liste Julien GONZALEZ"},1,6.0975609756097563E-3]
[null,null,null,{"$f":"CONCATENATE(\"Liste \",RESULTATS!BA$9,\" \",RESULTATS!BA$10)","v":"Liste Philippe COUKA"},0,0]
[null,null,null,{"$f":"CONCATENATE(\"Liste \",RESULTATS!BE$9,\" \",RESULTATS!BE$10)","v":"Liste Antoine RENARD"},1,6.0975609756097563E-3]
[null,null,null,{"$f":"CONCATENATE(\"Liste \",RESULTATS!BI$9,\" \",RESULTATS!BI$10)","v":"Liste Geneviève MARTIN"},1,6.0975609756097563E-3]
[null,null,null,{"$f":"CONCATENATE(\"Liste \",RESULTATS!BM$9,\" \",RESULTATS!BM$10)","v":"Liste Isabelle VÉRIN"},1,6.0975609756097563E-3]
[null,null,null,{"$f":"CONCATENATE(\"Liste \",RESULTATS!U$59,\" \",RESULTATS!U$60)","v":"Liste Xavier DESSAIGNE"},1,6.0975609756097563E-3]
[null,null,null,{"$f":"CONCATENATE(\"Liste \",RESULTATS!Y$59,\" \",RESULTATS!Y$60)","v":"Liste Sandrine PICO"},0,0]
[null,null,null,{"$f":"CONCATENATE(\"Liste \",RESULTATS!AC$59,\" \",RESULTATS!AC$60)","v":"Liste Florian PHILIPPOT"},66,0.40243902439024393]
[null,null,null,{"$f":"CONCATENATE(\"Liste \",RESULTATS!AG$59,\" \",RESULTATS!AG$60)","v":"Liste Sandrine BELIER"},8,4.878048780487805E-2]
[null,null,null,{"$f":"CONCATENATE(\"Liste \",RESULTATS!AK$59,\" \",RESULTATS!AK$60)","v":"Liste Ismaël BOUDJEKADA"},0,0]
[null,null,null,{"$f":"CONCATENATE(\"Liste \",RESULTATS!AO$59,\" \",RESULTATS!AO$60)","v":"Liste Laure FERRARI"},5,3.048780487804878E-2]
[null,null,null,{"$f":"CONCATENATE(\"Liste \",RESULTATS!AS$59,\" \",RESULTATS!AS$60)","v":"Liste Antonio SANCHEZ"},0,0]
[null,null,null,{"$f":"CONCATENATE(\"Liste \",RESULTATS!AW$59,\" \",RESULTATS!AW$60)","v":"Liste Isabelle MAURER"},2,{"$f":"IF(E$12=0,0,E32/E$12)","v":1.2195121951219513E-2}]
[null,null,null,{"$f":"CONCATENATE(\"Liste \",RESULTATS!BA$59,\" \",RESULTATS!BA$60)","v":"Liste Yannick HERVE"},4,{"$f":"IF(E$12=0,0,E33/E$12)","v":2.4390243902439025E-2}]
[null,null,null,{"$f":"CONCATENATE(\"Liste \",RESULTATS!BE$59,\" \",RESULTATS!BE$60)","v":"Liste Gabriel AMARD"},12,{"$f":"IF(E$12=0,0,E34/E$12)","v":7.3170731707317069E-2}]
[null,null,null,{"$f":"CONCATENATE(\"Liste \",RESULTATS!BI$59,\" \",RESULTATS!BI$60)","v":"Liste Florence LHOTE"},0,{"$f":"IF(E$12=0,0,E35/E$12)","v":0}]
[null,null,null,null,{"$f":"IF(SUM(E13:E35)<>E12,\"!!! FAUX\",\"\")","v":""}]
[null,null,null,"TOTAL  :",{"$f":"SUM(E13:E35)","v":164}]
[]
[null,null,null,null,null,"(1) Votants / Inscrits"]
[null,null,null,null,null,"(2) Nuls / Votants"]
[null,null,null,null,null,"(3) Exprimés / Inscrits"]
[null,null,null,null,null,"(4) Score / Exprimés"]

{"sheet":"J2","index":22,"n_rows":42,"n_cols":7,"rows_kept":42,"cut":false,"hidden":false,"merged":[]}
[]
[]
["J2","-","GROUPE SCOLAIRE RENÉ RÜCKLIN (Rue Braille)"]
[]
[]
[]
[null,null,null,"INSCRITS",813,"%"]
[null,null,null,"Émargements",244]
[null,null,null,"Votants (participation)",244,{"$f":"IF($E$7=0,0,E9/$E$7)","v":0.30012300123001229},"(1)"]
[null,null,null,"Blancs",6,{"$f":"IF($E$9=0,0,E10/$E$9)","v":2.4590163934426229E-2},"(2)"]
[null,null,null,"Nuls",1,{"$f":"IF($E$9=0,0,E11/$E$9)","v":4.0983606557377051E-3},"(2)"]
[null,null,null,"Exprimés",237,{"$f":"IF($E$7=0,0,E12/$E$7)","v":0.29151291512915128},"(3)"]
[null,null,null,{"$f":"CONCATENATE(\"Liste \",RESULTATS!U$9,\" \",RESULTATS!U$10)","v":"Liste Nadine MORANO"},54,{"$f":"IF(E$12=0,0,E13/E$12)","v":0.22784810126582278},"(4)"]
[null,null,null,{"$f":"CONCATENATE(\"Liste \",RESULTATS!Y$9,\" \",RESULTATS!Y$10)","v":"Liste Joe LABAT"},0,0]
[null,null,null,{"$f":"CONCATENATE(\"Liste \",RESULTATS!AC$9,\" \",RESULTATS!AC$10)","v":"Liste Claire ROCHER"},10,4.2194092827004218E-2]
[null,null,null,{"$f":"CONCATENATE(\"Liste \",RESULTATS!AG$9,\" \",RESULTATS!AG$10)","v":"Liste Christian D'ANDLAU-HOMBOURG"},0,0]
[null,null,null,{"$f":"CONCATENATE(\"Liste \",RESULTATS!AK$9,\" \",RESULTATS!AK$10)","v":"Liste Edouard MARTIN"},34,0.14345991561181434]
[null,null,null,{"$f":"CONCATENATE(\"Liste \",RESULTATS!AO$9,\" \",RESULTATS!AO$10)","v":"Liste Gaël DIAFERIA"},0,0]
[null,null,null,{"$f":"CONCATENATE(\"Liste \",RESULTATS!AS$9,\" \",RESULTATS!AS$10)","v":"Liste Nathalie GRIESBECK"},23,9.7046413502109699E-2]
[null,null,null,{"$f":"CONCATENATE(\"Liste \",RESULTATS!AW$9,\" \",RESULTATS!AW$10)","v":"Liste Julien GONZALEZ"},3,1.2658227848101266E-2]
[null,null,null,{"$f":"CONCATENATE(\"Liste \",RESULTATS!BA$9,\" \",RESULTATS!BA$10)","v":"Liste Philippe COUKA"},0,0]
[null,null,null,{"$f":"CONCATENATE(\"Liste \",RESULTATS!BE$9,\" \",RESULTATS!BE$10)","v":"Liste Antoine RENARD"},1,4.2194092827004216E-3]
[null,null,null,{"$f":"CONCATENATE(\"Liste \",RESULTATS!BI$9,\" \",RESULTATS!BI$10)","v":"Liste Geneviève MARTIN"},1,4.2194092827004216E-3]
[null,null,null,{"$f":"CONCATENATE(\"Liste \",RESULTATS!BM$9,\" \",RESULTATS!BM$10)","v":"Liste Isabelle VÉRIN"},0,0]
[null,null,null,{"$f":"CONCATENATE(\"Liste \",RESULTATS!U$59,\" \",RESULTATS!U$60)","v":"Liste Xavier DESSAIGNE"},1,4.2194092827004216E-3]
[null,null,null,{"$f":"CONCATENATE(\"Liste \",RESULTATS!Y$59,\" \",RESULTATS!Y$60)","v":"Liste Sandrine PICO"},0,0]
[null,null,null,{"$f":"CONCATENATE(\"Liste \",RESULTATS!AC$59,\" \",RESULTATS!AC$60)","v":"Liste Florian PHILIPPOT"},69,0.29113924050632911]
[null,null,null,{"$f":"CONCATENATE(\"Liste \",RESULTATS!AG$59,\" \",RESULTATS!AG$60)","v":"Liste Sandrine BELIER"},11,4.6413502109704644E-2]
[null,null,null,{"$f":"CONCATENATE(\"Liste \",RESULTATS!AK$59,\" \",RESULTATS!AK$60)","v":"Liste Ismaël BOUDJEKADA"},0,0]
[null,null,null,{"$f":"CONCATENATE(\"Liste \",RESULTATS!AO$59,\" \",RESULTATS!AO$60)","v":"Liste Laure FERRARI"},6,2.5316455696202531E-2]
[null,null,null,{"$f":"CONCATENATE(\"Liste \",RESULTATS!AS$59,\" \",RESULTATS!AS$60)","v":"Liste Antonio SANCHEZ"},0,0]
[null,null,null,{"$f":"CONCATENATE(\"Liste \",RESULTATS!AW$59,\" \",RESULTATS!AW$60)","v":"Liste Isabelle MAURER"},2,{"$f":"IF(E$12=0,0,E32/E$12)","v":8.4388185654008432E-3}]
[null,null,null,{"$f":"CONCATENATE(\"Liste \",RESULTATS!BA$59,\" \",RESULTATS!BA$60)","v":"Liste Yannick HERVE"},1,{"$f":"IF(E$12=0,0,E33/E$12)","v":4.2194092827004216E-3}]
[null,null,null,{"$f":"CONCATENATE(\"Liste \",RESULTATS!BE$59,\" \",RESULTATS!BE$60)","v":"Liste Gabriel AMARD"},20,{"$f":"IF(E$12=0,0,E34/E$12)","v":8.4388185654008435E-2}]
[null,null,null,{"$f":"CONCATENATE(\"Liste \",RESULTATS!BI$59,\" \",RESULTATS!BI$60)","v":"Liste Florence LHOTE"},1,{"$f":"IF(E$12=0,0,E35/E$12)","v":4.2194092827004216E-3}]
[null,null,null,null,{"$f":"IF(SUM(E13:E35)<>E12,\"!!! FAUX\",\"\")","v":""}]
[null,null,null,"TOTAL  :",{"$f":"SUM(E13:E35)","v":237}]
[]
[null,null,null,null,null,"(1) Votants / Inscrits"]
[null,null,null,null,null,"(2) Nuls / Votants"]
[null,null,null,null,null,"(3) Exprimés / Inscrits"]
[null,null,null,null,null,"(4) Score / Exprimés"]

{"sheet":"J3","index":23,"n_rows":42,"n_cols":7,"rows_kept":42,"cut":false,"hidden":false,"merged":[]}
[]
[]
["J3","-","GROUPE SCOLAIRE RENÉ RÜCKLIN (Rue de Rome)"]
[]
[]
[]
[null,null,null,"INSCRITS",556,"%"]
[null,null,null,"Émargements",142]
[null,null,null,"Votants (participation)",142,{"$f":"IF($E$7=0,0,E9/$E$7)","v":0.25539568345323743},"(1)"]
[null,null,null,"Blancs",4,{"$f":"IF($E$9=0,0,E10/$E$9)","v":2.8169014084507043E-2},"(2)"]
[null,null,null,"Nuls",5,{"$f":"IF($E$9=0,0,E11/$E$9)","v":3.5211267605633804E-2},"(2)"]
[null,null,null,"Exprimés",133,{"$f":"IF($E$7=0,0,E12/$E$7)","v":0.23920863309352519},"(3)"]
[null,null,null,{"$f":"CONCATENATE(\"Liste \",RESULTATS!U$9,\" \",RESULTATS!U$10)","v":"Liste Nadine MORANO"},19,{"$f":"IF(E$12=0,0,E13/E$12)","v":0.14285714285714285},"(4)"]
[null,null,null,{"$f":"CONCATENATE(\"Liste \",RESULTATS!Y$9,\" \",RESULTATS!Y$10)","v":"Liste Joe LABAT"},0,0]
[null,null,null,{"$f":"CONCATENATE(\"Liste \",RESULTATS!AC$9,\" \",RESULTATS!AC$10)","v":"Liste Claire ROCHER"},2,1.5037593984962405E-2]
[null,null,null,{"$f":"CONCATENATE(\"Liste \",RESULTATS!AG$9,\" \",RESULTATS!AG$10)","v":"Liste Christian D'ANDLAU-HOMBOURG"},1,7.5187969924812026E-3]
[null,null,null,{"$f":"CONCATENATE(\"Liste \",RESULTATS!AK$9,\" \",RESULTATS!AK$10)","v":"Liste Edouard MARTIN"},18,0.13533834586466165]
[null,null,null,{"$f":"CONCATENATE(\"Liste \",RESULTATS!AO$9,\" \",RESULTATS!AO$10)","v":"Liste Gaël DIAFERIA"},1,7.5187969924812026E-3]
[null,null,null,{"$f":"CONCATENATE(\"Liste \",RESULTATS!AS$9,\" \",RESULTATS!AS$10)","v":"Liste Nathalie GRIESBECK"},14,0.10526315789473684]
[null,null,null,{"$f":"CONCATENATE(\"Liste \",RESULTATS!AW$9,\" \",RESULTATS!AW$10)","v":"Liste Julien GONZALEZ"},5,3.7593984962406013E-2]
[null,null,null,{"$f":"CONCATENATE(\"Liste \",RESULTATS!BA$9,\" \",RESULTATS!BA$10)","v":"Liste Philippe COUKA"},0,0]
[null,null,null,{"$f":"CONCATENATE(\"Liste \",RESULTATS!BE$9,\" \",RESULTATS!BE$10)","v":"Liste Antoine RENARD"},1,7.5187969924812026E-3]
[null,null,null,{"$f":"CONCATENATE(\"Liste \",RESULTATS!BI$9,\" \",RESULTATS!BI$10)","v":"Liste Geneviève MARTIN"},0,0]
[null,null,null,{"$f":"CONCATENATE(\"Liste \",RESULTATS!BM$9,\" \",RESULTATS!BM$10)","v":"Liste Isabelle VÉRIN"},0,0]
[null,null,null,{"$f":"CONCATENATE(\"Liste \",RESULTATS!U$59,\" \",RESULTATS!U$60)","v":"Liste Xavier DESSAIGNE"},2,1.5037593984962405E-2]
[null,null,null,{"$f":"CONCATENATE(\"Liste \",RESULTATS!Y$59,\" \",RESULTATS!Y$60)","v":"Liste Sandrine PICO"},0,0]
[null,null,null,{"$f":"CONCATENATE(\"Liste \",RESULTATS!AC$59,\" \",RESULTATS!AC$60)","v":"Liste Florian PHILIPPOT"},32,0.24060150375939848]
[null,null,null,{"$f":"CONCATENATE(\"Liste \",RESULTATS!AG$59,\" \",RESULTATS!AG$60)","v":"Liste Sandrine BELIER"},10,7.5187969924812026E-2]
[null,null,null,{"$f":"CONCATENATE(\"Liste \",RESULTATS!AK$59,\" \",RESULTATS!AK$60)","v":"Liste Ismaël BOUDJEKADA"},0,0]
[null,null,null,{"$f":"CONCATENATE(\"Liste \",RESULTATS!AO$59,\" \",RESULTATS!AO$60)","v":"Liste Laure FERRARI"},2,1.5037593984962405E-2]
[null,null,null,{"$f":"CONCATENATE(\"Liste \",RESULTATS!AS$59,\" \",RESULTATS!AS$60)","v":"Liste Antonio SANCHEZ"},0,0]
[null,null,null,{"$f":"CONCATENATE(\"Liste \",RESULTATS!AW$59,\" \",RESULTATS!AW$60)","v":"Liste Isabelle MAURER"},3,{"$f":"IF(E$12=0,0,E32/E$12)","v":2.2556390977443608E-2}]
[null,null,null,{"$f":"CONCATENATE(\"Liste \",RESULTATS!BA$59,\" \",RESULTATS!BA$60)","v":"Liste Yannick HERVE"},0,{"$f":"IF(E$12=0,0,E33/E$12)","v":0}]
[null,null,null,{"$f":"CONCATENATE(\"Liste \",RESULTATS!BE$59,\" \",RESULTATS!BE$60)","v":"Liste Gabriel AMARD"},23,{"$f":"IF(E$12=0,0,E34/E$12)","v":0.17293233082706766}]
[null,null,null,{"$f":"CONCATENATE(\"Liste \",RESULTATS!BI$59,\" \",RESULTATS!BI$60)","v":"Liste Florence LHOTE"},0,{"$f":"IF(E$12=0,0,E35/E$12)","v":0}]
[null,null,null,null,{"$f":"IF(SUM(E13:E35)<>E12,\"!!! FAUX\",\"\")","v":""}]
[null,null,null,"TOTAL  :",{"$f":"SUM(E13:E35)","v":133}]
[]
[null,null,null,null,null,"(1) Votants / Inscrits"]
[null,null,null,null,null,"(2) Nuls / Votants"]
[null,null,null,null,null,"(3) Exprimés / Inscrits"]
[null,null,null,null,null,"(4) Score / Exprimés"]

{"sheet":"K1","index":24,"n_rows":42,"n_cols":7,"rows_kept":42,"cut":false,"hidden":false,"merged":[]}
[]
[]
["K1","-","GROUPE SCOLAIRE LOUIS PERGAUD (Rue de Zaporojie - Primaire)"]
[]
[]
[]
[null,null,null,"INSCRITS",944,"%"]
[null,null,null,"Émargements",193]
[null,null,null,"Votants (participation)",193,{"$f":"IF($E$7=0,0,E9/$E$7)","v":0.20444915254237289},"(1)"]
[null,null,null,"Blancs",4,{"$f":"IF($E$9=0,0,E10/$E$9)","v":2.072538860103627E-2},"(2)"]
[null,null,null,"Nuls",8,{"$f":"IF($E$9=0,0,E11/$E$9)","v":4.145077720207254E-2},"(2)"]
[null,null,null,"Exprimés",181,{"$f":"IF($E$7=0,0,E12/$E$7)","v":0.19173728813559321},"(3)"]
[null,null,null,{"$f":"CONCATENATE(\"Liste \",RESULTATS!U$9,\" \",RESULTATS!U$10)","v":"Liste Nadine MORANO"},45,{"$f":"IF(E$12=0,0,E13/E$12)","v":0.24861878453038674},"(4)"]
[null,null,null,{"$f":"CONCATENATE(\"Liste \",RESULTATS!Y$9,\" \",RESULTATS!Y$10)","v":"Liste Joe LABAT"},0,0]
[null,null,null,{"$f":"CONCATENATE(\"Liste \",RESULTATS!AC$9,\" \",RESULTATS!AC$10)","v":"Liste Claire ROCHER"},8,4.4198895027624308E-2]
[null,null,null,{"$f":"CONCATENATE(\"Liste \",RESULTATS!AG$9,\" \",RESULTATS!AG$10)","v":"Liste Christian D'ANDLAU-HOMBOURG"},0,0]
[null,null,null,{"$f":"CONCATENATE(\"Liste \",RESULTATS!AK$9,\" \",RESULTATS!AK$10)","v":"Liste Edouard MARTIN"},30,0.16574585635359115]
[null,null,null,{"$f":"CONCATENATE(\"Liste \",RESULTATS!AO$9,\" \",RESULTATS!AO$10)","v":"Liste Gaël DIAFERIA"},0,0]
[null,null,null,{"$f":"CONCATENATE(\"Liste \",RESULTATS!AS$9,\" \",RESULTATS!AS$10)","v":"Liste Nathalie GRIESBECK"},11,6.0773480662983423E-2]
[null,null,null,{"$f":"CONCATENATE(\"Liste \",RESULTATS!AW$9,\" \",RESULTATS!AW$10)","v":"Liste Julien GONZALEZ"},1,5.5248618784530384E-3]
[null,null,null,{"$f":"CONCATENATE(\"Liste \",RESULTATS!BA$9,\" \",RESULTATS!BA$10)","v":"Liste Philippe COUKA"},0,0]
[null,null,null,{"$f":"CONCATENATE(\"Liste \",RESULTATS!BE$9,\" \",RESULTATS!BE$10)","v":"Liste Antoine RENARD"},1,5.5248618784530384E-3]
[null,null,null,{"$f":"CONCATENATE(\"Liste \",RESULTATS!BI$9,\" \",RESULTATS!BI$10)","v":"Liste Geneviève MARTIN"},0,0]
[null,null,null,{"$f":"CONCATENATE(\"Liste \",RESULTATS!BM$9,\" \",RESULTATS!BM$10)","v":"Liste Isabelle VÉRIN"},1,5.5248618784530384E-3]
[null,null,null,{"$f":"CONCATENATE(\"Liste \",RESULTATS!U$59,\" \",RESULTATS!U$60)","v":"Liste Xavier DESSAIGNE"},0,0]
[null,null,null,{"$f":"CONCATENATE(\"Liste \",RESULTATS!Y$59,\" \",RESULTATS!Y$60)","v":"Liste Sandrine PICO"},0,0]
[null,null,null,{"$f":"CONCATENATE(\"Liste \",RESULTATS!AC$59,\" \",RESULTATS!AC$60)","v":"Liste Florian PHILIPPOT"},46,0.2541436464088398]
[null,null,null,{"$f":"CONCATENATE(\"Liste \",RESULTATS!AG$59,\" \",RESULTATS!AG$60)","v":"Liste Sandrine BELIER"},8,4.4198895027624308E-2]
[null,null,null,{"$f":"CONCATENATE(\"Liste \",RESULTATS!AK$59,\" \",RESULTATS!AK$60)","v":"Liste Ismaël BOUDJEKADA"},0,0]
[null,null,null,{"$f":"CONCATENATE(\"Liste \",RESULTATS!AO$59,\" \",RESULTATS!AO$60)","v":"Liste Laure FERRARI"},8,4.4198895027624308E-2]
[null,null,null,{"$f":"CONCATENATE(\"Liste \",RESULTATS!AS$59,\" \",RESULTATS!AS$60)","v":"Liste Antonio SANCHEZ"},0,0]
[null,null,null,{"$f":"CONCATENATE(\"Liste \",RESULTATS!AW$59,\" \",RESULTATS!AW$60)","v":"Liste Isabelle MAURER"},3,{"$f":"IF(E$12=0,0,E32/E$12)","v":1.6574585635359115E-2}]
[null,null,null,{"$f":"CONCATENATE(\"Liste \",RESULTATS!BA$59,\" \",RESULTATS!BA$60)","v":"Liste Yannick HERVE"},2,{"$f":"IF(E$12=0,0,E33/E$12)","v":1.1049723756906077E-2}]
[null,null,null,{"$f":"CONCATENATE(\"Liste \",RESULTATS!BE$59,\" \",RESULTATS!BE$60)","v":"Liste Gabriel AMARD"},17,{"$f":"IF(E$12=0,0,E34/E$12)","v":9.3922651933701654E-2}]
[null,null,null,{"$f":"CONCATENATE(\"Liste \",RESULTATS!BI$59,\" \",RESULTATS!BI$60)","v":"Liste Florence LHOTE"},0,{"$f":"IF(E$12=0,0,E35/E$12)","v":0}]
[null,null,null,null,{"$f":"IF(SUM(E13:E35)<>E12,\"!!! FAUX\",\"\")","v":""}]
[null,null,null,"TOTAL  :",{"$f":"SUM(E13:E35)","v":181}]
[]
[null,null,null,null,null,"(1) Votants / Inscrits"]
[null,null,null,null,null,"(2) Nuls / Votants"]
[null,null,null,null,null,"(3) Exprimés / Inscrits"]
[null,null,null,null,null,"(4) Score / Exprimés"]

{"sheet":"K2","index":25,"n_rows":42,"n_cols":7,"rows_kept":42,"cut":false,"hidden":false,"merged":[]}
[]
[]
["K2","-","GROUPE SCOLAIRE LOUIS PERGAUD (Rue de Zaporojie - Maternelle)"]
[]
[]
[]
[null,null,null,"INSCRITS",784,"%"]
[null,null,null,"Émargements",187]
[null,null,null,"Votants (participation)",187,{"$f":"IF($E$7=0,0,E9/$E$7)","v":0.23852040816326531},"(1)"]
[null,null,null,"Blancs",0,{"$f":"IF($E$9=0,0,E10/$E$9)","v":0},"(2)"]
[null,null,null,"Nuls",6,{"$f":"IF($E$9=0,0,E11/$E$9)","v":3.2085561497326207E-2},"(2)"]
[null,null,null,"Exprimés",181,{"$f":"IF($E$7=0,0,E12/$E$7)","v":0.2308673469387755},"(3)"]
[null,null,null,{"$f":"CONCATENATE(\"Liste \",RESULTATS!U$9,\" \",RESULTATS!U$10)","v":"Liste Nadine MORANO"},36,{"$f":"IF(E$12=0,0,E13/E$12)","v":0.19889502762430938},"(4)"]
[null,null,null,{"$f":"CONCATENATE(\"Liste \",RESULTATS!Y$9,\" \",RESULTATS!Y$10)","v":"Liste Joe LABAT"},0,0]
[null,null,null,{"$f":"CONCATENATE(\"Liste \",RESULTATS!AC$9,\" \",RESULTATS!AC$10)","v":"Liste Claire ROCHER"},6,3.3149171270718231E-2]
[null,null,null,{"$f":"CONCATENATE(\"Liste \",RESULTATS!AG$9,\" \",RESULTATS!AG$10)","v":"Liste Christian D'ANDLAU-HOMBOURG"},0,0]
[null,null,null,{"$f":"CONCATENATE(\"Liste \",RESULTATS!AK$9,\" \",RESULTATS!AK$10)","v":"Liste Edouard MARTIN"},33,0.18232044198895028]
[null,null,null,{"$f":"CONCATENATE(\"Liste \",RESULTATS!AO$9,\" \",RESULTATS!AO$10)","v":"Liste Gaël DIAFERIA"},0,0]
[null,null,null,{"$f":"CONCATENATE(\"Liste \",RESULTATS!AS$9,\" \",RESULTATS!AS$10)","v":"Liste Nathalie GRIESBECK"},11,6.0773480662983423E-2]
[null,null,null,{"$f":"CONCATENATE(\"Liste \",RESULTATS!AW$9,\" \",RESULTATS!AW$10)","v":"Liste Julien GONZALEZ"},3,1.6574585635359115E-2]
[null,null,null,{"$f":"CONCATENATE(\"Liste \",RESULTATS!BA$9,\" \",RESULTATS!BA$10)","v":"Liste Philippe COUKA"},0,0]
[null,null,null,{"$f":"CONCATENATE(\"Liste \",RESULTATS!BE$9,\" \",RESULTATS!BE$10)","v":"Liste Antoine RENARD"},0,0]
[null,null,null,{"$f":"CONCATENATE(\"Liste \",RESULTATS!BI$9,\" \",RESULTATS!BI$10)","v":"Liste Geneviève MARTIN"},2,1.1049723756906077E-2]
[null,null,null,{"$f":"CONCATENATE(\"Liste \",RESULTATS!BM$9,\" \",RESULTATS!BM$10)","v":"Liste Isabelle VÉRIN"},0,0]
[null,null,null,{"$f":"CONCATENATE(\"Liste \",RESULTATS!U$59,\" \",RESULTATS!U$60)","v":"Liste Xavier DESSAIGNE"},1,5.5248618784530384E-3]
[null,null,null,{"$f":"CONCATENATE(\"Liste \",RESULTATS!Y$59,\" \",RESULTATS!Y$60)","v":"Liste Sandrine PICO"},0,0]
[null,null,null,{"$f":"CONCATENATE(\"Liste \",RESULTATS!AC$59,\" \",RESULTATS!AC$60)","v":"Liste Florian PHILIPPOT"},48,0.26519337016574585]
[null,null,null,{"$f":"CONCATENATE(\"Liste \",RESULTATS!AG$59,\" \",RESULTATS!AG$60)","v":"Liste Sandrine BELIER"},15,8.2872928176795577E-2]
[null,null,null,{"$f":"CONCATENATE(\"Liste \",RESULTATS!AK$59,\" \",RESULTATS!AK$60)","v":"Liste Ismaël BOUDJEKADA"},0,0]
[null,null,null,{"$f":"CONCATENATE(\"Liste \",RESULTATS!AO$59,\" \",RESULTATS!AO$60)","v":"Liste Laure FERRARI"},4,2.2099447513812154E-2]
[null,null,null,{"$f":"CONCATENATE(\"Liste \",RESULTATS!AS$59,\" \",RESULTATS!AS$60)","v":"Liste Antonio SANCHEZ"},0,0]
[null,null,null,{"$f":"CONCATENATE(\"Liste \",RESULTATS!AW$59,\" \",RESULTATS!AW$60)","v":"Liste Isabelle MAURER"},8,{"$f":"IF(E$12=0,0,E32/E$12)","v":4.4198895027624308E-2}]
[null,null,null,{"$f":"CONCATENATE(\"Liste \",RESULTATS!BA$59,\" \",RESULTATS!BA$60)","v":"Liste Yannick HERVE"},1,{"$f":"IF(E$12=0,0,E33/E$12)","v":5.5248618784530384E-3}]
[null,null,null,{"$f":"CONCATENATE(\"Liste \",RESULTATS!BE$59,\" \",RESULTATS!BE$60)","v":"Liste Gabriel AMARD"},13,{"$f":"IF(E$12=0,0,E34/E$12)","v":7.18232044198895E-2}]
[null,null,null,{"$f":"CONCATENATE(\"Liste \",RESULTATS!BI$59,\" \",RESULTATS!BI$60)","v":"Liste Florence LHOTE"},0,{"$f":"IF(E$12=0,0,E35/E$12)","v":0}]
[null,null,null,null,{"$f":"IF(SUM(E13:E35)<>E12,\"!!! FAUX\",\"\")","v":""}]
[null,null,null,"TOTAL  :",{"$f":"SUM(E13:E35)","v":181}]
[]
[null,null,null,null,null,"(1) Votants / Inscrits"]
[null,null,null,null,null,"(2) Nuls / Votants"]
[null,null,null,null,null,"(3) Exprimés / Inscrits"]
[null,null,null,null,null,"(4) Score / Exprimés"]

{"sheet":"L1","index":26,"n_rows":42,"n_cols":7,"rows_kept":42,"cut":false,"hidden":false,"merged":[]}
[]
[]
["L1","-","LES BARRES - MATERNELLE (Via d'Auxelles)"]
[]
[]
[]
[null,null,null,"INSCRITS",1314,"%"]
[null,null,null,"Émargements",500]
[null,null,null,"Votants (participation)",500,{"$f":"IF($E$7=0,0,E9/$E$7)","v":0.38051750380517502},"(1)"]
[null,null,null,"Blancs",11,{"$f":"IF($E$9=0,0,E10/$E$9)","v":2.1999999999999999E-2},"(2)"]
[null,null,null,"Nuls",5,{"$f":"IF($E$9=0,0,E11/$E$9)","v":0.01},"(2)"]
[null,null,null,"Exprimés",484,{"$f":"IF($E$7=0,0,E12/$E$7)","v":0.36834094368340942},"(3)"]
[null,null,null,{"$f":"CONCATENATE(\"Liste \",RESULTATS!U$9,\" \",RESULTATS!U$10)","v":"Liste Nadine MORANO"},99,{"$f":"IF(E$12=0,0,E13/E$12)","v":0.20454545454545456},"(4)"]
[null,null,null,{"$f":"CONCATENATE(\"Liste \",RESULTATS!Y$9,\" \",RESULTATS!Y$10)","v":"Liste Joe LABAT"},2,4.1322314049586778E-3]
[null,null,null,{"$f":"CONCATENATE(\"Liste \",RESULTATS!AC$9,\" \",RESULTATS!AC$10)","v":"Liste Claire ROCHER"},12,2.4793388429752067E-2]
[null,null,null,{"$f":"CONCATENATE(\"Liste \",RESULTATS!AG$9,\" \",RESULTATS!AG$10)","v":"Liste Christian D'ANDLAU-HOMBOURG"},1,2.0661157024793389E-3]
[null,null,null,{"$f":"CONCATENATE(\"Liste \",RESULTATS!AK$9,\" \",RESULTATS!AK$10)","v":"Liste Edouard MARTIN"},87,0.17975206611570249]
[null,null,null,{"$f":"CONCATENATE(\"Liste \",RESULTATS!AO$9,\" \",RESULTATS!AO$10)","v":"Liste Gaël DIAFERIA"},4,8.2644628099173556E-3]
[null,null,null,{"$f":"CONCATENATE(\"Liste \",RESULTATS!AS$9,\" \",RESULTATS!AS$10)","v":"Liste Nathalie GRIESBECK"},29,5.9917355371900828E-2]
[null,null,null,{"$f":"CONCATENATE(\"Liste \",RESULTATS!AW$9,\" \",RESULTATS!AW$10)","v":"Liste Julien GONZALEZ"},19,3.9256198347107439E-2]
[null,null,null,{"$f":"CONCATENATE(\"Liste \",RESULTATS!BA$9,\" \",RESULTATS!BA$10)","v":"Liste Philippe COUKA"},1,2.0661157024793389E-3]
[null,null,null,{"$f":"CONCATENATE(\"Liste \",RESULTATS!BE$9,\" \",RESULTATS!BE$10)","v":"Liste Antoine RENARD"},2,4.1322314049586778E-3]
[null,null,null,{"$f":"CONCATENATE(\"Liste \",RESULTATS!BI$9,\" \",RESULTATS!BI$10)","v":"Liste Geneviève MARTIN"},1,2.0661157024793389E-3]
[null,null,null,{"$f":"CONCATENATE(\"Liste \",RESULTATS!BM$9,\" \",RESULTATS!BM$10)","v":"Liste Isabelle VÉRIN"},2,4.1322314049586778E-3]
[null,null,null,{"$f":"CONCATENATE(\"Liste \",RESULTATS!U$59,\" \",RESULTATS!U$60)","v":"Liste Xavier DESSAIGNE"},2,4.1322314049586778E-3]
[null,null,null,{"$f":"CONCATENATE(\"Liste \",RESULTATS!Y$59,\" \",RESULTATS!Y$60)","v":"Liste Sandrine PICO"},0,0]
[null,null,null,{"$f":"CONCATENATE(\"Liste \",RESULTATS!AC$59,\" \",RESULTATS!AC$60)","v":"Liste Florian PHILIPPOT"},111,0.22933884297520662]
[null,null,null,{"$f":"CONCATENATE(\"Liste \",RESULTATS!AG$59,\" \",RESULTATS!AG$60)","v":"Liste Sandrine BELIER"},37,7.6446280991735532E-2]
[null,null,null,{"$f":"CONCATENATE(\"Liste \",RESULTATS!AK$59,\" \",RESULTATS!AK$60)","v":"Liste Ismaël BOUDJEKADA"},0,0]
[null,null,null,{"$f":"CONCATENATE(\"Liste \",RESULTATS!AO$59,\" \",RESULTATS!AO$60)","v":"Liste Laure FERRARI"},7,1.4462809917355372E-2]
[null,null,null,{"$f":"CONCATENATE(\"Liste \",RESULTATS!AS$59,\" \",RESULTATS!AS$60)","v":"Liste Antonio SANCHEZ"},0,0]
[null,null,null,{"$f":"CONCATENATE(\"Liste \",RESULTATS!AW$59,\" \",RESULTATS!AW$60)","v":"Liste Isabelle MAURER"},22,{"$f":"IF(E$12=0,0,E32/E$12)","v":4.5454545454545456E-2}]
[null,null,null,{"$f":"CONCATENATE(\"Liste \",RESULTATS!BA$59,\" \",RESULTATS!BA$60)","v":"Liste Yannick HERVE"},3,{"$f":"IF(E$12=0,0,E33/E$12)","v":6.1983471074380167E-3}]
[null,null,null,{"$f":"CONCATENATE(\"Liste \",RESULTATS!BE$59,\" \",RESULTATS!BE$60)","v":"Liste Gabriel AMARD"},40,{"$f":"IF(E$12=0,0,E34/E$12)","v":8.2644628099173556E-2}]
[null,null,null,{"$f":"CONCATENATE(\"Liste \",RESULTATS!BI$59,\" \",RESULTATS!BI$60)","v":"Liste Florence LHOTE"},3,{"$f":"IF(E$12=0,0,E35/E$12)","v":6.1983471074380167E-3}]
[null,null,null,null,{"$f":"IF(SUM(E13:E35)<>E12,\"!!! FAUX\",\"\")","v":""}]
[null,null,null,"TOTAL  :",{"$f":"SUM(E13:E35)","v":484}]
[]
[null,null,null,null,null,"(1) Votants / Inscrits"]
[null,null,null,null,null,"(2) Nuls / Votants"]
[null,null,null,null,null,"(3) Exprimés / Inscrits"]
[null,null,null,null,null,"(4) Score / Exprimés"]

{"sheet":"L2","index":27,"n_rows":42,"n_cols":7,"rows_kept":42,"cut":false,"hidden":false,"merged":[]}
[]
[]
["L2","-","LES BARRES - PRIMAIRE (Rue Ernest Duvillard)"]
[]
[]
[]
[null,null,null,"INSCRITS",1146,"%"]
[null,null,null,"Émargements",507]
[null,null,null,"Votants (participation)",507,{"$f":"IF($E$7=0,0,E9/$E$7)","v":0.44240837696335078},"(1)"]
[null,null,null,"Blancs",5,{"$f":"IF($E$9=0,0,E10/$E$9)","v":9.8619329388560158E-3},"(2)"]
[null,null,null,"Nuls",15,{"$f":"IF($E$9=0,0,E11/$E$9)","v":2.9585798816568046E-2},"(2)"]
[null,null,null,"Exprimés",487,{"$f":"IF($E$7=0,0,E12/$E$7)","v":0.42495636998254799},"(3)"]
[null,null,null,{"$f":"CONCATENATE(\"Liste \",RESULTATS!U$9,\" \",RESULTATS!U$10)","v":"Liste Nadine MORANO"},91,{"$f":"IF(E$12=0,0,E13/E$12)","v":0.18685831622176591},"(4)"]
[null,null,null,{"$f":"CONCATENATE(\"Liste \",RESULTATS!Y$9,\" \",RESULTATS!Y$10)","v":"Liste Joe LABAT"},0,0]
[null,null,null,{"$f":"CONCATENATE(\"Liste \",RESULTATS!AC$9,\" \",RESULTATS!AC$10)","v":"Liste Claire ROCHER"},8,1.6427104722792608E-2]
[null,null,null,{"$f":"CONCATENATE(\"Liste \",RESULTATS!AG$9,\" \",RESULTATS!AG$10)","v":"Liste Christian D'ANDLAU-HOMBOURG"},0,0]
[null,null,null,{"$f":"CONCATENATE(\"Liste \",RESULTATS!AK$9,\" \",RESULTATS!AK$10)","v":"Liste Edouard MARTIN"},74,0.15195071868583163]
[null,null,null,{"$f":"CONCATENATE(\"Liste \",RESULTATS!AO$9,\" \",RESULTATS!AO$10)","v":"Liste Gaël DIAFERIA"},3,6.1601642710472282E-3]
[null,null,null,{"$f":"CONCATENATE(\"Liste \",RESULTATS!AS$9,\" \",RESULTATS!AS$10)","v":"Liste Nathalie GRIESBECK"},36,7.3921971252566734E-2]
[null,null,null,{"$f":"CONCATENATE(\"Liste \",RESULTATS!AW$9,\" \",RESULTATS!AW$10)","v":"Liste Julien GONZALEZ"},14,2.8747433264887063E-2]
[null,null,null,{"$f":"CONCATENATE(\"Liste \",RESULTATS!BA$9,\" \",RESULTATS!BA$10)","v":"Liste Philippe COUKA"},0,0]
[null,null,null,{"$f":"CONCATENATE(\"Liste \",RESULTATS!BE$9,\" \",RESULTATS!BE$10)","v":"Liste Antoine RENARD"},3,6.1601642710472282E-3]
[null,null,null,{"$f":"CONCATENATE(\"Liste \",RESULTATS!BI$9,\" \",RESULTATS!BI$10)","v":"Liste Geneviève MARTIN"},0,0]
[null,null,null,{"$f":"CONCATENATE(\"Liste \",RESULTATS!BM$9,\" \",RESULTATS!BM$10)","v":"Liste Isabelle VÉRIN"},4,8.2135523613963042E-3]
[null,null,null,{"$f":"CONCATENATE(\"Liste \",RESULTATS!U$59,\" \",RESULTATS!U$60)","v":"Liste Xavier DESSAIGNE"},12,2.4640657084188913E-2]
[null,null,null,{"$f":"CONCATENATE(\"Liste \",RESULTATS!Y$59,\" \",RESULTATS!Y$60)","v":"Liste Sandrine PICO"},0,0]
[null,null,null,{"$f":"CONCATENATE(\"Liste \",RESULTATS!AC$59,\" \",RESULTATS!AC$60)","v":"Liste Florian PHILIPPOT"},122,0.25051334702258726]
[null,null,null,{"$f":"CONCATENATE(\"Liste \",RESULTATS!AG$59,\" \",RESULTATS!AG$60)","v":"Liste Sandrine BELIER"},44,9.034907597535935E-2]
[null,null,null,{"$f":"CONCATENATE(\"Liste \",RESULTATS!AK$59,\" \",RESULTATS!AK$60)","v":"Liste Ismaël BOUDJEKADA"},0,0]
[null,null,null,{"$f":"CONCATENATE(\"Liste \",RESULTATS!AO$59,\" \",RESULTATS!AO$60)","v":"Liste Laure FERRARI"},17,3.4907597535934289E-2]
[null,null,null,{"$f":"CONCATENATE(\"Liste \",RESULTATS!AS$59,\" \",RESULTATS!AS$60)","v":"Liste Antonio SANCHEZ"},0,0]
[null,null,null,{"$f":"CONCATENATE(\"Liste \",RESULTATS!AW$59,\" \",RESULTATS!AW$60)","v":"Liste Isabelle MAURER"},17,{"$f":"IF(E$12=0,0,E32/E$12)","v":3.4907597535934289E-2}]
[null,null,null,{"$f":"CONCATENATE(\"Liste \",RESULTATS!BA$59,\" \",RESULTATS!BA$60)","v":"Liste Yannick HERVE"},2,{"$f":"IF(E$12=0,0,E33/E$12)","v":4.1067761806981521E-3}]
[null,null,null,{"$f":"CONCATENATE(\"Liste \",RESULTATS!BE$59,\" \",RESULTATS!BE$60)","v":"Liste Gabriel AMARD"},39,{"$f":"IF(E$12=0,0,E34/E$12)","v":8.0082135523613956E-2}]
[null,null,null,{"$f":"CONCATENATE(\"Liste \",RESULTATS!BI$59,\" \",RESULTATS!BI$60)","v":"Liste Florence LHOTE"},1,{"$f":"IF(E$12=0,0,E35/E$12)","v":2.0533880903490761E-3}]
[null,null,null,null,{"$f":"IF(SUM(E13:E35)<>E12,\"!!! FAUX\",\"\")","v":""}]
[null,null,null,"TOTAL  :",{"$f":"SUM(E13:E35)","v":487}]
[]
[null,null,null,null,null,"(1) Votants / Inscrits"]
[null,null,null,null,null,"(2) Nuls / Votants"]
[null,null,null,null,null,"(3) Exprimés / Inscrits"]
[null,null,null,null,null,"(4) Score / Exprimés"]

{"sheet":"Candidats","index":28,"n_rows":24,"n_cols":5,"rows_kept":24,"cut":false,"hidden":false,"merged":[]}
["Prénom","Nom","Parti","Photo","Commentaire"]
["Nadine","MORANO","POUR LA FRANCE, AGIR EN EUROPE AVEC NADINE MORANO","liste1"]
["Joe","LABAT","EST DÉCROISSANCE 2014","liste2"]
["Claire","ROCHER","LUTTE OUVRIERE FAIRE ENTENDRE LE CAMP DES TRAVAILLEURS","liste3"]
["Christian","D'ANDLAU-HOMBOURG","PARTI FÉDÉRALISTE EUROPÉEN GRAND EST","liste4"]
["Edouard","MARTIN","CHOISIR NOTRE EUROPE","liste5"]
["Gaël","DIAFERIA","POUR UNE EUROPE DES TRAVAILLEURES ET DES PEUPLES ENVOYONS VALSER L'AUSTÉRITÉ ET LE GOUVERNEMENT!","liste6"]
["Nathalie","GRIESBECK","UDI  MODEM LES EUROPEENS. LISTE SOUTENUE PAR FRANÇOIS BAYROU ET JEAN-LOUIS BORLOO","liste7"]
["Julien","GONZALEZ","ALLIANCE ECOLOGISTE INDEPENDANTE","liste8"]
["Philippe","COUKA","CITOYENS DU VOTE BLANC","liste9"]
["Antoine","RENARD","FORCE VIE","liste10"]
["Geneviève","MARTIN","ESPÉRANTO LANGUE COMMUNE EQUITABLE POUR L'EUROPE","liste11"]
["Isabelle","VÉRIN","EUROPE CITOYENNE","liste12"]
["Xavier","DESSAIGNE","NOUS CITOYENS","liste13"]
["Sandrine","PICO","POUR UNE FRANCE ROYALE AU COEUR DE L'EUROPE","liste14"]
["Florian","PHILIPPOT","LISTE BLEU MARINE - NON A BRUXELLES, OUI A LA FRANCE","liste15"]
["Sandrine","BELIER","LISTE EUROPE ECOLOGIE","liste16"]
["Ismaël","BOUDJEKADA","POUR L'UNION, UNE GÉNÉRATION D'ACTION!","liste17"]
["Laure","FERRARI","DEBOUT LA FRANCE ! NI SYSTEME, NI EXTREMES AVEC NICOLAS DUPONT-AIGNAN","liste18"]
["Antonio","SANCHEZ","COMMUNISTES","liste19"]
["Isabelle","MAURER","NOUVELLE DONNE","liste20"]
["Yannick","HERVE","UPR EST","liste21"]
["Gabriel","AMARD","ROMPRE ET REFONDER L'EUROPE LISTE FRONT DE GAUCHE SOUTENUE PAR JEAN-LUC MELENCHON","liste22"]
["Florence","LHOTE","FEMINISTES POUR UNE EUROPE SOLIDAIRE","liste23"]

{"sheet":"RECENS","index":29,"n_rows":85,"n_cols":42,"rows_kept":85,"cut":false,"hidden":false,"merged":[]}
[]
[]
[null,null,null,null,null,null,null,null,null,null,null,null,null,null,null,null,null,"R E C E N S E M E N T   par   B U R E A U"]
[]
[]
[null,"Listes 1 à 12"]
[]
[null,null,null,null,null,null,null,null,null,null,null,null,null,null,null,null,null,null,null,"Liste",null,"Liste",null,"Liste",null,"Liste",null,"Liste",null,"Liste",null,"Liste",null,"Liste",null,"Liste",null,"Liste",null,"Liste",null,"Liste"]
[null,null,null,"BUREAUX",null,"Inscrits",null,"Émargements",null,"Votants",null,"Abstentions",null,"Nuls",null,"Blancs",null,"Exprimés",null,{"$f":"CONCATENATE(RESULTATS!U$9,\" \",RESULTATS!U$10)","v":"Nadine MORANO"},null,{"$f":"CONCATENATE(RESULTATS!Y$9,\" \",RESULTATS!Y$10)","v":"Joe LABAT"},null,{"$f":"CONCATENATE(RESULTATS!AC$9,\" \",RESULTATS!AC$10)","v":"Claire ROCHER"},null,{"$f":"CONCATENATE(RESULTATS!AG$9,\" \",RESULTATS!AG$10)","v":"Christian D'ANDLAU-HOMBOURG"},null,{"$f":"CONCATENATE(RESULTATS!AK$9,\" \",RESULTATS!AK$10)","v":"Edouard MARTIN"},null,{"$f":"CONCATENATE(RESULTATS!AO$9,\" \",RESULTATS!AO$10)","v":"Gaël DIAFERIA"},null,{"$f":"CONCATENATE(RESULTATS!AS$9,\" \",RESULTATS!AS$10)","v":"Nathalie GRIESBECK"},null,{"$f":"CONCATENATE(RESULTATS!AW$9,\" \",RESULTATS!AW$10)","v":"Julien GONZALEZ"},null,{"$f":"CONCATENATE(RESULTATS!BA$9,\" \",RESULTATS!BA$10)","v":"Philippe COUKA"},null,{"$f":"CONCATENATE(RESULTATS!BE$9,\" \",RESULTATS!BE$10)","v":"Antoine RENARD"},null,{"$f":"CONCATENATE(RESULTATS!BI$9,\" \",RESULTATS!BI$10)","v":"Geneviève MARTIN"},null,{"$f":"CONCATENATE(RESULTATS!BM$9,\" \",RESULTATS!BM$10)","v":"Isabelle VÉRIN"}]
[null,null,null,1,null,2,null,3,null,4,null,5,null,6,null,7,null,8,null,9,null,10,null,11,null,12,null,13,null,14,null,15,null,16,null,17,null,18,null,19,null,20]
[]
[]
["A","01","-"," Hôtel de Ville  ","E",{"$f":"RESULTATS!E13","v":856},null,{"$f":"RESULTATS!G13","v":368},null,{"$f":"RESULTATS!I13","v":368},null,{"$f":"IF(ISNUMBER(J13),F13-J13,\"\")","v":488},null,{"$f":"RESULTATS!O13","v":4},null,{"$f":"RESULTATS!M13","v":4},null,{"$f":"RESULTATS!Q13","v":360},null,{"$f":"RESULTATS!U13","v":87},null,{"$f":"RESULTATS!Y13","v":1},null,{"$f":"RESULTATS!AC13","v":5},null,{"$f":"RESULTATS!AG13","v":0},null,{"$f":"RESULTATS!AK13","v":57},null,{"$f":"RESULTATS!AO13","v":1},null,{"$f":"RESULTATS!AS13","v":42},null,{"$f":"RESULTATS!AW13","v":7},null,{"$f":"RESULTATS!BA13","v":0},null,{"$f":"RESULTATS!BE13","v":6},null,{"$f":"RESULTATS!BI13","v":1},null,{"$f":"RESULTATS!BM13","v":3}]
["A","02","-","Salle des fêtes ","E",{"$f":"RESULTATS!E14","v":934},null,{"$f":"RESULTATS!G14","v":476},null,{"$f":"RESULTATS!I14","v":476},null,{"$f":"IF(ISNUMBER(J14),F14-J14,\"\")","v":458},null,{"$f":"RESULTATS!O14","v":10},null,{"$f":"RESULTATS!M14","v":7},null,{"$f":"RESULTATS!Q14","v":459},null,{"$f":"RESULTATS!U14","v":160},null,{"$f":"RESULTATS!Y14","v":0},null,{"$f":"RESULTATS!AC14","v":5},null,{"$f":"RESULTATS!AG14","v":0},null,{"$f":"RESULTATS!AK14","v":60},null,{"$f":"RESULTATS!AO14","v":0},null,{"$f":"RESULTATS!AS14","v":53},null,{"$f":"RESULTATS!AW14","v":10},null,{"$f":"RESULTATS!BA14","v":0},null,{"$f":"RESULTATS!BE14","v":6},null,{"$f":"RESULTATS!BI14","v":0},null,{"$f":"RESULTATS!BM14","v":2}]
["B","01","-","Victor Hugo","E",{"$f":"RESULTATS!E15","v":1068},null,{"$f":"RESULTATS!G15","v":434},null,{"$f":"RESULTATS!I15","v":434},null,634,null,{"$f":"RESULTATS!O15","v":3},null,{"$f":"RESULTATS!M15","v":4},null,{"$f":"RESULTATS!Q15","v":427},null,{"$f":"RESULTATS!U15","v":121},null,{"$f":"RESULTATS!Y15","v":2},null,{"$f":"RESULTATS!AC15","v":4},null,{"$f":"RESULTATS!AG15","v":1},null,{"$f":"RESULTATS!AK15","v":74},null,{"$f":"RESULTATS!AO15","v":0},null,{"$f":"RESULTATS!AS15","v":61},null,{"$f":"RESULTATS!AW15","v":8},null,{"$f":"RESULTATS!BA15","v":0},null,{"$f":"RESULTATS!BE15","v":2},null,{"$f":"RESULTATS!BI15","v":1},null,{"$f":"RESULTATS!BM15","v":1}]
["B","02","-","Victor Hugo","E",{"$f":"RESULTATS!E16","v":1149},null,{"$f":"RESULTATS!G16","v":524},null,{"$f":"RESULTATS!I16","v":524},null,625,null,{"$f":"RESULTATS!O16","v":7},null,{"$f":"RESULTATS!M16","v":1},null,{"$f":"RESULTATS!Q16","v":516},null,{"$f":"RESULTATS!U16","v":145},null,{"$f":"RESULTATS!Y16","v":0},null,{"$f":"RESULTATS!AC16","v":5},null,{"$f":"RESULTATS!AG16","v":1},null,{"$f":"RESULTATS!AK16","v":66},null,{"$f":"RESULTATS!AO16","v":4},null,{"$f":"RESULTATS!AS16","v":64},null,{"$f":"RESULTATS!AW16","v":12},null,{"$f":"RESULTATS!BA16","v":1},null,{"$f":"RESULTATS!BE16","v":10},null,{"$f":"RESULTATS!BI16","v":1},null,{"$f":"RESULTATS!BM16","v":0}]
["M","01","-","Saint-Exupéry","E",{"$f":"RESULTATS!E17","v":1300},null,{"$f":"RESULTATS!G17","v":274},null,{"$f":"RESULTATS!I17","v":274},null,1026,null,{"$f":"RESULTATS!O17","v":14},null,{"$f":"RESULTATS!M17","v":4},null,{"$f":"RESULTATS!Q17","v":256},null,{"$f":"RESULTATS!U17","v":50},null,{"$f":"RESULTATS!Y17","v":0},null,{"$f":"RESULTATS!AC17","v":4},null,{"$f":"RESULTATS!AG17","v":1},null,{"$f":"RESULTATS!AK17","v":48},null,{"$f":"RESULTATS!AO17","v":2},null,{"$f":"RESULTATS!AS17","v":24},null,{"$f":"RESULTATS!AW17","v":4},null,{"$f":"RESULTATS!BA17","v":0},null,{"$f":"RESULTATS!BE17","v":1},null,{"$f":"RESULTATS!BI17","v":1},null,{"$f":"RESULTATS!BM17","v":2}]
["N","01","-","Jean Moulin","E",{"$f":"RESULTATS!E18","v":1451},null,{"$f":"RESULTATS!G18","v":603},null,{"$f":"RESULTATS!I18","v":603},null,848,null,{"$f":"RESULTATS!O18","v":8},null,{"$f":"RESULTATS!M18","v":12},null,{"$f":"RESULTATS!Q18","v":583},null,{"$f":"RESULTATS!U18","v":141},null,{"$f":"RESULTATS!Y18","v":0},null,{"$f":"RESULTATS!AC18","v":4},null,{"$f":"RESULTATS!AG18","v":1},null,{"$f":"RESULTATS!AK18","v":78},null,{"$f":"RESULTATS!AO18","v":4},null,{"$f":"RESULTATS!AS18","v":62},null,{"$f":"RESULTATS!AW18","v":13},null,{"$f":"RESULTATS!BA18","v":2},null,{"$f":"RESULTATS!BE18","v":3},null,{"$f":"RESULTATS!BI18","v":0},null,{"$f":"RESULTATS!BM18","v":3}]
["N","02","-","Cité des Associations","E",{"$f":"RESULTATS!E19","v":899},null,{"$f":"RESULTATS!G19","v":409},null,{"$f":"RESULTATS!I19","v":409},null,490,null,{"$f":"RESULTATS!O19","v":7},null,{"$f":"RESULTATS!M19","v":12},null,{"$f":"RESULTATS!Q19","v":390},null,{"$f":"RESULTATS!U19","v":70},null,{"$f":"RESULTATS!Y19","v":2},null,{"$f":"RESULTATS!AC19","v":6},null,{"$f":"RESULTATS!AG19","v":0},null,{"$f":"RESULTATS!AK19","v":83},null,{"$f":"RESULTATS!AO19","v":1},null,{"$f":"RESULTATS!AS19","v":47},null,{"$f":"RESULTATS!AW19","v":6},null,{"$f":"RESULTATS!BA19","v":0},null,{"$f":"RESULTATS!BE19","v":2},null,{"$f":"RESULTATS!BI19","v":2},null,{"$f":"RESULTATS!BM19","v":2}]
["C","01","-","Victor Schoelcher","C",{"$f":"RESULTATS!E21","v":1194},null,{"$f":"RESULTATS!G21","v":487},null,{"$f":"RESULTATS!I21","v":487},null,707,null,{"$f":"RESULTATS!O21","v":4},null,{"$f":"RESULTATS!M21","v":8},null,{"$f":"RESULTATS!Q21","v":475},null,{"$f":"RESULTATS!U21","v":127},null,{"$f":"RESULTATS!Y21","v":2},null,{"$f":"RESULTATS!AC21","v":4},null,{"$f":"RESULTATS!AG21","v":1},null,{"$f":"RESULTATS!AK21","v":86},null,{"$f":"RESULTATS!AO21","v":2},null,{"$f":"RESULTATS!AS21","v":56},null,{"$f":"RESULTATS!AW21","v":10},null,{"$f":"RESULTATS!BA21","v":0},null,{"$f":"RESULTATS!BE21","v":4},null,{"$f":"RESULTATS!BI21","v":0},null,{"$f":"RESULTATS!BM21","v":3}]
["C","02","-","Maison du Peuple","C",{"$f":"RESULTATS!E22","v":749},null,{"$f":"RESULTATS!G22","v":359},null,{"$f":"RESULTATS!I22","v":359},null,390,null,{"$f":"RESULTATS!O22","v":8},null,{"$f":"RESULTATS!M22","v":4},null,{"$f":"RESULTATS!Q22","v":347},null,{"$f":"RESULTATS!U22","v":108},null,{"$f":"RESULTATS!Y22","v":0},null,{"$f":"RESULTATS!AC22","v":2},null,{"$f":"RESULTATS!AG22","v":0},null,{"$f":"RESULTATS!AK22","v":52},null,{"$f":"RESULTATS!AO22","v":2},null,{"$f":"RESULTATS!AS22","v":33},null,{"$f":"RESULTATS!AW22","v":7},null,{"$f":"RESULTATS!BA22","v":1},null,{"$f":"RESULTATS!BE22","v":1},null,{"$f":"RESULTATS!BI22","v":1},null,{"$f":"RESULTATS!BM22","v":1}]
["C","03","-","Maison du Peuple","C",{"$f":"RESULTATS!E23","v":909},null,{"$f":"RESULTATS!G23","v":426},null,{"$f":"RESULTATS!I23","v":426},null,483,null,{"$f":"RESULTATS!O23","v":5},null,{"$f":"RESULTATS!M23","v":6},null,{"$f":"RESULTATS!Q23","v":415},null,{"$f":"RESULTATS!U23","v":148},null,{"$f":"RESULTATS!Y23","v":1},null,{"$f":"RESULTATS!AC23","v":2},null,{"$f":"RESULTATS!AG23","v":0},null,{"$f":"RESULTATS!AK23","v":65},null,{"$f":"RESULTATS!AO23","v":2},null,{"$f":"RESULTATS!AS23","v":39},null,{"$f":"RESULTATS!AW23","v":7},null,{"$f":"RESULTATS!BA23","v":0},null,{"$f":"RESULTATS!BE23","v":3},null,{"$f":"RESULTATS!BI23","v":1},null,{"$f":"RESULTATS!BM23","v":3}]
["D","01","-","Châteaudun","C",{"$f":"RESULTATS!E24","v":1058},null,{"$f":"RESULTATS!G24","v":444},null,{"$f":"RESULTATS!I24","v":444},null,614,null,{"$f":"RESULTATS!O24","v":7},null,{"$f":"RESULTATS!M24","v":6},null,{"$f":"RESULTATS!Q24","v":431},null,{"$f":"RESULTATS!U24","v":140},null,{"$f":"RESULTATS!Y24","v":0},null,{"$f":"RESULTATS!AC24","v":3},null,{"$f":"RESULTATS!AG24","v":0},null,{"$f":"RESULTATS!AK24","v":61},null,{"$f":"RESULTATS!AO24","v":1},null,{"$f":"RESULTATS!AS24","v":35},null,{"$f":"RESULTATS!AW24","v":10},null,{"$f":"RESULTATS!BA24","v":0},null,{"$f":"RESULTATS!BE24","v":1},null,{"$f":"RESULTATS!BI24","v":1},null,{"$f":"RESULTATS!BM24","v":0}]
["D","02","-","Châteaudun","C",{"$f":"RESULTATS!E25","v":827},null,{"$f":"RESULTATS!G25","v":365},null,{"$f":"RESULTATS!I25","v":365},null,462,null,{"$f":"RESULTATS!O25","v":4},null,{"$f":"RESULTATS!M25","v":5},null,{"$f":"RESULTATS!Q25","v":356},null,{"$f":"RESULTATS!U25","v":104},null,{"$f":"RESULTATS!Y25","v":1},null,{"$f":"RESULTATS!AC25","v":0},null,{"$f":"RESULTATS!AG25","v":0},null,{"$f":"RESULTATS!AK25","v":44},null,{"$f":"RESULTATS!AO25","v":3},null,{"$f":"RESULTATS!AS25","v":44},null,{"$f":"RESULTATS!AW25","v":2},null,{"$f":"RESULTATS!BA25","v":0},null,{"$f":"RESULTATS!BE25","v":0},null,{"$f":"RESULTATS!BI25","v":1},null,{"$f":"RESULTATS!BM25","v":2}]
["D","03","-","Châteaudun","C",{"$f":"RESULTATS!E26","v":895},null,{"$f":"RESULTATS!G26","v":365},null,{"$f":"RESULTATS!I26","v":365},null,530,null,{"$f":"RESULTATS!O26","v":7},null,{"$f":"RESULTATS!M26","v":8},null,{"$f":"RESULTATS!Q26","v":350},null,{"$f":"RESULTATS!U26","v":83},null,{"$f":"RESULTATS!Y26","v":0},null,{"$f":"RESULTATS!AC26","v":7},null,{"$f":"RESULTATS!AG26","v":1},null,{"$f":"RESULTATS!AK26","v":42},null,{"$f":"RESULTATS!AO26","v":3},null,{"$f":"RESULTATS!AS26","v":32},null,{"$f":"RESULTATS!AW26","v":6},null,{"$f":"RESULTATS!BA26","v":0},null,{"$f":"RESULTATS!BE26","v":2},null,{"$f":"RESULTATS!BI26","v":1},null,{"$f":"RESULTATS!BM26","v":4}]
["E","01","-","Raymond Aubert","N",{"$f":"RESULTATS!E28","v":1168},null,{"$f":"RESULTATS!G28","v":475},null,{"$f":"RESULTATS!I28","v":475},null,693,null,{"$f":"RESULTATS!O28","v":8},null,{"$f":"RESULTATS!M28","v":10},null,{"$f":"RESULTATS!Q28","v":457},null,{"$f":"RESULTATS!U28","v":117},null,{"$f":"RESULTATS!Y28","v":0},null,{"$f":"RESULTATS!AC28","v":8},null,{"$f":"RESULTATS!AG28","v":1},null,{"$f":"RESULTATS!AK28","v":59},null,{"$f":"RESULTATS!AO28","v":1},null,{"$f":"RESULTATS!AS28","v":48},null,{"$f":"RESULTATS!AW28","v":6},null,{"$f":"RESULTATS!BA28","v":0},null,{"$f":"RESULTATS!BE28","v":0},null,{"$f":"RESULTATS!BI28","v":1},null,{"$f":"RESULTATS!BM28","v":1}]
["E","02","-","Raymond Aubert","N",{"$f":"RESULTATS!E29","v":1204},null,{"$f":"RESULTATS!G29","v":452},null,{"$f":"RESULTATS!I29","v":452},null,752,null,{"$f":"RESULTATS!O29","v":8},null,{"$f":"RESULTATS!M29","v":13},null,{"$f":"RESULTATS!Q29","v":431},null,{"$f":"RESULTATS!U29","v":120},null,{"$f":"RESULTATS!Y29","v":0},null,{"$f":"RESULTATS!AC29","v":5},null,{"$f":"RESULTATS!AG29","v":2},null,{"$f":"RESULTATS!AK29","v":51},null,{"$f":"RESULTATS!AO29","v":2},null,{"$f":"RESULTATS!AS29","v":45},null,{"$f":"RESULTATS!AW29","v":11},null,{"$f":"RESULTATS!BA29","v":0},null,{"$f":"RESULTATS!BE29","v":1},null,{"$f":"RESULTATS!BI29","v":3},null,{"$f":"RESULTATS!BM29","v":3}]
["E","03","-","Raymond Aubert","N",{"$f":"RESULTATS!E30","v":1030},null,{"$f":"RESULTATS!G30","v":389},null,{"$f":"RESULTATS!I30","v":389},null,641,null,{"$f":"RESULTATS!O30","v":11},null,{"$f":"RESULTATS!M30","v":12},null,{"$f":"RESULTATS!Q30","v":366},null,{"$f":"RESULTATS!U30","v":81},null,{"$f":"RESULTATS!Y30","v":0},null,{"$f":"RESULTATS!AC30","v":10},null,{"$f":"RESULTATS!AG30","v":1},null,{"$f":"RESULTATS!AK30","v":58},null,{"$f":"RESULTATS!AO30","v":0},null,{"$f":"RESULTATS!AS30","v":31},null,{"$f":"RESULTATS!AW30","v":7},null,{"$f":"RESULTATS!BA30","v":0},null,{"$f":"RESULTATS!BE30","v":2},null,{"$f":"RESULTATS!BI30","v":1},null,{"$f":"RESULTATS!BM30","v":0}]
["F","01","-","Maison de l'enfant","N",{"$f":"RESULTATS!E31","v":768},null,{"$f":"RESULTATS!G31","v":331},null,{"$f":"RESULTATS!I31","v":331},null,437,null,{"$f":"RESULTATS!O31","v":9},null,{"$f":"RESULTATS!M31","v":4},null,{"$f":"RESULTATS!Q31","v":318},null,{"$f":"RESULTATS!U31","v":72},null,{"$f":"RESULTATS!Y31","v":0},null,{"$f":"RESULTATS!AC31","v":9},null,{"$f":"RESULTATS!AG31","v":0},null,{"$f":"RESULTATS!AK31","v":48},null,{"$f":"RESULTATS!AO31","v":3},null,{"$f":"RESULTATS!AS31","v":37},null,{"$f":"RESULTATS!AW31","v":12},null,{"$f":"RESULTATS!BA31","v":0},null,{"$f":"RESULTATS!BE31","v":1},null,{"$f":"RESULTATS!BI31","v":0},null,{"$f":"RESULTATS!BM31","v":2}]
["F","02","-","Émile Géhant","N",{"$f":"RESULTATS!E32","v":516},null,{"$f":"RESULTATS!G32","v":224},null,{"$f":"RESULTATS!I32","v":224},null,292,null,{"$f":"RESULTATS!O32","v":3},null,{"$f":"RESULTATS!M32","v":6},null,{"$f":"RESULTATS!Q32","v":215},null,{"$f":"RESULTATS!U32","v":27},null,{"$f":"RESULTATS!Y32","v":0},null,{"$f":"RESULTATS!AC32","v":6},null,{"$f":"RESULTATS!AG32","v":0},null,{"$f":"RESULTATS!AK32","v":25},null,{"$f":"RESULTATS!AO32","v":0},null,{"$f":"RESULTATS!AS32","v":13},null,{"$f":"RESULTATS!AW32","v":11},null,{"$f":"RESULTATS!BA32","v":0},null,{"$f":"RESULTATS!BE32","v":0},null,{"$f":"RESULTATS!BI32","v":1},null,{"$f":"RESULTATS!BM32","v":1}]
["G","01","-","Hubert Metzger","S",{"$f":"RESULTATS!E34","v":650},null,{"$f":"RESULTATS!G34","v":266},null,{"$f":"RESULTATS!I34","v":266},null,384,null,{"$f":"RESULTATS!O34","v":7},null,{"$f":"RESULTATS!M34","v":7},null,{"$f":"RESULTATS!Q34","v":252},null,{"$f":"RESULTATS!U34","v":31},null,{"$f":"RESULTATS!Y34","v":1},null,{"$f":"RESULTATS!AC34","v":5},null,{"$f":"RESULTATS!AG34","v":0},null,{"$f":"RESULTATS!AK34","v":29},null,{"$f":"RESULTATS!AO34","v":1},null,{"$f":"RESULTATS!AS34","v":31},null,{"$f":"RESULTATS!AW34","v":7},null,{"$f":"RESULTATS!BA34","v":0},null,{"$f":"RESULTATS!BE34","v":3},null,{"$f":"RESULTATS!BI34","v":0},null,{"$f":"RESULTATS!BM34","v":0}]
["G","02","-","Hubert Metzger","S",{"$f":"RESULTATS!E35","v":753},null,{"$f":"RESULTATS!G35","v":250},null,{"$f":"RESULTATS!I35","v":250},null,503,null,{"$f":"RESULTATS!O35","v":6},null,{"$f":"RESULTATS!M35","v":7},null,{"$f":"RESULTATS!Q35","v":237},null,{"$f":"RESULTATS!U35","v":41},null,{"$f":"RESULTATS!Y35","v":0},null,{"$f":"RESULTATS!AC35","v":2},null,{"$f":"RESULTATS!AG35","v":2},null,{"$f":"RESULTATS!AK35","v":49},null,{"$f":"RESULTATS!AO35","v":0},null,{"$f":"RESULTATS!AS35","v":14},null,{"$f":"RESULTATS!AW35","v":4},null,{"$f":"RESULTATS!BA35","v":0},null,{"$f":"RESULTATS!BE35","v":1},null,{"$f":"RESULTATS!BI35","v":0},null,{"$f":"RESULTATS!BM35","v":2}]
["H","01","-","Léonard de Vinci","S",{"$f":"RESULTATS!E36","v":1037},null,{"$f":"RESULTATS!G36","v":377},null,{"$f":"RESULTATS!I36","v":377},null,660,null,{"$f":"RESULTATS!O36","v":5},null,{"$f":"RESULTATS!M36","v":7},null,{"$f":"RESULTATS!Q36","v":365},null,{"$f":"RESULTATS!U36","v":87},null,{"$f":"RESULTATS!Y36","v":0},null,{"$f":"RESULTATS!AC36","v":9},null,{"$f":"RESULTATS!AG36","v":1},null,{"$f":"RESULTATS!AK36","v":54},null,{"$f":"RESULTATS!AO36","v":4},null,{"$f":"RESULTATS!AS36","v":29},null,{"$f":"RESULTATS!AW36","v":3},null,{"$f":"RESULTATS!BA36","v":0},null,{"$f":"RESULTATS!BE36","v":1},null,{"$f":"RESULTATS!BI36","v":0},null,{"$f":"RESULTATS!BM36","v":0}]
["J","01","-","René Rücklin","S",{"$f":"RESULTATS!E37","v":591},null,{"$f":"RESULTATS!G37","v":179},null,{"$f":"RESULTATS!I37","v":179},null,412,null,{"$f":"RESULTATS!O37","v":7},null,{"$f":"RESULTATS!M37","v":8},null,{"$f":"RESULTATS!Q37","v":164},null,{"$f":"RESULTATS!U37","v":23},null,{"$f":"RESULTATS!Y37","v":0},null,{"$f":"RESULTATS!AC37","v":7},null,{"$f":"RESULTATS!AG37","v":1},null,{"$f":"RESULTATS!AK37","v":21},null,{"$f":"RESULTATS!AO37","v":0},null,{"$f":"RESULTATS!AS37","v":10},null,{"$f":"RESULTATS!AW37","v":1},null,{"$f":"RESULTATS!BA37","v":0},null,{"$f":"RESULTATS!BE37","v":1},null,{"$f":"RESULTATS!BI37","v":1},null,{"$f":"RESULTATS!BM37","v":1}]
["J","02","-","René Rücklin","S",{"$f":"RESULTATS!E38","v":813},null,{"$f":"RESULTATS!G38","v":244},null,{"$f":"RESULTATS!I38","v":244},null,569,null,{"$f":"RESULTATS!O38","v":1},null,{"$f":"RESULTATS!M38","v":6},null,{"$f":"RESULTATS!Q38","v":237},null,{"$f":"RESULTATS!U38","v":54},null,{"$f":"RESULTATS!Y38","v":0},null,{"$f":"RESULTATS!AC38","v":10},null,{"$f":"RESULTATS!AG38","v":0},null,{"$f":"RESULTATS!AK38","v":34},null,{"$f":"RESULTATS!AO38","v":0},null,{"$f":"RESULTATS!AS38","v":23},null,{"$f":"RESULTATS!AW38","v":3},null,{"$f":"RESULTATS!BA38","v":0},null,{"$f":"RESULTATS!BE38","v":1},null,{"$f":"RESULTATS!BI38","v":1},null,{"$f":"RESULTATS!BM38","v":0}]
["J","03","-","René Rücklin","S",{"$f":"RESULTATS!E39","v":556},null,{"$f":"RESULTATS!G39","v":142},null,{"$f":"RESULTATS!I39","v":142},null,414,null,{"$f":"RESULTATS!O39","v":5},null,{"$f":"RESULTATS!M39","v":4},null,{"$f":"RESULTATS!Q39","v":133},null,{"$f":"RESULTATS!U39","v":19},null,{"$f":"RESULTATS!Y39","v":0},null,{"$f":"RESULTATS!AC39","v":2},null,{"$f":"RESULTATS!AG39","v":1},null,{"$f":"RESULTATS!AK39","v":18},null,{"$f":"RESULTATS!AO39","v":1},null,{"$f":"RESULTATS!AS39","v":14},null,{"$f":"RESULTATS!AW39","v":5},null,{"$f":"RESULTATS!BA39","v":0},null,{"$f":"RESULTATS!BE39","v":1},null,{"$f":"RESULTATS!BI39","v":0},null,{"$f":"RESULTATS!BM39","v":0}]
["K","01","-","Louis Pergaud","O",{"$f":"RESULTATS!E41","v":944},null,{"$f":"RESULTATS!G41","v":193},null,{"$f":"RESULTATS!I41","v":193},null,751,null,{"$f":"RESULTATS!O41","v":8},null,{"$f":"RESULTATS!M41","v":4},null,{"$f":"RESULTATS!Q41","v":181},null,{"$f":"RESULTATS!U41","v":45},null,{"$f":"RESULTATS!Y41","v":0},null,{"$f":"RESULTATS!AC41","v":8},null,{"$f":"RESULTATS!AG41","v":0},null,{"$f":"RESULTATS!AK41","v":30},null,{"$f":"RESULTATS!AO41","v":0},null,{"$f":"RESULTATS!AS41","v":11},null,{"$f":"RESULTATS!AW41","v":1},null,{"$f":"RESULTATS!BA41","v":0},null,{"$f":"RESULTATS!BE41","v":1},null,{"$f":"RESULTATS!BI41","v":0},null,{"$f":"RESULTATS!BM41","v":1}]
["K","02","-","Louis Pergaud","O",{"$f":"RESULTATS!E42","v":784},null,{"$f":"RESULTATS!G42","v":187},null,{"$f":"RESULTATS!I42","v":187},null,597,null,{"$f":"RESULTATS!O42","v":6},null,{"$f":"RESULTATS!M42","v":0},null,{"$f":"RESULTATS!Q42","v":181},null,{"$f":"RESULTATS!U42","v":36},null,{"$f":"RESULTATS!Y42","v":0},null,{"$f":"RESULTATS!AC42","v":6},null,{"$f":"RESULTATS!AG42","v":0},null,{"$f":"RESULTATS!AK42","v":33},null,{"$f":"RESULTATS!AO42","v":0},null,{"$f":"RESULTATS!AS42","v":11},null,{"$f":"RESULTATS!AW42","v":3},null,{"$f":"RESULTATS!BA42","v":0},null,{"$f":"RESULTATS!BE42","v":0},null,{"$f":"RESULTATS!BI42","v":2},null,{"$f":"RESULTATS!BM42","v":0}]
["L","01","-","Les Barres","O",{"$f":"RESULTATS!E43","v":1314},null,{"$f":"RESULTATS!G43","v":500},null,{"$f":"RESULTATS!I43","v":500},null,814,null,{"$f":"RESULTATS!O43","v":5},null,{"$f":"RESULTATS!M43","v":11},null,{"$f":"RESULTATS!Q43","v":484},null,{"$f":"RESULTATS!U43","v":99},null,{"$f":"RESULTATS!Y43","v":2},null,{"$f":"RESULTATS!AC43","v":12},null,{"$f":"RESULTATS!AG43","v":1},null,{"$f":"RESULTATS!AK43","v":87},null,{"$f":"RESULTATS!AO43","v":4},null,{"$f":"RESULTATS!AS43","v":29},null,{"$f":"RESULTATS!AW43","v":19},null,{"$f":"RESULTATS!BA43","v":1},null,{"$f":"RESULTATS!BE43","v":2},null,{"$f":"RESULTATS!BI43","v":1},null,{"$f":"RESULTATS!BM43","v":2}]
["L","02","-","Les Barres","O",{"$f":"RESULTATS!E44","v":1146},null,{"$f":"RESULTATS!G44","v":507},null,{"$f":"RESULTATS!I44","v":507},null,639,null,{"$f":"RESULTATS!O44","v":15},null,{"$f":"RESULTATS!M44","v":5},null,{"$f":"RESULTATS!Q44","v":487},null,{"$f":"RESULTATS!U44","v":91},null,{"$f":"RESULTATS!Y44","v":0},null,{"$f":"RESULTATS!AC44","v":8},null,{"$f":"RESULTATS!AG44","v":0},null,{"$f":"RESULTATS!AK44","v":74},null,{"$f":"RESULTATS!AO44","v":3},null,{"$f":"RESULTATS!AS44","v":36},null,{"$f":"RESULTATS!AW44","v":14},null,{"$f":"RESULTATS!BA44","v":0},null,{"$f":"RESULTATS!BE44","v":3},null,{"$f":"RESULTATS!BI44","v":0},null,{"$f":"RESULTATS!BM44","v":4}]
[]
[null,null,null,"TOTAUX",null,{"$f":"SUM(F13:F41)","v":26563},null,{"$f":"SUM(H13:H41)","v":10250},null,{"$f":"SUM(J13:J41)","v":10250},null,{"$f":"SUM(L13:L41)","v":16313},null,{"$f":"SUM(N13:N41)","v":192},null,{"$f":"SUM(P13:P41)","v":185},null,{"$f":"SUM(R13:R41)","v":9873},null,{"$f":"SUM(T13:T41)","v":2427},null,{"$f":"SUM(V13:V41)","v":12},null,{"$f":"SUM(X13:X41)","v":158},null,{"$f":"SUM(Z13:Z41)","v":16},null,{"$f":"SUM(AB13:AB41)","v":1486},null,{"$f":"SUM(AD13:AD41)","v":44},null,{"$f":"SUM(AF13:AF41)","v":974},null,{"$f":"SUM(AH13:AH41)","v":209},null,{"$f":"SUM(AJ13:AJ41)","v":5},null,{"$f":"SUM(AL13:AL41)","v":59},null,{"$f":"SUM(AN13:AN41)","v":22},null,{"$f":"SUM(AP13:AP41)","v":43}]
[]
[]
[]
[null,null,null,null,null,null,null,null,null,null,null,null,null,null,null,null,null,"R E C E N S E M E N T   par   B U R E A U"]
[]
[]
[null,"Listes 13 à 23"]
[]
[null,null,null,null,null,null,null,null,null,null,null,null,null,null,null,null,null,null,null,"Liste",null,"Liste",null,"Liste",null,"Liste",null,"Liste",null,"Liste",null,"Liste",null,"Liste",null,"Liste",null,"Liste",null,"Liste"]
[null,null,null,"BUREAUX",null,"Inscrits",null,"Emargements",null,"Votants",null,"Abstentions",null,"Nuls",null,"Blancs",null,"Exprimés",null,{"$f":"CONCATENATE(RESULTATS!U$59,\" \",RESULTATS!U$60)","v":"Xavier DESSAIGNE"},null,{"$f":"CONCATENATE(RESULTATS!Y$59,\" \",RESULTATS!Y$60)","v":"Sandrine PICO"},null,{"$f":"CONCATENATE(RESULTATS!AC$59,\" \",RESULTATS!AC$60)","v":"Florian PHILIPPOT"},null,{"$f":"CONCATENATE(RESULTATS!AG$59,\" \",RESULTATS!AG$60)","v":"Sandrine BELIER"},null,{"$f":"CONCATENATE(RESULTATS!AK$59,\" \",RESULTATS!AK$60)","v":"Ismaël BOUDJEKADA"},null,{"$f":"CONCATENATE(RESULTATS!AO$59,\" \",RESULTATS!AO$60)","v":"Laure FERRARI"},null,{"$f":"CONCATENATE(RESULTATS!AS$59,\" \",RESULTATS!AS$60)","v":"Antonio SANCHEZ"},null,{"$f":"CONCATENATE(RESULTATS!AW$59,\" \",RESULTATS!AW$60)","v":"Isabelle MAURER"},null,{"$f":"CONCATENATE(RESULTATS!BA$59,\" \",RESULTATS!BA$60)","v":"Yannick HERVE"},null,{"$f":"CONCATENATE(RESULTATS!BE$59,\" \",RESULTATS!BE$60)","v":"Gabriel AMARD"},null,{"$f":"CONCATENATE(RESULTATS!BI$59,\" \",RESULTATS!BI$60)","v":"Florence LHOTE"},null,{"$f":"CONCATENATE(RESULTATS!BM$59,\" \",RESULTATS!BM$60)","v":" "}]
[null,null,null,1,null,2,null,3,null,4,null,5,null,6,null,7,null,8,null,9,null,10,null,11,null,12,null,13,null,14,null,15,null,16,null,17,null,18,null,19]
[]
[]
["A","01","-"," Hôtel de Ville  ","E",{"$f":"RESULTATS!E13","v":856},null,{"$f":"RESULTATS!G13","v":368},null,{"$f":"RESULTATS!I13","v":368},null,{"$f":"IF(ISNUMBER(J13),F56-J56,\"\")","v":488},null,{"$f":"RESULTATS!O13","v":4},null,{"$f":"RESULTATS!M13","v":4},null,{"$f":"RESULTATS!Q13","v":360},null,{"$f":"RESULTATS!U63","v":3},null,{"$f":"RESULTATS!Y63","v":0},null,{"$f":"RESULTATS!AC63","v":58},null,{"$f":"RESULTATS!AG63","v":31},null,{"$f":"RESULTATS!AK63","v":0},null,{"$f":"RESULTATS!AO63","v":18},null,{"$f":"RESULTATS!AS63","v":0},null,{"$f":"RESULTATS!AW63","v":21},null,{"$f":"RESULTATS!BA63","v":3},null,{"$f":"RESULTATS!BE63","v":""},null,{"$f":"RESULTATS!BI63","v":2}]
["A","02","-","Salle des fêtes ","E",{"$f":"RESULTATS!E14","v":934},null,{"$f":"RESULTATS!G14","v":476},null,{"$f":"RESULTATS!I14","v":476},null,{"$f":"IF(ISNUMBER(J14),F57-J57,\"\")","v":458},null,{"$f":"RESULTATS!O14","v":10},null,{"$f":"RESULTATS!M14","v":7},null,{"$f":"RESULTATS!Q14","v":459},null,{"$f":"RESULTATS!U64","v":7},null,{"$f":"RESULTATS!Y64","v":1},null,{"$f":"RESULTATS!AC64","v":66},null,{"$f":"RESULTATS!AG64","v":32},null,{"$f":"RESULTATS!AK64","v":0},null,{"$f":"RESULTATS!AO64","v":16},null,{"$f":"RESULTATS!AS64","v":0},null,{"$f":"RESULTATS!AW64","v":7},null,{"$f":"RESULTATS!BA64","v":2},null,{"$f":"RESULTATS!BE64","v":30},null,{"$f":"RESULTATS!BI64","v":2}]
["B","01","-","Victor Hugo","E",{"$f":"RESULTATS!E15","v":1068},null,{"$f":"RESULTATS!G15","v":434},null,{"$f":"RESULTATS!I15","v":434},null,634,null,{"$f":"RESULTATS!O15","v":3},null,{"$f":"RESULTATS!M15","v":4},null,{"$f":"RESULTATS!Q15","v":427},null,{"$f":"RESULTATS!U65","v":4},null,{"$f":"RESULTATS!Y65","v":0},null,{"$f":"RESULTATS!AC65","v":57},null,{"$f":"RESULTATS!AG65","v":33},null,{"$f":"RESULTATS!AK65","v":0},null,{"$f":"RESULTATS!AO65","v":16},null,{"$f":"RESULTATS!AS65","v":0},null,{"$f":"RESULTATS!AW65","v":9},null,{"$f":"RESULTATS!BA65","v":6},null,{"$f":"RESULTATS!BE65","v":25},null,{"$f":"RESULTATS!BI65","v":2}]
["B","02","-","Victor Hugo","E",{"$f":"RESULTATS!E16","v":1149},null,{"$f":"RESULTATS!G16","v":524},null,{"$f":"RESULTATS!I16","v":524},null,625,null,{"$f":"RESULTATS!O16","v":7},null,{"$f":"RESULTATS!M16","v":1},null,{"$f":"RESULTATS!Q16","v":516},null,{"$f":"RESULTATS!U66","v":4},null,{"$f":"RESULTATS!Y66","v":0},null,{"$f":"RESULTATS!AC66","v":86},null,{"$f":"RESULTATS!AG66","v":59},null,{"$f":"RESULTATS!AK66","v":0},null,{"$f":"RESULTATS!AO66","v":19},null,{"$f":"RESULTATS!AS66","v":0},null,{"$f":"RESULTATS!AW66","v":17},null,{"$f":"RESULTATS!BA66","v":1},null,{"$f":"RESULTATS!BE66","v":20},null,{"$f":"RESULTATS!BI66","v":1}]
["M","01","-","Saint-Exupéry","E",{"$f":"RESULTATS!E17","v":1300},null,{"$f":"RESULTATS!G17","v":274},null,{"$f":"RESULTATS!I17","v":274},null,1026,null,{"$f":"RESULTATS!O17","v":14},null,{"$f":"RESULTATS!M17","v":4},null,{"$f":"RESULTATS!Q17","v":256},null,{"$f":"RESULTATS!U67","v":1},null,{"$f":"RESULTATS!Y67","v":0},null,{"$f":"RESULTATS!AC67","v":63},null,{"$f":"RESULTATS!AG67","v":11},null,{"$f":"RESULTATS!AK67","v":0},null,{"$f":"RESULTATS!AO67","v":5},null,{"$f":"RESULTATS!AS67","v":0},null,{"$f":"RESULTATS!AW67","v":3},null,{"$f":"RESULTATS!BA67","v":1},null,{"$f":"RESULTATS!BE67","v":33},null,{"$f":"RESULTATS!BI67","v":2}]
["N","01","-","Jean Moulin","E",{"$f":"RESULTATS!E18","v":1451},null,{"$f":"RESULTATS!G18","v":603},null,{"$f":"RESULTATS!I18","v":603},null,848,null,{"$f":"RESULTATS!O18","v":8},null,{"$f":"RESULTATS!M18","v":12},null,{"$f":"RESULTATS!Q18","v":583},null,{"$f":"RESULTATS!U68","v":6},null,{"$f":"RESULTATS!Y68","v":0},null,{"$f":"RESULTATS!AC68","v":149},null,{"$f":"RESULTATS!AG68","v":46},null,{"$f":"RESULTATS!AK68","v":0},null,{"$f":"RESULTATS!AO68","v":19},null,{"$f":"RESULTATS!AS68","v":0},null,{"$f":"RESULTATS!AW68","v":13},null,{"$f":"RESULTATS!BA68","v":2},null,{"$f":"RESULTATS!BE68","v":34},null,{"$f":"RESULTATS!BI68","v":3}]
["N","02","-","Cité des Associations","E",{"$f":"RESULTATS!E19","v":899},null,{"$f":"RESULTATS!G19","v":409},null,{"$f":"RESULTATS!I19","v":409},null,490,null,{"$f":"RESULTATS!O19","v":7},null,{"$f":"RESULTATS!M19","v":12},null,{"$f":"RESULTATS!Q19","v":390},null,{"$f":"RESULTATS!U69","v":6},null,{"$f":"RESULTATS!Y69","v":0},null,{"$f":"RESULTATS!AC69","v":83},null,{"$f":"RESULTATS!AG69","v":38},null,{"$f":"RESULTATS!AK69","v":0},null,{"$f":"RESULTATS!AO69","v":8},null,{"$f":"RESULTATS!AS69","v":0},null,{"$f":"RESULTATS!AW69","v":8},null,{"$f":"RESULTATS!BA69","v":3},null,{"$f":"RESULTATS!BE69","v":23},null,{"$f":"RESULTATS!BI69","v":0}]
["C","01","-","Victor Schoelcher","C",{"$f":"RESULTATS!E21","v":1194},null,{"$f":"RESULTATS!G21","v":487},null,{"$f":"RESULTATS!I21","v":487},null,707,null,{"$f":"RESULTATS!O21","v":4},null,{"$f":"RESULTATS!M21","v":8},null,{"$f":"RESULTATS!Q21","v":475},null,{"$f":"RESULTATS!U71","v":1},null,{"$f":"RESULTATS!Y71","v":0},null,{"$f":"RESULTATS!AC71","v":89},null,{"$f":"RESULTATS!AG71","v":37},null,{"$f":"RESULTATS!AK71","v":0},null,{"$f":"RESULTATS!AO71","v":19},null,{"$f":"RESULTATS!AS71","v":0},null,{"$f":"RESULTATS!AW71","v":11},null,{"$f":"RESULTATS!BA71","v":4},null,{"$f":"RESULTATS!BE71","v":18},null,{"$f":"RESULTATS!BI71","v":1}]
["C","02","-","Maison du Peuple","C",{"$f":"RESULTATS!E22","v":749},null,{"$f":"RESULTATS!G22","v":359},null,{"$f":"RESULTATS!I22","v":359},null,390,null,{"$f":"RESULTATS!O22","v":8},null,{"$f":"RESULTATS!M22","v":4},null,{"$f":"RESULTATS!Q22","v":347},null,{"$f":"RESULTATS!U72","v":6},null,{"$f":"RESULTATS!Y72","v":0},null,{"$f":"RESULTATS!AC72","v":57},null,{"$f":"RESULTATS!AG72","v":23},null,{"$f":"RESULTATS!AK72","v":0},null,{"$f":"RESULTATS!AO72","v":17},null,{"$f":"RESULTATS!AS72","v":0},null,{"$f":"RESULTATS!AW72","v":12},null,{"$f":"RESULTATS!BA72","v":0},null,{"$f":"RESULTATS!BE72","v":20},null,{"$f":"RESULTATS!BI72","v":4}]
["C","03","-","Maison du Peuple","C",{"$f":"RESULTATS!E23","v":909},null,{"$f":"RESULTATS!G23","v":426},null,{"$f":"RESULTATS!I23","v":426},null,483,null,{"$f":"RESULTATS!O23","v":5},null,{"$f":"RESULTATS!M23","v":6},null,{"$f":"RESULTATS!Q23","v":415},null,{"$f":"RESULTATS!U73","v":6},null,{"$f":"RESULTATS!Y73","v":0},null,{"$f":"RESULTATS!AC73","v":66},null,{"$f":"RESULTATS!AG73","v":36},null,{"$f":"RESULTATS!AK73","v":0},null,{"$f":"RESULTATS!AO73","v":9},null,{"$f":"RESULTATS!AS73","v":0},null,{"$f":"RESULTATS!AW73","v":10},null,{"$f":"RESULTATS!BA73","v":0},null,{"$f":"RESULTATS!BE73","v":16},null,{"$f":"RESULTATS!BI73","v":1}]
["D","01","-","Châteaudun","C",{"$f":"RESULTATS!E24","v":1058},null,{"$f":"RESULTATS!G24","v":444},null,{"$f":"RESULTATS!I24","v":444},null,614,null,{"$f":"RESULTATS!O24","v":7},null,{"$f":"RESULTATS!M24","v":6},null,{"$f":"RESULTATS!Q24","v":431},null,{"$f":"RESULTATS!U74","v":4},null,{"$f":"RESULTATS!Y74","v":0},null,{"$f":"RESULTATS!AC74","v":84},null,{"$f":"RESULTATS!AG74","v":32},null,{"$f":"RESULTATS!AK74","v":0},null,{"$f":"RESULTATS!AO74","v":20},null,{"$f":"RESULTATS!AS74","v":0},null,{"$f":"RESULTATS!AW74","v":10},null,{"$f":"RESULTATS!BA74","v":3},null,{"$f":"RESULTATS!BE74","v":24},null,{"$f":"RESULTATS!BI74","v":2}]
["D","02","-","Châteaudun","C",{"$f":"RESULTATS!E25","v":827},null,{"$f":"RESULTATS!G25","v":365},null,{"$f":"RESULTATS!I25","v":365},null,462,null,{"$f":"RESULTATS!O25","v":4},null,{"$f":"RESULTATS!M25","v":5},null,{"$f":"RESULTATS!Q25","v":356},null,{"$f":"RESULTATS!U75","v":6},null,{"$f":"RESULTATS!Y75","v":0},null,{"$f":"RESULTATS!AC75","v":84},null,{"$f":"RESULTATS!AG75","v":32},null,{"$f":"RESULTATS!AK75","v":0},null,{"$f":"RESULTATS!AO75","v":10},null,{"$f":"RESULTATS!AS75","v":0},null,{"$f":"RESULTATS!AW75","v":5},null,{"$f":"RESULTATS!BA75","v":0},null,{"$f":"RESULTATS!BE75","v":18},null,{"$f":"RESULTATS!BI75","v":0}]
["D","03","-","Châteaudun","C",{"$f":"RESULTATS!E26","v":895},null,{"$f":"RESULTATS!G26","v":365},null,{"$f":"RESULTATS!I26","v":365},null,530,null,{"$f":"RESULTATS!O26","v":7},null,{"$f":"RESULTATS!M26","v":8},null,{"$f":"RESULTATS!Q26","v":350},null,{"$f":"RESULTATS!U76","v":4},null,{"$f":"RESULTATS!Y76","v":0},null,{"$f":"RESULTATS!AC76","v":103},null,{"$f":"RESULTATS!AG76","v":21},null,{"$f":"RESULTATS!AK76","v":0},null,{"$f":"RESULTATS!AO76","v":9},null,{"$f":"RESULTATS!AS76","v":0},null,{"$f":"RESULTATS!AW76","v":5},null,{"$f":"RESULTATS!BA76","v":2},null,{"$f":"RESULTATS!BE76","v":25},null,{"$f":"RESULTATS!BI76","v":0}]
["E","01","-","Raymond Aubert","N",{"$f":"RESULTATS!E28","v":1168},null,{"$f":"RESULTATS!G28","v":475},null,{"$f":"RESULTATS!I28","v":475},null,693,null,{"$f":"RESULTATS!O28","v":8},null,{"$f":"RESULTATS!M28","v":10},null,{"$f":"RESULTATS!Q28","v":457},null,{"$f":"RESULTATS!U78","v":3},null,{"$f":"RESULTATS!Y78","v":0},null,{"$f":"RESULTATS!AC78","v":131},null,{"$f":"RESULTATS!AG78","v":30},null,{"$f":"RESULTATS!AK78","v":0},null,{"$f":"RESULTATS!AO78","v":16},null,{"$f":"RESULTATS!AS78","v":0},null,{"$f":"RESULTATS!AW78","v":12},null,{"$f":"RESULTATS!BA78","v":0},null,{"$f":"RESULTATS!BE78","v":23},null,{"$f":"RESULTATS!BI78","v":0}]
["E","02","-","Raymond Aubert","N",{"$f":"RESULTATS!E29","v":1204},null,{"$f":"RESULTATS!G29","v":452},null,{"$f":"RESULTATS!I29","v":452},null,752,null,{"$f":"RESULTATS!O29","v":8},null,{"$f":"RESULTATS!M29","v":13},null,{"$f":"RESULTATS!Q29","v":431},null,{"$f":"RESULTATS!U79","v":4},null,{"$f":"RESULTATS!Y79","v":0},null,{"$f":"RESULTATS!AC79","v":122},null,{"$f":"RESULTATS!AG79","v":31},null,{"$f":"RESULTATS!AK79","v":0},null,{"$f":"RESULTATS!AO79","v":9},null,{"$f":"RESULTATS!AS79","v":0},null,{"$f":"RESULTATS!AW79","v":5},null,{"$f":"RESULTATS!BA79","v":2},null,{"$f":"RESULTATS!BE79","v":14},null,{"$f":"RESULTATS!BI79","v":1}]
["E","03","-","Raymond Aubert","N",{"$f":"RESULTATS!E30","v":1030},null,{"$f":"RESULTATS!G30","v":389},null,{"$f":"RESULTATS!I30","v":389},null,641,null,{"$f":"RESULTATS!O30","v":11},null,{"$f":"RESULTATS!M30","v":12},null,{"$f":"RESULTATS!Q30","v":366},null,{"$f":"RESULTATS!U80","v":1},null,{"$f":"RESULTATS!Y80","v":0},null,{"$f":"RESULTATS!AC80","v":103},null,{"$f":"RESULTATS!AG80","v":25},null,{"$f":"RESULTATS!AK80","v":0},null,{"$f":"RESULTATS!AO80","v":12},null,{"$f":"RESULTATS!AS80","v":0},null,{"$f":"RESULTATS!AW80","v":11},null,{"$f":"RESULTATS!BA80","v":1},null,{"$f":"RESULTATS!BE80","v":22},null,{"$f":"RESULTATS!BI80","v":0}]
["F","01","-","Maison de l'enfant","N",{"$f":"RESULTATS!E31","v":768},null,{"$f":"RESULTATS!G31","v":331},null,{"$f":"RESULTATS!I31","v":331},null,437,null,{"$f":"RESULTATS!O31","v":9},null,{"$f":"RESULTATS!M31","v":4},null,{"$f":"RESULTATS!Q31","v":318},null,{"$f":"RESULTATS!U81","v":2},null,{"$f":"RESULTATS!Y81","v":0},null,{"$f":"RESULTATS!AC81","v":66},null,{"$f":"RESULTATS!AG81","v":21},null,{"$f":"RESULTATS!AK81","v":0},null,{"$f":"RESULTATS!AO81","v":8},null,{"$f":"RESULTATS!AS81","v":0},null,{"$f":"RESULTATS!AW81","v":10},null,{"$f":"RESULTATS!BA81","v":2},null,{"$f":"RESULTATS!BE81","v":25},null,{"$f":"RESULTATS!BI81","v":0}]
["F","02","-","Émile Géhant","N",{"$f":"RESULTATS!E32","v":516},null,{"$f":"RESULTATS!G32","v":224},null,{"$f":"RESULTATS!I32","v":224},null,292,null,{"$f":"RESULTATS!O32","v":3},null,{"$f":"RESULTATS!M32","v":6},null,{"$f":"RESULTATS!Q32","v":215},null,{"$f":"RESULTATS!U82","v":1},null,{"$f":"RESULTATS!Y82","v":0},null,{"$f":"RESULTATS!AC82","v":71},null,{"$f":"RESULTATS!AG82","v":22},null,{"$f":"RESULTATS!AK82","v":0},null,{"$f":"RESULTATS!AO82","v":4},null,{"$f":"RESULTATS!AS82","v":0},null,{"$f":"RESULTATS!AW82","v":2},null,{"$f":"RESULTATS!BA82","v":3},null,{"$f":"RESULTATS!BE82","v":27},null,{"$f":"RESULTATS!BI82","v":1}]
["G","01","-","Hubert Metzger","S",{"$f":"RESULTATS!E34","v":650},null,{"$f":"RESULTATS!G34","v":266},null,{"$f":"RESULTATS!I34","v":266},null,384,null,{"$f":"RESULTATS!O34","v":7},null,{"$f":"RESULTATS!M34","v":7},null,{"$f":"RESULTATS!Q34","v":252},null,{"$f":"RESULTATS!U84","v":1},null,{"$f":"RESULTATS!Y84","v":0},null,{"$f":"RESULTATS!AC84","v":67},null,{"$f":"RESULTATS!AG84","v":29},null,{"$f":"RESULTATS!AK84","v":0},null,{"$f":"RESULTATS!AO84","v":7},null,{"$f":"RESULTATS!AS84","v":0},null,{"$f":"RESULTATS!AW84","v":4},null,{"$f":"RESULTATS!BA84","v":4},null,{"$f":"RESULTATS!BE84","v":31},null,{"$f":"RESULTATS!BI84","v":1}]
["G","02","-","Hubert Metzger","S",{"$f":"RESULTATS!E35","v":753},null,{"$f":"RESULTATS!G35","v":250},null,{"$f":"RESULTATS!I35","v":250},null,503,null,{"$f":"RESULTATS!O35","v":6},null,{"$f":"RESULTATS!M35","v":7},null,{"$f":"RESULTATS!Q35","v":237},null,{"$f":"RESULTATS!U85","v":0},null,{"$f":"RESULTATS!Y85","v":0},null,{"$f":"RESULTATS!AC85","v":75},null,{"$f":"RESULTATS!AG85","v":11},null,{"$f":"RESULTATS!AK85","v":0},null,{"$f":"RESULTATS!AO85","v":4},null,{"$f":"RESULTATS!AS85","v":0},null,{"$f":"RESULTATS!AW85","v":9},null,{"$f":"RESULTATS!BA85","v":1},null,{"$f":"RESULTATS!BE85","v":22},null,{"$f":"RESULTATS!BI85","v":0}]
["H","01","-","Léonard de Vinci","S",{"$f":"RESULTATS!E36","v":1037},null,{"$f":"RESULTATS!G36","v":377},null,{"$f":"RESULTATS!I36","v":377},null,660,null,{"$f":"RESULTATS!O36","v":5},null,{"$f":"RESULTATS!M36","v":7},null,{"$f":"RESULTATS!Q36","v":365},null,{"$f":"RESULTATS!U86","v":5},null,{"$f":"RESULTATS!Y86","v":0},null,{"$f":"RESULTATS!AC86","v":96},null,{"$f":"RESULTATS!AG86","v":30},null,{"$f":"RESULTATS!AK86","v":0},null,{"$f":"RESULTATS!AO86","v":11},null,{"$f":"RESULTATS!AS86","v":0},null,{"$f":"RESULTATS!AW86","v":8},null,{"$f":"RESULTATS!BA86","v":1},null,{"$f":"RESULTATS!BE86","v":26},null,{"$f":"RESULTATS!BI86","v":0}]
["J","01","-","René Rücklin","S",{"$f":"RESULTATS!E37","v":591},null,{"$f":"RESULTATS!G37","v":179},null,{"$f":"RESULTATS!I37","v":179},null,412,null,{"$f":"RESULTATS!O37","v":7},null,{"$f":"RESULTATS!M37","v":8},null,{"$f":"RESULTATS!Q37","v":164},null,{"$f":"RESULTATS!U87","v":1},null,{"$f":"RESULTATS!Y87","v":0},null,{"$f":"RESULTATS!AC87","v":66},null,{"$f":"RESULTATS!AG87","v":8},null,{"$f":"RESULTATS!AK87","v":0},null,{"$f":"RESULTATS!AO87","v":5},null,{"$f":"RESULTATS!AS87","v":0},null,{"$f":"RESULTATS!AW87","v":2},null,{"$f":"RESULTATS!BA87","v":4},null,{"$f":"RESULTATS!BE87","v":12},null,{"$f":"RESULTATS!BI87","v":0}]
["J","02","-","René Rücklin","S",{"$f":"RESULTATS!E38","v":813},null,{"$f":"RESULTATS!G38","v":244},null,{"$f":"RESULTATS!I38","v":244},null,569,null,{"$f":"RESULTATS!O38","v":1},null,{"$f":"RESULTATS!M38","v":6},null,{"$f":"RESULTATS!Q38","v":237},null,{"$f":"RESULTATS!U88","v":1},null,{"$f":"RESULTATS!Y88","v":0},null,{"$f":"RESULTATS!AC88","v":69},null,{"$f":"RESULTATS!AG88","v":11},null,{"$f":"RESULTATS!AK88","v":0},null,{"$f":"RESULTATS!AO88","v":6},null,{"$f":"RESULTATS!AS88","v":0},null,{"$f":"RESULTATS!AW88","v":2},null,{"$f":"RESULTATS!BA88","v":1},null,{"$f":"RESULTATS!BE88","v":20},null,{"$f":"RESULTATS!BI88","v":1}]
["J","03","-","René Rücklin","S",{"$f":"RESULTATS!E39","v":556},null,{"$f":"RESULTATS!G39","v":142},null,{"$f":"RESULTATS!I39","v":142},null,414,null,{"$f":"RESULTATS!O39","v":5},null,{"$f":"RESULTATS!M39","v":4},null,{"$f":"RESULTATS!Q39","v":133},null,{"$f":"RESULTATS!U89","v":2},null,{"$f":"RESULTATS!Y89","v":0},null,{"$f":"RESULTATS!AC89","v":32},null,{"$f":"RESULTATS!AG89","v":10},null,{"$f":"RESULTATS!AK89","v":0},null,{"$f":"RESULTATS!AO89","v":2},null,{"$f":"RESULTATS!AS89","v":0},null,{"$f":"RESULTATS!AW89","v":3},null,{"$f":"RESULTATS!BA89","v":0},null,{"$f":"RESULTATS!BE89","v":23},null,{"$f":"RESULTATS!BI89","v":0}]
["K","01","-","Louis Pergaud","O",{"$f":"RESULTATS!E41","v":944},null,{"$f":"RESULTATS!G41","v":193},null,{"$f":"RESULTATS!I41","v":193},null,751,null,{"$f":"RESULTATS!O41","v":8},null,{"$f":"RESULTATS!M41","v":4},null,{"$f":"RESULTATS!Q41","v":181},null,{"$f":"RESULTATS!U91","v":0},null,{"$f":"RESULTATS!Y91","v":0},null,{"$f":"RESULTATS!AC91","v":46},null,{"$f":"RESULTATS!AG91","v":8},null,{"$f":"RESULTATS!AK91","v":0},null,{"$f":"RESULTATS!AO91","v":8},null,{"$f":"RESULTATS!AS91","v":0},null,{"$f":"RESULTATS!AW91","v":3},null,{"$f":"RESULTATS!BA91","v":2},null,{"$f":"RESULTATS!BE91","v":17},null,{"$f":"RESULTATS!BI91","v":0}]
["K","02","-","Louis Pergaud","O",{"$f":"RESULTATS!E42","v":784},null,{"$f":"RESULTATS!G42","v":187},null,{"$f":"RESULTATS!I42","v":187},null,597,null,{"$f":"RESULTATS!O42","v":6},null,{"$f":"RESULTATS!M42","v":0},null,{"$f":"RESULTATS!Q42","v":181},null,{"$f":"RESULTATS!U92","v":1},null,{"$f":"RESULTATS!Y92","v":0},null,{"$f":"RESULTATS!AC92","v":48},null,{"$f":"RESULTATS!AG92","v":15},null,{"$f":"RESULTATS!AK92","v":0},null,{"$f":"RESULTATS!AO92","v":4},null,{"$f":"RESULTATS!AS92","v":0},null,{"$f":"RESULTATS!AW92","v":8},null,{"$f":"RESULTATS!BA92","v":1},null,{"$f":"RESULTATS!BE92","v":13},null,{"$f":"RESULTATS!BI92","v":0}]
["L","01","-","Les Barres","O",{"$f":"RESULTATS!E43","v":1314},null,{"$f":"RESULTATS!G43","v":500},null,{"$f":"RESULTATS!I43","v":500},null,814,null,{"$f":"RESULTATS!O43","v":5},null,{"$f":"RESULTATS!M43","v":11},null,{"$f":"RESULTATS!Q43","v":484},null,{"$f":"RESULTATS!U93","v":2},null,{"$f":"RESULTATS!Y93","v":0},null,{"$f":"RESULTATS!AC93","v":111},null,{"$f":"RESULTATS!AG93","v":37},null,{"$f":"RESULTATS!AK93","v":0},null,{"$f":"RESULTATS!AO93","v":7},null,{"$f":"RESULTATS!AS93","v":0},null,{"$f":"RESULTATS!AW93","v":22},null,{"$f":"RESULTATS!BA93","v":3},null,{"$f":"RESULTATS!BE93","v":40},null,{"$f":"RESULTATS!BI93","v":3}]
["L","02","-","Les Barres","O",{"$f":"RESULTATS!E44","v":1146},null,{"$f":"RESULTATS!G44","v":507},null,{"$f":"RESULTATS!I44","v":507},null,639,null,{"$f":"RESULTATS!O44","v":15},null,{"$f":"RESULTATS!M44","v":5},null,{"$f":"RESULTATS!Q44","v":487},null,{"$f":"RESULTATS!U94","v":12},null,{"$f":"RESULTATS!Y94","v":0},null,{"$f":"RESULTATS!AC94","v":122},null,{"$f":"RESULTATS!AG94","v":44},null,{"$f":"RESULTATS!AK94","v":0},null,{"$f":"RESULTATS!AO94","v":17},null,{"$f":"RESULTATS!AS94","v":0},null,{"$f":"RESULTATS!AW94","v":17},null,{"$f":"RESULTATS!BA94","v":2},null,{"$f":"RESULTATS!BE94","v":39},null,{"$f":"RESULTATS!BI94","v":1}]
[]
[null,null,null,"TOTAUX",null,{"$f":"SUM(F56:F84)","v":26563},null,{"$f":"SUM(H56:H84)","v":10250},null,{"$f":"SUM(J56:J84)","v":10250},null,{"$f":"SUM(L56:L84)","v":16313},null,{"$f":"SUM(N56:N84)","v":192},null,{"$f":"SUM(P56:P84)","v":185},null,{"$f":"SUM(R56:R84)","v":9873},null,{"$f":"SUM(T56:T84)","v":94},null,{"$f":"SUM(V56:V84)","v":1},null,{"$f":"SUM(X56:X84)","v":2270},null,{"$f":"SUM(Z56:Z84)","v":763},null,{"$f":"SUM(AB56:AB84)","v":0},null,{"$f":"SUM(AD56:AD84)","v":305},null,{"$f":"SUM(AF56:AF84)","v":0},null,{"$f":"SUM(AH56:AH84)","v":249},null,{"$f":"SUM(AJ56:AJ84)","v":54},null,{"$f":"SUM(AL56:AL84)","v":640},null,{"$f":"SUM(AN56:AN84)","v":28}]

{"sheet":"RESULTATS","index":30,"n_rows":100,"n_cols":67,"rows_kept":100,"cut":false,"hidden":false,"merged":[[8,64,8,65],[58,20,58,21],[8,52,8,53],[8,60,8,61],[58,28,58,29],[58,24,58,25],[58,32,58,33],[58,44,58,45],[50,20,50,41],[53,25,53,26],[47,22,48,23],[8,44,8,45],[8,56,8,57],[8,48,8,49],[9,28,10,29],[47,58,48,59],[51,0,51,3],[52,0,53,3],[0,20,0,41],[2,0,3,3],[1,0,1,3],[8,20,8,21],[8,24,8,25],[3,25,3,26],[5,25,5,26],[8,32,8,33],[8,28,8,29],[8,36,8,37],[9,16,9,17],[9,18,9,19],[9,20,10,21],[9,24,10,25],[82,1,82,3],[89,1,89,3],[94,1,94,3],[59,16,59,17],[59,18,59,19],[69,1,69,3],[76,1,76,3],[97,22,98,23],[47,66,48,67],[47,34,48,35],[47,38,48,39],[47,42,48,43],[55,28,55,29],[55,25,55,26],[54,28,54,34],[47,50,48,51],[47,62,48,63],[47,26,48,27],[47,30,48,31],[97,46,98,47],[47,54,48,55],[97,42,98,43],[97,38,98,39],[19,1,19,3],[26,1,26,3],[32,1,32,3],[47,46,48,47],[39,1,39,3],[44,1,44,3],[3,28,3,29],[5,28,5,29],[53,28,53,29],[4,28,4,34],[8,40,8,41],[97,34,98,35],[97,30,98,31],[97,26,98,27],[9,64,10,65],[97,58,98,59],[58,60,58,61],[97,62,98,63],[58,48,58,49],[97,50,98,51],[58,52,58,53],[97,54,98,55],[58,56,58,57],[59,60,60,61],[59,56,60,57],[59,52,60,53],[59,48,60,49],[9,44,10,45],[9,48,10,49],[9,52,10,53],[9,56,10,57],[9,60,10,61],[59,24,60,25],[59,20,60,21],[9,32,10,33],[9,36,10,37],[9,40,10,41],[58,40,58,41],[58,36,58,37],[59,44,60,45],[59,40,60,41],[59,36,60,37],[59,32,60,33],[59,28,60,29]]}
[null,null,null,null,null,null,null,null,null,null,null,null,null,null,null,null,null,null,null,null,"ÉLECTIONS EUROPÉENNES"]
["RÉSULTATS"]
[null,null,null,null,null,null,null,null,null,null,null,null,null,null,null,null,null,null,null,null,null,null,null,null,null,null,null,null,null,null,null,null,null,null,null,null,null,null,null,null,null,null,null,null,null,null,null,null,null,null,null,null,null,null,null,null,null,null,null,null,null,null,"25 mai 2014"]
[null,null,null,null,null,null,null,null,null,null,null,null,null,null,null,null,null,null,null,null,null,null,null,null,null,{"$f":"COUNTIF($I$13:$I$19,\">0\")+COUNTIF($I$21:$I$26,\">0\")+COUNTIF($I$28:$I$32,\">0\")+COUNTIF($I$34:$I$39,\">0\")+COUNTIF($I$41:$I$44,\">0\")","v":28},null,null,"Bureaux sur",null,28]
[]
[null,null,null,null,"Listes 1 à 12",null,null,null,null,null,null,null,null,null,null,null,null,null,null,null,null,null,null,null,null,{"$f":"SUMIF($I$13:$I$19,\">0\",$E$13:$E$19)+SUMIF($I$21:$I$26,\">0\",$E$21:$E$26)+SUMIF($I$28:$I$32,\">0\",$E$28:$E$32)+SUMIF($I$34:$I$39,\">0\",$E$34:$E$39)+SUMIF($I$41:$I$44,\">0\",$E$41:$E$44)","v":26563},null,null,"Inscrits sur",null,{"$f":"$E$48","v":26563},null,"soit",":",{"$f":"Z6/AE6","v":1}]
[]
[]
[null,null,null,null,null,null,null,null,null,null,null,null,null,null,null,null,null,null,"%  /",null,{"$f":"Candidats!A2","v":"Nadine"},null,null,null,{"$f":"Candidats!A3","v":"Joe"},null,null,null,{"$f":"Candidats!A4","v":"Claire"},null,null,null,{"$f":"Candidats!A5","v":"Christian"},null,null,null,{"$f":"Candidats!A6","v":"Edouard"},null,null,null,{"$f":"Candidats!A7","v":"Gaël"},null,null,null,{"$f":"Candidats!A8","v":"Nathalie"},null,null,null,{"$f":"Candidats!A9","v":"Julien"},null,null,null,{"$f":"Candidats!A10","v":"Philippe"},null,null,null,{"$f":"Candidats!A11","v":"Antoine"},null,null,null,{"$f":"Candidats!A12","v":"Geneviève"},null,null,null,{"$f":"Candidats!A13","v":"Isabelle"}]
[null,null,null,"BUREAUX","Inscrits",null,"Émarg.",null,"Votants",null,"Particip.",null,"Blancs",null,"Nuls",null,"Exprimés",null,"Inscrits",null,{"$f":"Candidats!B2","v":"MORANO"},null,"%",null,{"$f":"Candidats!B3","v":"LABAT"},null,"%",null,{"$f":"Candidats!B4","v":"ROCHER"},null,"%",null,{"$f":"Candidats!B5","v":"D'ANDLAU-HOMBOURG"},null,"%",null,{"$f":"Candidats!B6","v":"MARTIN"},null,"%",null,{"$f":"Candidats!B7","v":"DIAFERIA"},null,"%",null,{"$f":"Candidats!B8","v":"GRIESBECK"},null,"%",null,{"$f":"Candidats!B9","v":"GONZALEZ"},null,"%",null,{"$f":"Candidats!B10","v":"COUKA"},null,"%",null,{"$f":"Candidats!B11","v":"RENARD"},null,"%",null,{"$f":"Candidats!B12","v":"MARTIN"},null,"%",null,{"$f":"Candidats!B13","v":"VÉRIN"},null,"%"]
[]
[]
[null,"A1  -   Hôtel de Ville",null,null,{"$f":"IF('A1'!$E7=\"\",\"\",'A1'!$E7)","v":856},null,{"$f":"IF('A1'!$E8=\"\",\"\",'A1'!$E8)","v":368},null,{"$f":"IF('A1'!$E9=\"\",\"\",'A1'!$E9)","v":368},null,{"$f":"IF(I13=\"\",\" \",I13/$E13)","v":0.42990654205607476},null,{"$f":"IF('A1'!$E10=\"\",\"\",'A1'!$E10)","v":4},null,{"$f":"IF('A1'!$E11=\"\",\"\",'A1'!$E11)","v":4},null,{"$f":"IF('A1'!$E12=\"\",\"\",'A1'!$E12)","v":360},null,{"$f":"IF(Q13=\"\",\" \",Q13/$E13)","v":0.42056074766355139},null,{"$f":"IF('A1'!$E13=\"\",\"\",'A1'!$E13)","v":87},null,{"$f":"IF(U13=\"\",\" \",U13/$Q13)","v":0.24166666666666667},null,{"$f":"IF('A1'!$E14=\"\",\"\",'A1'!$E14)","v":1},null,{"$f":"IF(Y13=\"\",\" \",Y13/$Q13)","v":2.7777777777777779E-3},null,{"$f":"IF('A1'!$E15=\"\",\"\",'A1'!$E15)","v":5},null,{"$f":"IF(AC13=\"\",\" \",AC13/$Q13)","v":1.3888888888888888E-2},null,{"$f":"IF('A1'!$E16=\"\",\"\",'A1'!$E16)","v":0},null,{"$f":"IF(AG13=\"\",\" \",AG13/$Q13)","v":0},null,{"$f":"IF('A1'!$E17=\"\",\"\",'A1'!$E17)","v":57},null,{"$f":"IF(AK13=\"\",\" \",AK13/$Q13)","v":0.15833333333333333},null,{"$f":"IF('A1'!$E18=\"\",\"\",'A1'!$E18)","v":1},null,{"$f":"IF(AO13=\"\",\" \",AO13/$Q13)","v":2.7777777777777779E-3},null,{"$f":"IF('A1'!$E19=\"\",\"\",'A1'!$E19)","v":42},null,{"$f":"IF(AS13=\"\",\" \",AS13/$Q13)","v":0.11666666666666667},null,{"$f":"IF('A1'!$E20=\"\",\"\",'A1'!$E20)","v":7},null,{"$f":"IF(AW13=\"\",\" \",AW13/$Q13)","v":1.9444444444444445E-2},null,{"$f":"IF('A1'!$E21=\"\",\"\",'A1'!$E21)","v":0},null,{"$f":"IF(BA13=\"\",\" \",BA13/$Q13)","v":0},null,{"$f":"IF('A1'!$E22=\"\",\"\",'A1'!$E22)","v":6},null,{"$f":"IF(BE13=\"\",\" \",BE13/$Q13)","v":1.6666666666666666E-2},null,{"$f":"IF('A1'!$E23=\"\",\"\",'A1'!$E23)","v":1},null,{"$f":"IF(BI13=\"\",\" \",BI13/$Q63)","v":2.7777777777777779E-3},null,{"$f":"IF('A1'!$E24=\"\",\"\",'A1'!$E24)","v":3},null,{"$f":"IF(BM13=\"\",\" \",BM13/$Q63)","v":8.3333333333333332E-3}]
[null,"A2  -  Salle des fêtes",null,null,{"$f":"IF('A2'!$E7=\"\",\"\",'A2'!$E7)","v":934},null,{"$f":"IF('A2'!$E8=\"\",\"\",'A2'!$E8)","v":476},null,{"$f":"IF('A2'!$E9=\"\",\"\",'A2'!$E9)","v":476},null,{"$f":"IF(I14=\"\",\" \",I14/$E14)","v":0.50963597430406848},null,{"$f":"IF('A2'!$E10=\"\",\"\",'A2'!$E10)","v":7},null,{"$f":"IF('A2'!$E11=\"\",\"\",'A2'!$E11)","v":10},null,{"$f":"IF('A2'!$E12=\"\",\"\",'A2'!$E12)","v":459},null,{"$f":"IF(Q14=\"\",\" \",Q14/$E14)","v":0.49143468950749464},null,{"$f":"IF('A2'!$E13=\"\",\"\",'A2'!$E13)","v":160},null,0.34858387799564272,null,{"$f":"IF('A2'!$E14=\"\",\"\",'A2'!$E14)","v":0},null,0,null,{"$f":"IF('A2'!$E15=\"\",\"\",'A2'!$E15)","v":5},null,1.0893246187363835E-2,null,{"$f":"IF('A2'!$E16=\"\",\"\",'A2'!$E16)","v":0},null,0,null,{"$f":"IF('A2'!$E17=\"\",\"\",'A2'!$E17)","v":60},null,0.13071895424836602,null,{"$f":"IF('A2'!$E18=\"\",\"\",'A2'!$E18)","v":0},null,0,null,{"$f":"IF('A2'!$E19=\"\",\"\",'A2'!$E19)","v":53},null,0.11546840958605664,null,{"$f":"IF('A2'!$E20=\"\",\"\",'A2'!$E20)","v":10},null,2.178649237472767E-2,null,{"$f":"IF('A2'!$E21=\"\",\"\",'A2'!$E21)","v":0},null,0,null,{"$f":"IF('A2'!E22=\"\",\"\",'A2'!E22)","v":6},null,1.3071895424836602E-2,null,{"$f":"IF('A2'!$E23=\"\",\"\",'A2'!$E23)","v":0},null,0,null,{"$f":"IF('A2'!$E24=\"\",\"\",'A2'!$E24)","v":2},null,4.3572984749455342E-3]
[null,"B1  -  Victor Hugo",null,null,{"$f":"IF('B1'!$E7=\"\",\"\",'B1'!$E7)","v":1068},null,{"$f":"IF('B1'!$E8=\"\",\"\",'B1'!$E8)","v":434},null,{"$f":"IF('B1'!$E9=\"\",\"\",'B1'!$E9)","v":434},null,0.40636704119850187,null,{"$f":"IF('B1'!$E10=\"\",\"\",'B1'!$E10)","v":4},null,{"$f":"IF('B1'!$E11=\"\",\"\",'B1'!$E11)","v":3},null,{"$f":"IF('B1'!$E12=\"\",\"\",'B1'!$E12)","v":427},null,0.39981273408239698,null,{"$f":"IF('B1'!$E13=\"\",\"\",'B1'!$E13)","v":121},null,0.28337236533957844,null,{"$f":"IF('B1'!$E14=\"\",\"\",'B1'!$E14)","v":2},null,4.6838407494145199E-3,null,{"$f":"IF('B1'!$E15=\"\",\"\",'B1'!$E15)","v":4},null,9.3676814988290398E-3,null,{"$f":"IF('B1'!$E16=\"\",\"\",'B1'!$E16)","v":1},null,2.34192037470726E-3,null,{"$f":"IF('B1'!$E17=\"\",\"\",'B1'!$E17)","v":74},null,0.17330210772833723,null,{"$f":"IF('B1'!$E18=\"\",\"\",'B1'!$E18)","v":0},null,0,null,{"$f":"IF('B1'!$E19=\"\",\"\",'B1'!$E19)","v":61},null,0.14285714285714285,null,{"$f":"IF('B1'!$E20=\"\",\"\",'B1'!$E20)","v":8},null,1.873536299765808E-2,null,{"$f":"IF('B1'!$E21=\"\",\"\",'B1'!$E21)","v":0},null,0,null,{"$f":"IF('B1'!E22=\"\",\"\",'B1'!E22)","v":2},null,4.6838407494145199E-3,null,{"$f":"IF('B1'!$E23=\"\",\"\",'B1'!$E23)","v":1},null,2.34192037470726E-3,null,{"$f":"IF('B1'!$E24=\"\",\"\",'B1'!$E24)","v":1},null,2.34192037470726E-3]
[null,"B2  -  Victor Hugo",null,null,{"$f":"IF('B2'!$E7=\"\",\"\",'B2'!$E7)","v":1149},null,{"$f":"IF('B2'!$E8=\"\",\"\",'B2'!$E8)","v":524},null,{"$f":"IF('B2'!$E9=\"\",\"\",'B2'!$E9)","v":524},null,0.45604873803307222,null,{"$f":"IF('B2'!$E10=\"\",\"\",'B2'!$E10)","v":1},null,{"$f":"IF('B2'!$E11=\"\",\"\",'B2'!$E11)","v":7},null,{"$f":"IF('B2'!$E12=\"\",\"\",'B2'!$E12)","v":516},null,0.44908616187989558,null,{"$f":"IF('B2'!$E13=\"\",\"\",'B2'!$E13)","v":145},null,0.2810077519379845,null,{"$f":"IF('B2'!$E14=\"\",\"\",'B2'!$E14)","v":0},null,0,null,{"$f":"IF('B2'!$E15=\"\",\"\",'B2'!$E15)","v":5},null,9.6899224806201549E-3,null,{"$f":"IF('B2'!$E16=\"\",\"\",'B2'!$E16)","v":1},null,1.937984496124031E-3,null,{"$f":"IF('B2'!$E17=\"\",\"\",'B2'!$E17)","v":66},null,0.12790697674418605,null,{"$f":"IF('B2'!$E18=\"\",\"\",'B2'!$E18)","v":4},null,7.7519379844961239E-3,null,{"$f":"IF('B2'!$E19=\"\",\"\",'B2'!$E19)","v":64},null,0.12403100775193798,null,{"$f":"IF('B2'!$E20=\"\",\"\",'B2'!$E20)","v":12},null,2.3255813953488372E-2,null,{"$f":"IF('B2'!$E21=\"\",\"\",'B2'!$E21)","v":1},null,1.937984496124031E-3,null,{"$f":"IF('B2'!E22=\"\",\"\",'B2'!E22)","v":10},null,1.937984496124031E-2,null,{"$f":"IF('B2'!$E23=\"\",\"\",'B2'!$E23)","v":1},null,1.937984496124031E-3,null,{"$f":"IF('B2'!$E24=\"\",\"\",'B2'!$E24)","v":0},null,0]
[null,"M1  -  Saint-Exupéry",null,null,{"$f":"IF('M1'!$E7=\"\",\"\",'M1'!$E7)","v":1300},null,{"$f":"IF('M1'!$E8=\"\",\"\",'M1'!$E8)","v":274},null,{"$f":"IF('M1'!$E9=\"\",\"\",'M1'!$E9)","v":274},null,0.21076923076923076,null,{"$f":"IF('M1'!$E10=\"\",\"\",'M1'!$E10)","v":4},null,{"$f":"IF('M1'!$E11=\"\",\"\",'M1'!$E11)","v":14},null,{"$f":"IF('M1'!$E12=\"\",\"\",'M1'!$E12)","v":256},null,0.19692307692307692,null,{"$f":"IF('M1'!$E13=\"\",\"\",'M1'!$E13)","v":50},null,0.1953125,null,{"$f":"IF('M1'!$E14=\"\",\"\",'M1'!$E14)","v":0},null,0,null,{"$f":"IF('M1'!$E15=\"\",\"\",'M1'!$E15)","v":4},null,1.5625E-2,null,{"$f":"IF('M1'!$E16=\"\",\"\",'M1'!$E16)","v":1},null,3.90625E-3,null,{"$f":"IF('M1'!$E17=\"\",\"\",'M1'!$E17)","v":48},null,0.1875,null,{"$f":"IF('M1'!$E18=\"\",\"\",'M1'!$E18)","v":2},null,7.8125E-3,null,{"$f":"IF('M1'!$E19=\"\",\"\",'M1'!$E19)","v":24},null,9.375E-2,null,{"$f":"IF('M1'!$E20=\"\",\"\",'M1'!$E20)","v":4},null,1.5625E-2,null,{"$f":"IF('M1'!$E21=\"\",\"\",'M1'!$E21)","v":0},null,0,null,{"$f":"IF('M1'!E22=\"\",\"\",'M1'!E22)","v":1},null,3.90625E-3,null,{"$f":"IF('M1'!$E23=\"\",\"\",'M1'!$E23)","v":1},null,3.90625E-3,null,{"$f":"IF('M1'!$E24=\"\",\"\",'M1'!$E24)","v":2},null,7.8125E-3]
[null,"N1  -  Jean Moulin",null,null,{"$f":"IF('N1'!$E7=\"\",\"\",'N1'!$E7)","v":1451},null,{"$f":"IF('N1'!$E8=\"\",\"\",'N1'!$E8)","v":603},null,{"$f":"IF('N1'!$E9=\"\",\"\",'N1'!$E9)","v":603},null,0.41557546519641625,null,{"$f":"IF('N1'!$E10=\"\",\"\",'N1'!$E10)","v":12},null,{"$f":"IF('N1'!$E11=\"\",\"\",'N1'!$E11)","v":8},null,{"$f":"IF('N1'!$E12=\"\",\"\",'N1'!$E12)","v":583},null,0.40179186767746383,null,{"$f":"IF('N1'!$E13=\"\",\"\",'N1'!$E13)","v":141},null,0.241852487135506,null,{"$f":"IF('N1'!$E14=\"\",\"\",'N1'!$E14)","v":0},null,0,null,{"$f":"IF('N1'!$E15=\"\",\"\",'N1'!$E15)","v":4},null,6.8610634648370496E-3,null,{"$f":"IF('N1'!$E16=\"\",\"\",'N1'!$E16)","v":1},null,1.7152658662092624E-3,null,{"$f":"IF('N1'!$E17=\"\",\"\",'N1'!$E17)","v":78},null,0.13379073756432247,null,{"$f":"IF('N1'!$E18=\"\",\"\",'N1'!$E18)","v":4},null,6.8610634648370496E-3,null,{"$f":"IF('N1'!$E19=\"\",\"\",'N1'!$E19)","v":62},null,0.10634648370497427,null,{"$f":"IF('N1'!$E20=\"\",\"\",'N1'!$E20)","v":13},null,2.2298456260720412E-2,null,{"$f":"IF('N1'!$E21=\"\",\"\",'N1'!$E21)","v":2},null,3.4305317324185248E-3,null,{"$f":"IF('N1'!E22=\"\",\"\",'N1'!E22)","v":3},null,5.1457975986277877E-3,null,{"$f":"IF('N1'!$E23=\"\",\"\",'N1'!$E23)","v":0},null,0,null,{"$f":"IF('N1'!$E24=\"\",\"\",'N1'!$E24)","v":3},null,5.1457975986277877E-3]
[null,"N2  -  Cité des Associations",null,null,{"$f":"IF('N2'!$E7=\"\",\"\",'N2'!$E7)","v":899},null,{"$f":"IF('N2'!$E8=\"\",\"\",'N2'!$E8)","v":409},null,{"$f":"IF('N2'!$E9=\"\",\"\",'N2'!$E9)","v":409},null,0.45494994438264741,null,{"$f":"IF('N2'!$E10=\"\",\"\",'N2'!$E10)","v":12},null,{"$f":"IF('N2'!$E11=\"\",\"\",'N2'!$E11)","v":7},null,{"$f":"IF('N2'!$E12=\"\",\"\",'N2'!$E12)","v":390},null,0.43381535038932145,null,{"$f":"IF('N2'!$E13=\"\",\"\",'N2'!$E13)","v":70},null,0.17948717948717949,null,{"$f":"IF('N2'!$E14=\"\",\"\",'N2'!$E14)","v":2},null,5.1282051282051282E-3,null,{"$f":"IF('N2'!$E15=\"\",\"\",'N2'!$E15)","v":6},null,1.5384615384615385E-2,null,{"$f":"IF('N2'!$E16=\"\",\"\",'N2'!$E16)","v":0},null,0,null,{"$f":"IF('N2'!$E17=\"\",\"\",'N2'!$E17)","v":83},null,0.21282051282051281,null,{"$f":"IF('N2'!$E18=\"\",\"\",'N2'!$E18)","v":1},null,2.5641025641025641E-3,null,{"$f":"IF('N2'!$E19=\"\",\"\",'N2'!$E19)","v":47},null,0.12051282051282051,null,{"$f":"IF('N2'!$E20=\"\",\"\",'N2'!$E20)","v":6},null,1.5384615384615385E-2,null,{"$f":"IF('N2'!$E21=\"\",\"\",'N2'!$E21)","v":0},null,0,null,{"$f":"IF('N2'!E22=\"\",\"\",'N2'!E22)","v":2},null,5.1282051282051282E-3,null,{"$f":"IF('N2'!$E23=\"\",\"\",'N2'!$E23)","v":2},null,5.1282051282051282E-3,null,{"$f":"IF('N2'!$E24=\"\",\"\",'N2'!$E24)","v":2},null,5.1282051282051282E-3]
[null,"Canton EST",null,null,{"$f":"SUM(E$13:E$19)","v":7657},null,{"$f":"SUM(G13:G19)","v":3088},null,{"$f":"SUM(I13:I19)","v":3088},null,0.40329110617735403,null,{"$f":"SUM(M13:M19)","v":44},null,{"$f":"SUM(O13:O19)","v":53},null,{"$f":"SUM(Q13:Q19)","v":2991},null,0.39062295938357061,null,{"$f":"SUM(U13:U19)","v":774},null,{"$f":"IF(U20=0,0,U20/$Q20)","v":0.2587763289869609},null,{"$f":"SUM(Y13:Y19)","v":5},null,{"$f":"IF(Y20=0,0,Y20/$Q20)","v":1.671681711802073E-3},null,{"$f":"SUM(AC13:AC19)","v":33},null,{"$f":"IF(AC20=0,0,AC20/$Q20)","v":1.1033099297893681E-2},null,{"$f":"SUM(AG13:AG19)","v":4},null,{"$f":"IF(AG20=0,0,AG20/$Q20)","v":1.3373453694416582E-3},null,{"$f":"SUM(AK13:AK19)","v":466},null,{"$f":"IF(AK20=0,0,AK20/$Q20)","v":0.15580073553995319},null,{"$f":"SUM(AO13:AO19)","v":12},null,{"$f":"IF(AO20=0,0,AO20/$Q20)","v":4.0120361083249749E-3},null,{"$f":"SUM(AS13:AS19)","v":353},null,{"$f":"IF(AS20=0,0,AS20/$Q20)","v":0.11802072885322634},null,{"$f":"SUM(AW13:AW19)","v":60},null,{"$f":"IF(AW20=0,0,AW20/$Q20)","v":2.0060180541624874E-2},null,{"$f":"SUM(BA13:BA19)","v":3},null,{"$f":"IF(BA20=0,0,BA20/$Q20)","v":1.0030090270812437E-3},null,{"$f":"SUM(BE13:BE19)","v":30},null,{"$f":"IF(BE20=0,0,BE20/$Q20)","v":1.0030090270812437E-2},null,{"$f":"SUM(BI13:BI19)","v":6},null,{"$f":"IF(BI20=0,0,BI20/$Q70)","v":2.0060180541624875E-3},null,{"$f":"SUM(BM13:BM19)","v":13},null,{"$f":"IF(BM20=0,0,BM20/$Q70)","v":4.3463724506853894E-3}]
[null,"C1  -  Victor Schoelcher",null,null,{"$f":"IF('C1'!$E7=\"\",\"\",'C1'!$E7)","v":1194},null,{"$f":"IF('C1'!$E8=\"\",\"\",'C1'!$E8)","v":487},null,{"$f":"IF('C1'!$E9=\"\",\"\",'C1'!$E9)","v":487},null,0.40787269681742044,null,{"$f":"IF('C1'!$E10=\"\",\"\",'C1'!$E10)","v":8},null,{"$f":"IF('C1'!$E11=\"\",\"\",'C1'!$E11)","v":4},null,{"$f":"IF('C1'!$E12=\"\",\"\",'C1'!$E12)","v":475},null,0.39782244556113905,null,{"$f":"IF('C1'!$E13=\"\",\"\",'C1'!$E13)","v":127},null,{"$f":"IF(U21=\"\",\" \",U21/$Q21)","v":0.26736842105263159},null,{"$f":"IF('C1'!$E14=\"\",\"\",'C1'!$E14)","v":2},null,{"$f":"IF(Y21=\"\",\" \",Y21/$Q21)","v":4.2105263157894736E-3},null,{"$f":"IF('C1'!$E15=\"\",\"\",'C1'!$E15)","v":4},null,{"$f":"IF(AC21=\"\",\" \",AC21/$Q21)","v":8.4210526315789472E-3},null,{"$f":"IF('C1'!$E16=\"\",\"\",'C1'!$E16)","v":1},null,{"$f":"IF(AG21=\"\",\" \",AG21/$Q21)","v":2.1052631578947368E-3},null,{"$f":"IF('C1'!$E17=\"\",\"\",'C1'!$E17)","v":86},null,{"$f":"IF(AK21=\"\",\" \",AK21/$Q21)","v":0.18105263157894738},null,{"$f":"IF('C1'!$E18=\"\",\"\",'C1'!$E18)","v":2},null,{"$f":"IF(AO21=\"\",\" \",AO21/$Q21)","v":4.2105263157894736E-3},null,{"$f":"IF('C1'!$E19=\"\",\"\",'C1'!$E19)","v":56},null,{"$f":"IF(AS21=\"\",\" \",AS21/$Q21)","v":0.11789473684210526},null,{"$f":"IF('C1'!$E20=\"\",\"\",'C1'!$E20)","v":10},null,{"$f":"IF(AW21=\"\",\" \",AW21/$Q21)","v":2.1052631578947368E-2},null,{"$f":"IF('C1'!$E21=\"\",\"\",'C1'!$E21)","v":0},null,{"$f":"IF(BA21=\"\",\" \",BA21/$Q21)","v":0},null,{"$f":"IF('C1'!E22=\"\",\"\",'C1'!E22)","v":4},null,{"$f":"IF(BE21=\"\",\" \",BE21/$Q21)","v":8.4210526315789472E-3},null,{"$f":"IF('C1'!$E23=\"\",\"\",'C1'!$E23)","v":0},null,{"$f":"IF(BI21=\"\",\" \",BI21/$Q71)","v":0},null,{"$f":"IF('C1'!$E24=\"\",\"\",'C1'!$E24)","v":3},null,{"$f":"IF(BM21=\"\",\" \",BM21/$Q71)","v":6.3157894736842104E-3}]
[null,"C2  -  Maison du Peuple",null,null,{"$f":"IF('C2'!$E7=\"\",\"\",'C2'!$E7)","v":749},null,{"$f":"IF('C2'!$E8=\"\",\"\",'C2'!$E8)","v":359},null,{"$f":"IF('C2'!$E9=\"\",\"\",'C2'!$E9)","v":359},null,0.47930574098798395,null,{"$f":"IF('C2'!$E10=\"\",\"\",'C2'!$E10)","v":4},null,{"$f":"IF('C2'!$E11=\"\",\"\",'C2'!$E11)","v":8},null,{"$f":"IF('C2'!$E12=\"\",\"\",'C2'!$E12)","v":347},null,0.46328437917222964,null,{"$f":"IF('C2'!$E13=\"\",\"\",'C2'!$E13)","v":108},null,0.31123919308357351,null,{"$f":"IF('C2'!$E14=\"\",\"\",'C2'!$E14)","v":0},null,0,null,{"$f":"IF('C2'!$E15=\"\",\"\",'C2'!$E15)","v":2},null,5.763688760806916E-3,null,{"$f":"IF('C2'!$E16=\"\",\"\",'C2'!$E16)","v":0},null,0,null,{"$f":"IF('C2'!$E17=\"\",\"\",'C2'!$E17)","v":52},null,0.14985590778097982,null,{"$f":"IF('C2'!$E18=\"\",\"\",'C2'!$E18)","v":2},null,5.763688760806916E-3,null,{"$f":"IF('C2'!$E19=\"\",\"\",'C2'!$E19)","v":33},null,9.5100864553314124E-2,null,{"$f":"IF('C2'!$E20=\"\",\"\",'C2'!$E20)","v":7},null,2.0172910662824207E-2,null,{"$f":"IF('C2'!$E21=\"\",\"\",'C2'!$E21)","v":1},null,2.881844380403458E-3,null,{"$f":"IF('C2'!E22=\"\",\"\",'C2'!E22)","v":1},null,2.881844380403458E-3,null,{"$f":"IF('C2'!$E23=\"\",\"\",'C2'!$E23)","v":1},null,2.881844380403458E-3,null,{"$f":"IF('C2'!$E24=\"\",\"\",'C2'!$E24)","v":1},null,2.881844380403458E-3]
[null,"C3  -  Maison du Peuple",null,null,{"$f":"IF('C3'!$E7=\"\",\"\",'C3'!$E7)","v":909},null,{"$f":"IF('C3'!$E8=\"\",\"\",'C3'!$E8)","v":426},null,{"$f":"IF('C3'!$E9=\"\",\"\",'C3'!$E9)","v":426},null,0.46864686468646866,null,{"$f":"IF('C3'!$E10=\"\",\"\",'C3'!$E10)","v":6},null,{"$f":"IF('C3'!$E11=\"\",\"\",'C3'!$E11)","v":5},null,{"$f":"IF('C3'!$E12=\"\",\"\",'C3'!$E12)","v":415},null,0.45654565456545654,null,{"$f":"IF('C3'!$E13=\"\",\"\",'C3'!$E13)","v":148},null,0.3566265060240964,null,{"$f":"IF('C3'!$E14=\"\",\"\",'C3'!$E14)","v":1},null,2.4096385542168677E-3,null,{"$f":"IF('C3'!$E15=\"\",\"\",'C3'!$E15)","v":2},null,4.8192771084337354E-3,null,{"$f":"IF('C3'!$E16=\"\",\"\",'C3'!$E16)","v":0},null,0,null,{"$f":"IF('C3'!$E17=\"\",\"\",'C3'!$E17)","v":65},null,0.15662650602409639,null,{"$f":"IF('C3'!$E18=\"\",\"\",'C3'!$E18)","v":2},null,4.8192771084337354E-3,null,{"$f":"IF('C3'!$E19=\"\",\"\",'C3'!$E19)","v":39},null,9.3975903614457831E-2,null,{"$f":"IF('C3'!$E20=\"\",\"\",'C3'!$E20)","v":7},null,1.6867469879518072E-2,null,{"$f":"IF('C3'!$E21=\"\",\"\",'C3'!$E21)","v":0},null,0,null,{"$f":"IF('C3'!E22=\"\",\"\",'C3'!E22)","v":3},null,7.2289156626506026E-3,null,{"$f":"IF('C3'!$E23=\"\",\"\",'C3'!$E23)","v":1},null,2.4096385542168677E-3,null,{"$f":"IF('C3'!$E24=\"\",\"\",'C3'!$E24)","v":3},null,7.2289156626506026E-3]
[null,"D1  -  Châteaudun",null,null,{"$f":"IF('D1'!$E7=\"\",\"\",'D1'!$E7)","v":1058},null,{"$f":"IF('D1'!$E8=\"\",\"\",'D1'!$E8)","v":444},null,{"$f":"IF('D1'!$E9=\"\",\"\",'D1'!$E9)","v":444},null,0.41965973534971646,null,{"$f":"IF('D1'!$E10=\"\",\"\",'D1'!$E10)","v":6},null,{"$f":"IF('D1'!$E11=\"\",\"\",'D1'!$E11)","v":7},null,{"$f":"IF('D1'!$E12=\"\",\"\",'D1'!$E12)","v":431},null,0.40737240075614367,null,{"$f":"IF('D1'!$E13=\"\",\"\",'D1'!$E13)","v":140},null,0.3248259860788863,null,{"$f":"IF('D1'!$E14=\"\",\"\",'D1'!$E14)","v":0},null,0,null,{"$f":"IF('D1'!$E15=\"\",\"\",'D1'!$E15)","v":3},null,6.9605568445475635E-3,null,{"$f":"IF('D1'!$E16=\"\",\"\",'D1'!$E16)","v":0},null,0,null,{"$f":"IF('D1'!$E17=\"\",\"\",'D1'!$E17)","v":61},null,0.14153132250580047,null,{"$f":"IF('D1'!$E18=\"\",\"\",'D1'!$E18)","v":1},null,2.3201856148491878E-3,null,{"$f":"IF('D1'!$E19=\"\",\"\",'D1'!$E19)","v":35},null,8.1206496519721574E-2,null,{"$f":"IF('D1'!$E20=\"\",\"\",'D1'!$E20)","v":10},null,2.3201856148491878E-2,null,{"$f":"IF('D1'!$E21=\"\",\"\",'D1'!$E21)","v":0},null,0,null,{"$f":"IF('D1'!E22=\"\",\"\",'D1'!E22)","v":1},null,2.3201856148491878E-3,null,{"$f":"IF('D1'!$E23=\"\",\"\",'D1'!$E23)","v":1},null,2.3201856148491878E-3,null,{"$f":"IF('D1'!$E24=\"\",\"\",'D1'!$E24)","v":0},null,0]
[null,"D2  -  Châteaudun",null,null,{"$f":"IF('D2'!$E7=\"\",\"\",'D2'!$E7)","v":827},null,{"$f":"IF('D2'!$E8=\"\",\"\",'D2'!$E8)","v":365},null,{"$f":"IF('D2'!$E9=\"\",\"\",'D2'!$E9)","v":365},null,0.44135429262394194,null,{"$f":"IF('D2'!$E10=\"\",\"\",'D2'!$E10)","v":5},null,{"$f":"IF('D2'!$E11=\"\",\"\",'D2'!$E11)","v":4},null,{"$f":"IF('D2'!$E12=\"\",\"\",'D2'!$E12)","v":356},null,0.43047158403869407,null,{"$f":"IF('D2'!$E13=\"\",\"\",'D2'!$E13)","v":104},null,0.29213483146067415,null,{"$f":"IF('D2'!$E14=\"\",\"\",'D2'!$E14)","v":1},null,2.8089887640449437E-3,null,{"$f":"IF('D2'!$E15=\"\",\"\",'D2'!$E15)","v":0},null,0,null,{"$f":"IF('D2'!$E16=\"\",\"\",'D2'!$E16)","v":0},null,0,null,{"$f":"IF('D2'!$E17=\"\",\"\",'D2'!$E17)","v":44},null,0.12359550561797752,null,{"$f":"IF('D2'!$E18=\"\",\"\",'D2'!$E18)","v":3},null,8.4269662921348312E-3,null,{"$f":"IF('D2'!$E19=\"\",\"\",'D2'!$E19)","v":44},null,0.12359550561797752,null,{"$f":"IF('D2'!$E20=\"\",\"\",'D2'!$E20)","v":2},null,5.6179775280898875E-3,null,{"$f":"IF('D2'!$E21=\"\",\"\",'D2'!$E21)","v":0},null,0,null,{"$f":"IF('D2'!E22=\"\",\"\",'D2'!E22)","v":0},null,0,null,{"$f":"IF('D2'!$E23=\"\",\"\",'D2'!$E23)","v":1},null,2.8089887640449437E-3,null,{"$f":"IF('D2'!$E24=\"\",\"\",'D2'!$E24)","v":2},null,5.6179775280898875E-3]
[null,"D3  -  Châteaudun",null,null,{"$f":"IF('D3'!$E7=\"\",\"\",'D3'!$E7)","v":895},null,{"$f":"IF('D3'!$E8=\"\",\"\",'D3'!$E8)","v":365},null,{"$f":"IF('D3'!$E9=\"\",\"\",'D3'!$E9)","v":365},null,0.40782122905027934,null,{"$f":"IF('D3'!$E10=\"\",\"\",'D3'!$E10)","v":8},null,{"$f":"IF('D3'!$E11=\"\",\"\",'D3'!$E11)","v":7},null,{"$f":"IF('D3'!$E12=\"\",\"\",'D3'!$E12)","v":350},null,0.39106145251396646,null,{"$f":"IF('D3'!$E13=\"\",\"\",'D3'!$E13)","v":83},null,0.23714285714285716,null,{"$f":"IF('D3'!$E14=\"\",\"\",'D3'!$E14)","v":0},null,0,null,{"$f":"IF('D3'!$E15=\"\",\"\",'D3'!$E15)","v":7},null,0.02,null,{"$f":"IF('D3'!$E16=\"\",\"\",'D3'!$E16)","v":1},null,2.8571428571428571E-3,null,{"$f":"IF('D3'!$E17=\"\",\"\",'D3'!$E17)","v":42},null,0.12,null,{"$f":"IF('D3'!$E18=\"\",\"\",'D3'!$E18)","v":3},null,8.5714285714285719E-3,null,{"$f":"IF('D3'!$E19=\"\",\"\",'D3'!$E19)","v":32},null,9.1428571428571428E-2,null,{"$f":"IF('D3'!$E20=\"\",\"\",'D3'!$E20)","v":6},null,1.7142857142857144E-2,null,{"$f":"IF('D3'!$E21=\"\",\"\",'D3'!$E21)","v":0},null,0,null,{"$f":"IF('D3'!E22=\"\",\"\",'D3'!E22)","v":2},null,5.7142857142857143E-3,null,{"$f":"IF('D3'!$E23=\"\",\"\",'D3'!$E23)","v":1},null,2.8571428571428571E-3,null,{"$f":"IF('D3'!$E24=\"\",\"\",'D3'!$E24)","v":4},null,1.1428571428571429E-2]
[null,"Canton CENTRE",null,null,{"$f":"SUM(E$21:E$26)","v":5632},null,{"$f":"SUM(G21:G26)","v":2446},null,{"$f":"SUM(I21:I26)","v":2446},null,0.43430397727272729,null,{"$f":"SUM(M21:M26)","v":37},null,{"$f":"SUM(O21:O26)","v":35},null,{"$f":"SUM(Q21:Q26)","v":2374},null,0.42151988636363635,null,{"$f":"SUM(U21:U26)","v":710},null,{"$f":"IF(U27=0,0,U27/$Q27)","v":0.29907329401853411},null,{"$f":"SUM(Y21:Y26)","v":4},null,{"$f":"IF(Y27=0,0,Y27/$Q27)","v":1.6849199663016006E-3},null,{"$f":"SUM(AC21:AC26)","v":18},null,{"$f":"IF(AC27=0,0,AC27/$Q27)","v":7.582139848357203E-3},null,{"$f":"SUM(AG21:AG26)","v":2},null,{"$f":"IF(AG27=0,0,AG27/$Q27)","v":8.4245998315080029E-4},null,{"$f":"SUM(AK21:AK26)","v":350},null,{"$f":"IF(AK27=0,0,AK27/$Q27)","v":0.14743049705139005},null,{"$f":"SUM(AO21:AO26)","v":13},null,{"$f":"IF(AO27=0,0,AO27/$Q27)","v":5.4759898904802023E-3},null,{"$f":"SUM(AS21:AS26)","v":239},null,{"$f":"IF(AS27=0,0,AS27/$Q27)","v":0.10067396798652065},null,{"$f":"SUM(AW21:AW26)","v":42},null,{"$f":"IF(AW27=0,0,AW27/$Q27)","v":1.7691659646166806E-2},null,{"$f":"SUM(BA21:BA26)","v":1},null,{"$f":"IF(BA27=0,0,BA27/$Q27)","v":4.2122999157540015E-4},null,{"$f":"SUM(BE21:BE26)","v":11},null,{"$f":"IF(BE27=0,0,BE27/$Q27)","v":4.6335299073294017E-3},null,{"$f":"SUM(BI21:BI26)","v":5},null,{"$f":"IF(BI27=0,0,BI27/$Q77)","v":2.1061499578770007E-3},null,{"$f":"SUM(BM21:BM26)","v":13},null,{"$f":"IF(BM27=0,0,BM27/$Q77)","v":5.4759898904802023E-3}]
[null,"E1  -  Raymond Aubert",null,null,{"$f":"IF('E1'!E$7=\"\",\"\",'E1'!E$7)","v":1168},null,{"$f":"IF('E1'!$E8=\"\",\"\",'E1'!$E8)","v":475},null,{"$f":"IF('E1'!$E9=\"\",\"\",'E1'!$E9)","v":475},null,0.40667808219178081,null,{"$f":"IF('E1'!$E10=\"\",\"\",'E1'!$E10)","v":10},null,{"$f":"IF('E1'!$E11=\"\",\"\",'E1'!$E11)","v":8},null,{"$f":"IF('E1'!$E12=\"\",\"\",'E1'!$E12)","v":457},null,0.39126712328767121,null,{"$f":"IF('E1'!$E13=\"\",\"\",'E1'!$E13)","v":117},null,{"$f":"IF(U28=\"\",\" \",U28/$Q28)","v":0.25601750547045954},null,{"$f":"IF('E1'!$E14=\"\",\"\",'E1'!$E14)","v":0},null,{"$f":"IF(Y28=\"\",\" \",Y28/$Q28)","v":0},null,{"$f":"IF('E1'!$E15=\"\",\"\",'E1'!$E15)","v":8},null,{"$f":"IF(AC28=\"\",\" \",AC28/$Q28)","v":1.7505470459518599E-2},null,{"$f":"IF('E1'!$E16=\"\",\"\",'E1'!$E16)","v":1},null,{"$f":"IF(AG28=\"\",\" \",AG28/$Q28)","v":2.1881838074398249E-3},null,{"$f":"IF('E1'!$E17=\"\",\"\",'E1'!$E17)","v":59},null,{"$f":"IF(AK28=\"\",\" \",AK28/$Q28)","v":0.12910284463894967},null,{"$f":"IF('E1'!$E18=\"\",\"\",'E1'!$E18)","v":1},null,{"$f":"IF(AO28=\"\",\" \",AO28/$Q28)","v":2.1881838074398249E-3},null,{"$f":"IF('E1'!$E19=\"\",\"\",'E1'!$E19)","v":48},null,{"$f":"IF(AS28=\"\",\" \",AS28/$Q28)","v":0.10503282275711159},null,{"$f":"IF('E1'!$E20=\"\",\"\",'E1'!$E20)","v":6},null,{"$f":"IF(AW28=\"\",\" \",AW28/$Q28)","v":1.3129102844638949E-2},null,{"$f":"IF('E1'!$E21=\"\",\"\",'E1'!$E21)","v":0},null,{"$f":"IF(BA28=\"\",\" \",BA28/$Q28)","v":0},null,{"$f":"IF('E1'!E22=\"\",\"\",'E1'!E22)","v":0},null,{"$f":"IF(BE28=\"\",\" \",BE28/$Q28)","v":0},null,{"$f":"IF('E1'!$E23=\"\",\"\",'E1'!$E23)","v":1},null,{"$f":"IF(BI28=\"\",\" \",BI28/$Q78)","v":2.1881838074398249E-3},null,{"$f":"IF('E1'!$E24=\"\",\"\",'E1'!$E24)","v":1},null,{"$f":"IF(BM28=\"\",\" \",BM28/$Q78)","v":2.1881838074398249E-3}]
[null,"E2  -  Raymond Aubert",null,null,{"$f":"IF('E2'!$E7=\"\",\"\",'E2'!$E7)","v":1204},null,{"$f":"IF('E2'!$E8=\"\",\"\",'E2'!$E8)","v":452},null,{"$f":"IF('E2'!$E9=\"\",\"\",'E2'!$E9)","v":452},null,0.37541528239202659,null,{"$f":"IF('E2'!$E10=\"\",\"\",'E2'!$E10)","v":13},null,{"$f":"IF('E2'!$E11=\"\",\"\",'E2'!$E11)","v":8},null,{"$f":"IF('E2'!$E12=\"\",\"\",'E2'!$E12)","v":431},null,0.35797342192691028,null,{"$f":"IF('E2'!$E13=\"\",\"\",'E2'!$E13)","v":120},null,{"$f":"IF(U29=\"\",\" \",U29/$Q29)","v":0.27842227378190254},null,{"$f":"IF('E2'!$E14=\"\",\"\",'E2'!$E14)","v":0},null,{"$f":"IF(Y29=\"\",\" \",Y29/$Q29)","v":0},null,{"$f":"IF('E2'!$E15=\"\",\"\",'E2'!$E15)","v":5},null,{"$f":"IF(AC29=\"\",\" \",AC29/$Q29)","v":1.1600928074245939E-2},null,{"$f":"IF('E2'!$E16=\"\",\"\",'E2'!$E16)","v":2},null,{"$f":"IF(AG29=\"\",\" \",AG29/$Q29)","v":4.6403712296983757E-3},null,{"$f":"IF('E2'!$E17=\"\",\"\",'E2'!$E17)","v":51},null,{"$f":"IF(AK29=\"\",\" \",AK29/$Q29)","v":0.11832946635730858},null,{"$f":"IF('E2'!$E18=\"\",\"\",'E2'!$E18)","v":2},null,{"$f":"IF(AO29=\"\",\" \",AO29/$Q29)","v":4.6403712296983757E-3},null,{"$f":"IF('E2'!$E19=\"\",\"\",'E2'!$E19)","v":45},null,{"$f":"IF(AS29=\"\",\" \",AS29/$Q29)","v":0.10440835266821345},null,{"$f":"IF('E2'!$E20=\"\",\"\",'E2'!$E20)","v":11},null,{"$f":"IF(AW29=\"\",\" \",AW29/$Q29)","v":2.5522041763341066E-2},null,{"$f":"IF('E2'!$E21=\"\",\"\",'E2'!$E21)","v":0},null,{"$f":"IF(BA29=\"\",\" \",BA29/$Q29)","v":0},null,{"$f":"IF('E2'!E22=\"\",\"\",'E2'!E22)","v":1},null,{"$f":"IF(BE29=\"\",\" \",BE29/$Q29)","v":2.3201856148491878E-3},null,{"$f":"IF('E2'!$E23=\"\",\"\",'E2'!$E23)","v":3},null,{"$f":"IF(BI29=\"\",\" \",BI29/$Q79)","v":6.9605568445475635E-3},null,{"$f":"IF('E2'!$E24=\"\",\"\",'E2'!$E24)","v":3},null,{"$f":"IF(BM29=\"\",\" \",BM29/$Q79)","v":6.9605568445475635E-3}]
[null,"E3  -  Raymond Aubert",null,null,{"$f":"IF('E3'!$E7=\"\",\"\",'E3'!$E7)","v":1030},null,{"$f":"IF('E3'!$E8=\"\",\"\",'E3'!$E8)","v":389},null,{"$f":"IF('E3'!$E9=\"\",\"\",'E3'!$E9)","v":389},null,0.37766990291262137,null,{"$f":"IF('E3'!$E10=\"\",\"\",'E3'!$E10)","v":12},null,{"$f":"IF('E3'!$E11=\"\",\"\",'E3'!$E11)","v":11},null,{"$f":"IF('E3'!$E12=\"\",\"\",'E3'!$E12)","v":366},null,0.35533980582524272,null,{"$f":"IF('E3'!$E13=\"\",\"\",'E3'!$E13)","v":81},null,{"$f":"IF(U30=\"\",\" \",U30/$Q30)","v":0.22131147540983606},null,{"$f":"IF('E3'!$E14=\"\",\"\",'E3'!$E14)","v":0},null,{"$f":"IF(Y30=\"\",\" \",Y30/$Q30)","v":0},null,{"$f":"IF('E3'!$E15=\"\",\"\",'E3'!$E15)","v":10},null,{"$f":"IF(AC30=\"\",\" \",AC30/$Q30)","v":2.7322404371584699E-2},null,{"$f":"IF('E3'!$E16=\"\",\"\",'E3'!$E16)","v":1},null,{"$f":"IF(AG30=\"\",\" \",AG30/$Q30)","v":2.7322404371584699E-3},null,{"$f":"IF('E3'!$E17=\"\",\"\",'E3'!$E17)","v":58},null,{"$f":"IF(AK30=\"\",\" \",AK30/$Q30)","v":0.15846994535519127},null,{"$f":"IF('E3'!$E18=\"\",\"\",'E3'!$E18)","v":0},null,{"$f":"IF(AO30=\"\",\" \",AO30/$Q30)","v":0},null,{"$f":"IF('E3'!$E19=\"\",\"\",'E3'!$E19)","v":31},null,{"$f":"IF(AS30=\"\",\" \",AS30/$Q30)","v":8.4699453551912565E-2},null,{"$f":"IF('E3'!$E20=\"\",\"\",'E3'!$E20)","v":7},null,{"$f":"IF(AW30=\"\",\" \",AW30/$Q30)","v":1.912568306010929E-2},null,{"$f":"IF('E3'!$E21=\"\",\"\",'E3'!$E21)","v":0},null,{"$f":"IF(BA30=\"\",\" \",BA30/$Q30)","v":0},null,{"$f":"IF('E3'!E22=\"\",\"\",'E3'!E22)","v":2},null,{"$f":"IF(BE30=\"\",\" \",BE30/$Q30)","v":5.4644808743169399E-3},null,{"$f":"IF('E3'!$E23=\"\",\"\",'E3'!$E23)","v":1},null,{"$f":"IF(BI30=\"\",\" \",BI30/$Q80)","v":2.7322404371584699E-3},null,{"$f":"IF('E3'!$E24=\"\",\"\",'E3'!$E24)","v":0},null,{"$f":"IF(BM30=\"\",\" \",BM30/$Q80)","v":0}]
[null,"F1  -  Maison de l'enfant",null,null,{"$f":"IF('F1'!$E7=\"\",\"\",'F1'!$E7)","v":768},null,{"$f":"IF('F1'!$E8=\"\",\"\",'F1'!$E8)","v":331},null,{"$f":"IF('F1'!$E9=\"\",\"\",'F1'!$E9)","v":331},null,0.43098958333333331,null,{"$f":"IF('F1'!$E10=\"\",\"\",'F1'!$E10)","v":4},null,{"$f":"IF('F1'!$E11=\"\",\"\",'F1'!$E11)","v":9},null,{"$f":"IF('F1'!$E12=\"\",\"\",'F1'!$E12)","v":318},null,0.4140625,null,{"$f":"IF('F1'!$E13=\"\",\"\",'F1'!$E13)","v":72},null,{"$f":"IF(U31=\"\",\" \",U31/$Q31)","v":0.22641509433962265},null,{"$f":"IF('F1'!$E14=\"\",\"\",'F1'!$E14)","v":0},null,{"$f":"IF(Y31=\"\",\" \",Y31/$Q31)","v":0},null,{"$f":"IF('F1'!$E15=\"\",\"\",'F1'!$E15)","v":9},null,{"$f":"IF(AC31=\"\",\" \",AC31/$Q31)","v":2.8301886792452831E-2},null,{"$f":"IF('F1'!$E16=\"\",\"\",'F1'!$E16)","v":0},null,{"$f":"IF(AG31=\"\",\" \",AG31/$Q31)","v":0},null,{"$f":"IF('F1'!$E17=\"\",\"\",'F1'!$E17)","v":48},null,{"$f":"IF(AK31=\"\",\" \",AK31/$Q31)","v":0.15094339622641509},null,{"$f":"IF('F1'!$E18=\"\",\"\",'F1'!$E18)","v":3},null,{"$f":"IF(AO31=\"\",\" \",AO31/$Q31)","v":9.433962264150943E-3},null,{"$f":"IF('F1'!$E19=\"\",\"\",'F1'!$E19)","v":37},null,{"$f":"IF(AS31=\"\",\" \",AS31/$Q31)","v":0.11635220125786164},null,{"$f":"IF('F1'!$E20=\"\",\"\",'F1'!$E20)","v":12},null,{"$f":"IF(AW31=\"\",\" \",AW31/$Q31)","v":3.7735849056603772E-2},null,{"$f":"IF('F1'!$E21=\"\",\"\",'F1'!$E21)","v":0},null,{"$f":"IF(BA31=\"\",\" \",BA31/$Q31)","v":0},null,{"$f":"IF('F1'!E22=\"\",\"\",'F1'!E22)","v":1},null,{"$f":"IF(BE31=\"\",\" \",BE31/$Q31)","v":3.1446540880503146E-3},null,{"$f":"IF('F1'!$E23=\"\",\"\",'F1'!$E23)","v":0},null,{"$f":"IF(BI31=\"\",\" \",BI31/$Q81)","v":0},null,{"$f":"IF('F1'!$E24=\"\",\"\",'F1'!$E24)","v":2},null,{"$f":"IF(BM31=\"\",\" \",BM31/$Q81)","v":6.2893081761006293E-3}]
[null,"F2  -  Émile Géhant",null,null,{"$f":"IF('F2'!$E7=\"\",\"\",'F2'!$E7)","v":516},null,{"$f":"IF('F2'!$E8=\"\",\"\",'F2'!$E8)","v":224},null,{"$f":"IF('F2'!$E9=\"\",\"\",'F2'!$E9)","v":224},null,0.43410852713178294,null,{"$f":"IF('F2'!$E10=\"\",\"\",'F2'!$E10)","v":6},null,{"$f":"IF('F2'!$E11=\"\",\"\",'F2'!$E11)","v":3},null,{"$f":"IF('F2'!$E12=\"\",\"\",'F2'!$E12)","v":215},null,0.41666666666666669,null,{"$f":"IF('F2'!$E13=\"\",\"\",'F2'!$E13)","v":27},null,{"$f":"IF(U32=\"\",\" \",U32/$Q32)","v":0.12558139534883722},null,{"$f":"IF('F2'!$E14=\"\",\"\",'F2'!$E14)","v":0},null,{"$f":"IF(Y32=\"\",\" \",Y32/$Q32)","v":0},null,{"$f":"IF('F2'!$E15=\"\",\"\",'F2'!$E15)","v":6},null,{"$f":"IF(AC32=\"\",\" \",AC32/$Q32)","v":2.7906976744186046E-2},null,{"$f":"IF('F2'!$E16=\"\",\"\",'F2'!$E16)","v":0},null,{"$f":"IF(AG32=\"\",\" \",AG32/$Q32)","v":0},null,{"$f":"IF('F2'!$E17=\"\",\"\",'F2'!$E17)","v":25},null,{"$f":"IF(AK32=\"\",\" \",AK32/$Q32)","v":0.11627906976744186},null,{"$f":"IF('F2'!$E18=\"\",\"\",'F2'!$E18)","v":0},null,{"$f":"IF(AO32=\"\",\" \",AO32/$Q32)","v":0},null,{"$f":"IF('F2'!$E19=\"\",\"\",'F2'!$E19)","v":13},null,{"$f":"IF(AS32=\"\",\" \",AS32/$Q32)","v":6.0465116279069767E-2},null,{"$f":"IF('F2'!$E20=\"\",\"\",'F2'!$E20)","v":11},null,{"$f":"IF(AW32=\"\",\" \",AW32/$Q32)","v":5.1162790697674418E-2},null,{"$f":"IF('F2'!$E21=\"\",\"\",'F2'!$E21)","v":0},null,{"$f":"IF(BA32=\"\",\" \",BA32/$Q32)","v":0},null,{"$f":"IF('F2'!E22=\"\",\"\",'F2'!E22)","v":0},null,{"$f":"IF(BE32=\"\",\" \",BE32/$Q32)","v":0},null,{"$f":"IF('F2'!$E23=\"\",\"\",'F2'!$E23)","v":1},null,{"$f":"IF(BI32=\"\",\" \",BI32/$Q82)","v":4.6511627906976744E-3},null,{"$f":"IF('F2'!$E24=\"\",\"\",'F2'!$E24)","v":1},null,{"$f":"IF(BM32=\"\",\" \",BM32/$Q82)","v":4.6511627906976744E-3}]
[null,"Canton NORD",null,null,{"$f":"SUM(E$28:E$32)","v":4686},null,{"$f":"SUM(G28:G32)","v":1871},null,{"$f":"SUM(I28:I32)","v":1871},null,{"$f":"IF(I33=\"\",\" \",I33/$E33)","v":0.3992744344857021},null,{"$f":"SUM(M28:M32)","v":45},null,{"$f":"SUM(O28:O32)","v":39},null,{"$f":"SUM(Q28:Q32)","v":1787},null,{"$f":"IF(Q33=\"\",\" \",Q33/$E33)","v":0.3813486982501067},null,{"$f":"SUM(U28:U32)","v":417},null,{"$f":"IF(U33=0,0,U33/$Q33)","v":0.23335198656966985},null,{"$f":"SUM(Y28:Y32)","v":0},null,{"$f":"IF(Y33=0,0,Y33/$Q33)","v":0},null,{"$f":"SUM(AC28:AC32)","v":38},null,{"$f":"IF(AC33=0,0,AC33/$Q33)","v":2.1264689423614997E-2},null,{"$f":"SUM(AG28:AG32)","v":4},null,{"$f":"IF(AG33=0,0,AG33/$Q33)","v":2.2383883603805262E-3},null,{"$f":"SUM(AK28:AK32)","v":241},null,{"$f":"IF(AK33=0,0,AK33/$Q33)","v":0.1348628987129267},null,{"$f":"SUM(AO28:AO32)","v":6},null,{"$f":"IF(AO33=0,0,AO33/$Q33)","v":3.3575825405707891E-3},null,{"$f":"SUM(AS28:AS32)","v":174},null,{"$f":"IF(AS33=0,0,AS33/$Q33)","v":9.7369893676552882E-2},null,{"$f":"SUM(AW28:AW32)","v":47},null,{"$f":"IF(AW33=0,0,AW33/$Q33)","v":2.6301063234471182E-2},null,{"$f":"SUM(BA28:BA32)","v":0},null,{"$f":"IF(BA33=0,0,BA33/$Q33)","v":0},null,{"$f":"SUM(BE28:BE32)","v":4},null,{"$f":"IF(BE33=0,0,BE33/$Q33)","v":2.2383883603805262E-3},null,{"$f":"SUM(BI28:BI32)","v":6},null,{"$f":"IF(BI33=0,0,BI33/$Q83)","v":3.3575825405707891E-3},null,{"$f":"SUM(BM28:BM32)","v":7},null,{"$f":"IF(BM33=0,0,BM33/$Q83)","v":3.9171796306659203E-3}]
[null,"G1  -  Hubert Metzger",null,null,{"$f":"IF('G1'!$E7=\"\",\"\",'G1'!$E7)","v":650},null,{"$f":"IF('G1'!$E8=\"\",\"\",'G1'!$E8)","v":266},null,{"$f":"IF('G1'!$E9=\"\",\"\",'G1'!$E9)","v":266},null,0.40923076923076923,null,{"$f":"IF('G1'!$E10=\"\",\"\",'G1'!$E10)","v":7},null,{"$f":"IF('G1'!$E11=\"\",\"\",'G1'!$E11)","v":7},null,{"$f":"IF('G1'!$E12=\"\",\"\",'G1'!$E12)","v":252},null,0.38769230769230767,null,{"$f":"IF('G1'!$E13=\"\",\"\",'G1'!$E13)","v":31},null,{"$f":"IF(U34=\"\",\" \",U34/$Q34)","v":0.12301587301587301},null,{"$f":"IF('G1'!$E14=\"\",\"\",'G1'!$E14)","v":1},null,{"$f":"IF(Y34=\"\",\" \",Y34/$Q34)","v":3.968253968253968E-3},null,{"$f":"IF('G1'!$E15=\"\",\"\",'G1'!$E15)","v":5},null,{"$f":"IF(AC34=\"\",\" \",AC34/$Q34)","v":1.984126984126984E-2},null,{"$f":"IF('G1'!$E16=\"\",\"\",'G1'!$E16)","v":0},null,{"$f":"IF(AG34=\"\",\" \",AG34/$Q34)","v":0},null,{"$f":"IF('G1'!$E17=\"\",\"\",'G1'!$E17)","v":29},null,{"$f":"IF(AK34=\"\",\" \",AK34/$Q34)","v":0.11507936507936507},null,{"$f":"IF('G1'!$E18=\"\",\"\",'G1'!$E18)","v":1},null,{"$f":"IF(AO34=\"\",\" \",AO34/$Q34)","v":3.968253968253968E-3},null,{"$f":"IF('G1'!$E19=\"\",\"\",'G1'!$E19)","v":31},null,{"$f":"IF(AS34=\"\",\" \",AS34/$Q34)","v":0.12301587301587301},null,{"$f":"IF('G1'!$E20=\"\",\"\",'G1'!$E20)","v":7},null,{"$f":"IF(AW34=\"\",\" \",AW34/$Q34)","v":2.7777777777777776E-2},null,{"$f":"IF('G1'!$E21=\"\",\"\",'G1'!$E21)","v":0},null,{"$f":"IF(BA34=\"\",\" \",BA34/$Q34)","v":0},null,{"$f":"IF('G1'!E22=\"\",\"\",'G1'!E22)","v":3},null,{"$f":"IF(BE34=\"\",\" \",BE34/$Q34)","v":1.1904761904761904E-2},null,{"$f":"IF('G1'!$E23=\"\",\"\",'G1'!$E23)","v":0},null,{"$f":"IF(BI34=\"\",\" \",BI34/$Q84)","v":0},null,{"$f":"IF('G1'!$E24=\"\",\"\",'G1'!$E24)","v":0},null,{"$f":"IF(BM34=\"\",\" \",BM34/$Q84)","v":0}]
[null,"G2  -  Hubert Metzger",null,null,{"$f":"IF('G2'!$E7=\"\",\"\",'G2'!$E7)","v":753},null,{"$f":"IF('G2'!$E8=\"\",\"\",'G2'!$E8)","v":250},null,{"$f":"IF('G2'!$E9=\"\",\"\",'G2'!$E9)","v":250},null,0.33200531208499334,null,{"$f":"IF('G2'!$E10=\"\",\"\",'G2'!$E10)","v":7},null,{"$f":"IF('G2'!$E11=\"\",\"\",'G2'!$E11)","v":6},null,{"$f":"IF('G2'!$E12=\"\",\"\",'G2'!$E12)","v":237},null,0.3147410358565737,null,{"$f":"IF('G2'!$E13=\"\",\"\",'G2'!$E13)","v":41},null,0.1729957805907173,null,{"$f":"IF('G2'!$E14=\"\",\"\",'G2'!$E14)","v":0},null,0,null,{"$f":"IF('G2'!$E15=\"\",\"\",'G2'!$E15)","v":2},null,8.4388185654008432E-3,null,{"$f":"IF('G2'!$E16=\"\",\"\",'G2'!$E16)","v":2},null,8.4388185654008432E-3,null,{"$f":"IF('G2'!$E17=\"\",\"\",'G2'!$E17)","v":49},null,0.20675105485232068,null,{"$f":"IF('G2'!$E18=\"\",\"\",'G2'!$E18)","v":0},null,0,null,{"$f":"IF('G2'!$E19=\"\",\"\",'G2'!$E19)","v":14},null,5.9071729957805907E-2,null,{"$f":"IF('G2'!$E20=\"\",\"\",'G2'!$E20)","v":4},null,1.6877637130801686E-2,null,{"$f":"IF('G2'!$E21=\"\",\"\",'G2'!$E21)","v":0},null,0,null,{"$f":"IF('G2'!E22=\"\",\"\",'G2'!E22)","v":1},null,4.2194092827004216E-3,null,{"$f":"IF('G2'!$E23=\"\",\"\",'G2'!$E23)","v":0},null,0,null,{"$f":"IF('G2'!$E24=\"\",\"\",'G2'!$E24)","v":2},null,8.4388185654008432E-3]
[null,"H1  -  Léonard de Vinci",null,null,{"$f":"IF('H1'!$E7=\"\",\"\",'H1'!$E7)","v":1037},null,{"$f":"IF('H1'!$E8=\"\",\"\",'H1'!$E8)","v":377},null,{"$f":"IF('H1'!$E9=\"\",\"\",'H1'!$E9)","v":377},null,0.36354869816779173,null,{"$f":"IF('H1'!$E10=\"\",\"\",'H1'!$E10)","v":7},null,{"$f":"IF('H1'!$E11=\"\",\"\",'H1'!$E11)","v":5},null,{"$f":"IF('H1'!$E12=\"\",\"\",'H1'!$E12)","v":365},null,0.35197685631629699,null,{"$f":"IF('H1'!$E13=\"\",\"\",'H1'!$E13)","v":87},null,0.23835616438356164,null,{"$f":"IF('H1'!$E14=\"\",\"\",'H1'!$E14)","v":0},null,0,null,{"$f":"IF('H1'!$E15=\"\",\"\",'H1'!$E15)","v":9},null,2.4657534246575342E-2,null,{"$f":"IF('H1'!$E16=\"\",\"\",'H1'!$E16)","v":1},null,2.7397260273972603E-3,null,{"$f":"IF('H1'!$E17=\"\",\"\",'H1'!$E17)","v":54},null,0.14794520547945206,null,{"$f":"IF('H1'!$E18=\"\",\"\",'H1'!$E18)","v":4},null,1.0958904109589041E-2,null,{"$f":"IF('H1'!$E19=\"\",\"\",'H1'!$E19)","v":29},null,7.9452054794520555E-2,null,{"$f":"IF('H1'!$E20=\"\",\"\",'H1'!$E20)","v":3},null,8.21917808219178E-3,null,{"$f":"IF('H1'!$E21=\"\",\"\",'H1'!$E21)","v":0},null,0,null,{"$f":"IF('H1'!E22=\"\",\"\",'H1'!E22)","v":1},null,2.7397260273972603E-3,null,{"$f":"IF('H1'!$E23=\"\",\"\",'H1'!$E23)","v":0},null,0,null,{"$f":"IF('H1'!$E24=\"\",\"\",'H1'!$E24)","v":0},null,0]
[null,"J1  -  René Rücklin",null,null,{"$f":"IF('J1'!$E7=\"\",\"\",'J1'!$E7)","v":591},null,{"$f":"IF('J1'!$E8=\"\",\"\",'J1'!$E8)","v":179},null,{"$f":"IF('J1'!$E9=\"\",\"\",'J1'!$E9)","v":179},null,0.30287648054145516,null,{"$f":"IF('J1'!$E10=\"\",\"\",'J1'!$E10)","v":8},null,{"$f":"IF('J1'!$E11=\"\",\"\",'J1'!$E11)","v":7},null,{"$f":"IF('J1'!$E12=\"\",\"\",'J1'!$E12)","v":164},null,0.27749576988155666,null,{"$f":"IF('J1'!$E13=\"\",\"\",'J1'!$E13)","v":23},null,0.1402439024390244,null,{"$f":"IF('J1'!$E14=\"\",\"\",'J1'!$E14)","v":0},null,0,null,{"$f":"IF('J1'!$E15=\"\",\"\",'J1'!$E15)","v":7},null,4.2682926829268296E-2,null,{"$f":"IF('J1'!$E16=\"\",\"\",'J1'!$E16)","v":1},null,6.0975609756097563E-3,null,{"$f":"IF('J1'!$E17=\"\",\"\",'J1'!$E17)","v":21},null,0.12804878048780488,null,{"$f":"IF('J1'!$E18=\"\",\"\",'J1'!$E18)","v":0},null,0,null,{"$f":"IF('J1'!$E19=\"\",\"\",'J1'!$E19)","v":10},null,6.097560975609756E-2,null,{"$f":"IF('J1'!$E20=\"\",\"\",'J1'!$E20)","v":1},null,6.0975609756097563E-3,null,{"$f":"IF('J1'!$E21=\"\",\"\",'J1'!$E21)","v":0},null,0,null,{"$f":"IF('J1'!E22=\"\",\"\",'J1'!E22)","v":1},null,6.0975609756097563E-3,null,{"$f":"IF('J1'!$E23=\"\",\"\",'J1'!$E23)","v":1},null,6.0975609756097563E-3,null,{"$f":"IF('J1'!$E24=\"\",\"\",'J1'!$E24)","v":1},null,6.0975609756097563E-3]
[null,"J2  -  René Rücklin",null,null,{"$f":"IF('J2'!$E7=\"\",\"\",'J2'!$E7)","v":813},null,{"$f":"IF('J2'!$E8=\"\",\"\",'J2'!$E8)","v":244},null,{"$f":"IF('J2'!$E9=\"\",\"\",'J2'!$E9)","v":244},null,0.30012300123001229,null,{"$f":"IF('J2'!$E10=\"\",\"\",'J2'!$E10)","v":6},null,{"$f":"IF('J2'!$E11=\"\",\"\",'J2'!$E11)","v":1},null,{"$f":"IF('J2'!$E12=\"\",\"\",'J2'!$E12)","v":237},null,0.29151291512915128,null,{"$f":"IF('J2'!$E13=\"\",\"\",'J2'!$E13)","v":54},null,0.22784810126582278,null,{"$f":"IF('J2'!$E14=\"\",\"\",'J2'!$E14)","v":0},null,0,null,{"$f":"IF('J2'!$E15=\"\",\"\",'J2'!$E15)","v":10},null,4.2194092827004218E-2,null,{"$f":"IF('J2'!$E16=\"\",\"\",'J2'!$E16)","v":0},null,0,null,{"$f":"IF('J2'!$E17=\"\",\"\",'J2'!$E17)","v":34},null,0.14345991561181434,null,{"$f":"IF('J2'!$E18=\"\",\"\",'J2'!$E18)","v":0},null,0,null,{"$f":"IF('J2'!$E19=\"\",\"\",'J2'!$E19)","v":23},null,9.7046413502109699E-2,null,{"$f":"IF('J2'!$E20=\"\",\"\",'J2'!$E20)","v":3},null,1.2658227848101266E-2,null,{"$f":"IF('J2'!$E21=\"\",\"\",'J2'!$E21)","v":0},null,0,null,{"$f":"IF('J2'!E22=\"\",\"\",'J2'!E22)","v":1},null,4.2194092827004216E-3,null,{"$f":"IF('J2'!$E23=\"\",\"\",'J2'!$E23)","v":1},null,4.2194092827004216E-3,null,{"$f":"IF('J2'!$E24=\"\",\"\",'J2'!$E24)","v":0},null,0]
[null,"J3  -  René Rücklin",null,null,{"$f":"IF('J3'!$E7=\"\",\"\",'J3'!$E7)","v":556},null,{"$f":"IF('J3'!$E8=\"\",\"\",'J3'!$E8)","v":142},null,{"$f":"IF('J3'!$E9=\"\",\"\",'J3'!$E9)","v":142},null,0.25539568345323743,null,{"$f":"IF('J3'!$E10=\"\",\"\",'J3'!$E10)","v":4},null,{"$f":"IF('J3'!$E11=\"\",\"\",'J3'!$E11)","v":5},null,{"$f":"IF('J3'!$E12=\"\",\"\",'J3'!$E12)","v":133},null,0.23920863309352519,null,{"$f":"IF('J3'!$E13=\"\",\"\",'J3'!$E13)","v":19},null,0.14285714285714285,null,{"$f":"IF('J3'!$E14=\"\",\"\",'J3'!$E14)","v":0},null,0,null,{"$f":"IF('J3'!$E15=\"\",\"\",'J3'!$E15)","v":2},null,1.5037593984962405E-2,null,{"$f":"IF('J3'!$E16=\"\",\"\",'J3'!$E16)","v":1},null,7.5187969924812026E-3,null,{"$f":"IF('J3'!$E17=\"\",\"\",'J3'!$E17)","v":18},null,0.13533834586466165,null,{"$f":"IF('J3'!$E18=\"\",\"\",'J3'!$E18)","v":1},null,7.5187969924812026E-3,null,{"$f":"IF('J3'!$E19=\"\",\"\",'J3'!$E19)","v":14},null,0.10526315789473684,null,{"$f":"IF('J3'!$E20=\"\",\"\",'J3'!$E20)","v":5},null,3.7593984962406013E-2,null,{"$f":"IF('J3'!$E21=\"\",\"\",'J3'!$E21)","v":0},null,0,null,{"$f":"IF('J3'!E22=\"\",\"\",'J3'!E22)","v":1},null,7.5187969924812026E-3,null,{"$f":"IF('J3'!$E23=\"\",\"\",'J3'!$E23)","v":0},null,0,null,{"$f":"IF('J3'!$E24=\"\",\"\",'J3'!$E24)","v":0},null,0]
[null,"Canton SUD",null,null,{"$f":"SUM(E$34:E$39)","v":4400},null,{"$f":"SUM(G34:G39)","v":1458},null,{"$f":"SUM(I34:I39)","v":1458},null,0.33136363636363636,null,{"$f":"SUM(M34:M39)","v":39},null,{"$f":"SUM(O34:O39)","v":31},null,{"$f":"SUM(Q34:Q39)","v":1388},null,0.31545454545454543,null,{"$f":"SUM(U34:U39)","v":255},null,{"$f":"IF(U40=0,0,U40/$Q40)","v":0.18371757925072046},null,{"$f":"SUM(Y34:Y39)","v":1},null,{"$f":"IF(Y40=0,0,Y40/$Q40)","v":7.2046109510086451E-4},null,{"$f":"SUM(AC34:AC39)","v":35},null,{"$f":"IF(AC40=0,0,AC40/$Q40)","v":2.5216138328530261E-2},null,{"$f":"SUM(AG34:AG39)","v":5},null,{"$f":"IF(AG40=0,0,AG40/$Q40)","v":3.6023054755043226E-3},null,{"$f":"SUM(AK34:AK39)","v":205},null,{"$f":"IF(AK40=0,0,AK40/$Q40)","v":0.14769452449567724},null,{"$f":"SUM(AO34:AO39)","v":6},null,{"$f":"IF(AO40=0,0,AO40/$Q40)","v":4.3227665706051877E-3},null,{"$f":"SUM(AS34:AS39)","v":121},null,{"$f":"IF(AS40=0,0,AS40/$Q40)","v":8.7175792507204614E-2},null,{"$f":"SUM(AW34:AW39)","v":23},null,{"$f":"IF(AW40=0,0,AW40/$Q40)","v":1.6570605187319884E-2},null,{"$f":"SUM(BA34:BA39)","v":0},null,{"$f":"IF(BA40=0,0,BA40/$Q40)","v":0},null,{"$f":"SUM(BE34:BE39)","v":8},null,{"$f":"IF(BE40=0,0,BE40/$Q40)","v":5.763688760806916E-3},null,{"$f":"SUM(BI34:BI39)","v":2},null,{"$f":"IF(BI40=0,0,BI40/$Q90)","v":1.440922190201729E-3},null,{"$f":"SUM(BM34:BM39)","v":3},null,{"$f":"IF(BM40=0,0,BM40/$Q90)","v":2.1613832853025938E-3}]
[null,"K1  -  Louis Pergaud",null,null,{"$f":"IF('K1'!$E7=\"\",\"\",'K1'!$E7)","v":944},null,{"$f":"IF('K1'!$E8=\"\",\"\",'K1'!$E8)","v":193},null,{"$f":"IF('K1'!$E9=\"\",\"\",'K1'!$E9)","v":193},null,0.20444915254237289,null,{"$f":"IF('K1'!$E10=\"\",\"\",'K1'!$E10)","v":4},null,{"$f":"IF('K1'!$E11=\"\",\"\",'K1'!$E11)","v":8},null,{"$f":"IF('K1'!$E12=\"\",\"\",'K1'!$E12)","v":181},null,0.19173728813559321,null,{"$f":"IF('K1'!$E13=\"\",\"\",'K1'!$E13)","v":45},null,{"$f":"IF(U41=\"\",\" \",U41/$Q41)","v":0.24861878453038674},null,{"$f":"IF('K1'!$E14=\"\",\"\",'K1'!$E14)","v":0},null,{"$f":"IF(Y41=\"\",\" \",Y41/$Q41)","v":0},null,{"$f":"IF('K1'!$E15=\"\",\"\",'K1'!$E15)","v":8},null,{"$f":"IF(AC41=\"\",\" \",AC41/$Q41)","v":4.4198895027624308E-2},null,{"$f":"IF('K1'!$E16=\"\",\"\",'K1'!$E16)","v":0},null,{"$f":"IF(AG41=\"\",\" \",AG41/$Q41)","v":0},null,{"$f":"IF('K1'!$E17=\"\",\"\",'K1'!$E17)","v":30},null,{"$f":"IF(AK41=\"\",\" \",AK41/$Q41)","v":0.16574585635359115},null,{"$f":"IF('K1'!$E18=\"\",\"\",'K1'!$E18)","v":0},null,{"$f":"IF(AO41=\"\",\" \",AO41/$Q41)","v":0},null,{"$f":"IF('K1'!$E19=\"\",\"\",'K1'!$E19)","v":11},null,{"$f":"IF(AS41=\"\",\" \",AS41/$Q41)","v":6.0773480662983423E-2},null,{"$f":"IF('K1'!$E20=\"\",\"\",'K1'!$E20)","v":1},null,{"$f":"IF(AW41=\"\",\" \",AW41/$Q41)","v":5.5248618784530384E-3},null,{"$f":"IF('K1'!$E21=\"\",\"\",'K1'!$E21)","v":0},null,{"$f":"IF(BA41=\"\",\" \",BA41/$Q41)","v":0},null,{"$f":"IF('K1'!E22=\"\",\"\",'K1'!E22)","v":1},null,{"$f":"IF(BE41=\"\",\" \",BE41/$Q41)","v":5.5248618784530384E-3},null,{"$f":"IF('K1'!$E23=\"\",\"\",'K1'!$E23)","v":0},null,{"$f":"IF(BI41=\"\",\" \",BI41/$Q91)","v":0},null,{"$f":"IF('K1'!$E24=\"\",\"\",'K1'!$E24)","v":1},null,{"$f":"IF(BM41=\"\",\" \",BM41/$Q91)","v":5.5248618784530384E-3}]
[null,"K2  -  Louis Pergaud",null,null,{"$f":"IF('K2'!$E7=\"\",\"\",'K2'!$E7)","v":784},null,{"$f":"IF('K2'!$E8=\"\",\"\",'K2'!$E8)","v":187},null,{"$f":"IF('K2'!$E9=\"\",\"\",'K2'!$E9)","v":187},null,0.23852040816326531,null,{"$f":"IF('K2'!$E10=\"\",\"\",'K2'!$E10)","v":0},null,{"$f":"IF('K2'!$E11=\"\",\"\",'K2'!$E11)","v":6},null,{"$f":"IF('K2'!$E12=\"\",\"\",'K2'!$E12)","v":181},null,0.2308673469387755,null,{"$f":"IF('K2'!$E13=\"\",\"\",'K2'!$E13)","v":36},null,{"$f":"IF(U42=\"\",\" \",U42/$Q42)","v":0.19889502762430938},null,{"$f":"IF('K2'!$E14=\"\",\"\",'K2'!$E14)","v":0},null,{"$f":"IF(Y42=\"\",\" \",Y42/$Q42)","v":0},null,{"$f":"IF('K2'!$E15=\"\",\"\",'K2'!$E15)","v":6},null,{"$f":"IF(AC42=\"\",\" \",AC42/$Q42)","v":3.3149171270718231E-2},null,{"$f":"IF('K2'!$E16=\"\",\"\",'K2'!$E16)","v":0},null,{"$f":"IF(AG42=\"\",\" \",AG42/$Q42)","v":0},null,{"$f":"IF('K2'!$E17=\"\",\"\",'K2'!$E17)","v":33},null,{"$f":"IF(AK42=\"\",\" \",AK42/$Q42)","v":0.18232044198895028},null,{"$f":"IF('K2'!$E18=\"\",\"\",'K2'!$E18)","v":0},null,{"$f":"IF(AO42=\"\",\" \",AO42/$Q42)","v":0},null,{"$f":"IF('K2'!$E19=\"\",\"\",'K2'!$E19)","v":11},null,{"$f":"IF(AS42=\"\",\" \",AS42/$Q42)","v":6.0773480662983423E-2},null,{"$f":"IF('K2'!$E20=\"\",\"\",'K2'!$E20)","v":3},null,{"$f":"IF(AW42=\"\",\" \",AW42/$Q42)","v":1.6574585635359115E-2},null,{"$f":"IF('K2'!$E21=\"\",\"\",'K2'!$E21)","v":0},null,{"$f":"IF(BA42=\"\",\" \",BA42/$Q42)","v":0},null,{"$f":"IF('K2'!E22=\"\",\"\",'K2'!E22)","v":0},null,{"$f":"IF(BE42=\"\",\" \",BE42/$Q42)","v":0},null,{"$f":"IF('K2'!$E23=\"\",\"\",'K2'!$E23)","v":2},null,{"$f":"IF(BI42=\"\",\" \",BI42/$Q92)","v":1.1049723756906077E-2},null,{"$f":"IF('K2'!$E24=\"\",\"\",'K2'!$E24)","v":0},null,{"$f":"IF(BM42=\"\",\" \",BM42/$Q92)","v":0}]
[null,"L1  -  Les Barres",null,null,{"$f":"IF('L1'!$E7=\"\",\"\",'L1'!$E7)","v":1314},null,{"$f":"IF('L1'!$E8=\"\",\"\",'L1'!$E8)","v":500},null,{"$f":"IF('L1'!$E9=\"\",\"\",'L1'!$E9)","v":500},null,0.38051750380517502,null,{"$f":"IF('L1'!$E10=\"\",\"\",'L1'!$E10)","v":11},null,{"$f":"IF('L1'!$E11=\"\",\"\",'L1'!$E11)","v":5},null,{"$f":"IF('L1'!$E12=\"\",\"\",'L1'!$E12)","v":484},null,0.36834094368340942,null,{"$f":"IF('L1'!$E13=\"\",\"\",'L1'!$E13)","v":99},null,{"$f":"IF(U43=\"\",\" \",U43/$Q43)","v":0.20454545454545456},null,{"$f":"IF('L1'!$E14=\"\",\"\",'L1'!$E14)","v":2},null,{"$f":"IF(Y43=\"\",\" \",Y43/$Q43)","v":4.1322314049586778E-3},null,{"$f":"IF('L1'!$E15=\"\",\"\",'L1'!$E15)","v":12},null,{"$f":"IF(AC43=\"\",\" \",AC43/$Q43)","v":2.4793388429752067E-2},null,{"$f":"IF('L1'!$E16=\"\",\"\",'L1'!$E16)","v":1},null,{"$f":"IF(AG43=\"\",\" \",AG43/$Q43)","v":2.0661157024793389E-3},null,{"$f":"IF('L1'!$E17=\"\",\"\",'L1'!$E17)","v":87},null,{"$f":"IF(AK43=\"\",\" \",AK43/$Q43)","v":0.17975206611570249},null,{"$f":"IF('L1'!$E18=\"\",\"\",'L1'!$E18)","v":4},null,{"$f":"IF(AO43=\"\",\" \",AO43/$Q43)","v":8.2644628099173556E-3},null,{"$f":"IF('L1'!$E19=\"\",\"\",'L1'!$E19)","v":29},null,{"$f":"IF(AS43=\"\",\" \",AS43/$Q43)","v":5.9917355371900828E-2},null,{"$f":"IF('L1'!$E20=\"\",\"\",'L1'!$E20)","v":19},null,{"$f":"IF(AW43=\"\",\" \",AW43/$Q43)","v":3.9256198347107439E-2},null,{"$f":"IF('L1'!$E21=\"\",\"\",'L1'!$E21)","v":1},null,{"$f":"IF(BA43=\"\",\" \",BA43/$Q43)","v":2.0661157024793389E-3},null,{"$f":"IF('L1'!E22=\"\",\"\",'L1'!E22)","v":2},null,{"$f":"IF(BE43=\"\",\" \",BE43/$Q43)","v":4.1322314049586778E-3},null,{"$f":"IF('L1'!$E23=\"\",\"\",'L1'!$E23)","v":1},null,{"$f":"IF(BI43=\"\",\" \",BI43/$Q93)","v":2.0661157024793389E-3},null,{"$f":"IF('L1'!$E24=\"\",\"\",'L1'!$E24)","v":2},null,{"$f":"IF(BM43=\"\",\" \",BM43/$Q93)","v":4.1322314049586778E-3}]
[null,"L2  -  Les Barres",null,null,{"$f":"IF('L2'!$E7=\"\",\"\",'L2'!$E7)","v":1146},null,{"$f":"IF('L2'!$E8=\"\",\"\",'L2'!$E8)","v":507},null,{"$f":"IF('L2'!$E9=\"\",\"\",'L2'!$E9)","v":507},null,0.44240837696335078,null,{"$f":"IF('L2'!$E10=\"\",\"\",'L2'!$E10)","v":5},null,{"$f":"IF('L2'!$E11=\"\",\"\",'L2'!$E11)","v":15},null,{"$f":"IF('L2'!$E12=\"\",\"\",'L2'!$E12)","v":487},null,0.42495636998254799,null,{"$f":"IF('L2'!$E13=\"\",\"\",'L2'!$E13)","v":91},null,{"$f":"IF(U44=\"\",\" \",U44/$Q44)","v":0.18685831622176591},null,{"$f":"IF('L2'!$E14=\"\",\"\",'L2'!$E14)","v":0},null,{"$f":"IF(Y44=\"\",\" \",Y44/$Q44)","v":0},null,{"$f":"IF('L2'!$E15=\"\",\"\",'L2'!$E15)","v":8},null,{"$f":"IF(AC44=\"\",\" \",AC44/$Q44)","v":1.6427104722792608E-2},null,{"$f":"IF('L2'!$E16=\"\",\"\",'L2'!$E16)","v":0},null,{"$f":"IF(AG44=\"\",\" \",AG44/$Q44)","v":0},null,{"$f":"IF('L2'!$E17=\"\",\"\",'L2'!$E17)","v":74},null,{"$f":"IF(AK44=\"\",\" \",AK44/$Q44)","v":0.15195071868583163},null,{"$f":"IF('L2'!$E18=\"\",\"\",'L2'!$E18)","v":3},null,{"$f":"IF(AO44=\"\",\" \",AO44/$Q44)","v":6.1601642710472282E-3},null,{"$f":"IF('L2'!$E19=\"\",\"\",'L2'!$E19)","v":36},null,{"$f":"IF(AS44=\"\",\" \",AS44/$Q44)","v":7.3921971252566734E-2},null,{"$f":"IF('L2'!$E20=\"\",\"\",'L2'!$E20)","v":14},null,{"$f":"IF(AW44=\"\",\" \",AW44/$Q44)","v":2.8747433264887063E-2},null,{"$f":"IF('L2'!$E21=\"\",\"\",'L2'!$E21)","v":0},null,{"$f":"IF(BA44=\"\",\" \",BA44/$Q44)","v":0},null,{"$f":"IF('L2'!E22=\"\",\"\",'L2'!E22)","v":3},null,{"$f":"IF(BE44=\"\",\" \",BE44/$Q44)","v":6.1601642710472282E-3},null,{"$f":"IF('L2'!$E23=\"\",\"\",'L2'!$E23)","v":0},null,{"$f":"IF(BI44=\"\",\" \",BI44/$Q94)","v":0},null,{"$f":"IF('L2'!$E24=\"\",\"\",'L2'!$E24)","v":4},null,{"$f":"IF(BM44=\"\",\" \",BM44/$Q94)","v":8.2135523613963042E-3}]
[null,"Canton OUEST",null,null,{"$f":"SUM(E$41:E$44)","v":4188},null,{"$f":"SUM(G41:G44)","v":1387},null,{"$f":"SUM(I41:I44)","v":1387},null,0.33118433619866283,null,{"$f":"SUM(M41:M44)","v":20},null,{"$f":"SUM(O41:O44)","v":34},null,{"$f":"SUM(Q41:Q44)","v":1333},null,0.31829035339063994,null,{"$f":"SUM(U41:U44)","v":271},null,{"$f":"IF(U45=0,0,U45/$Q45)","v":0.20330082520630158},null,{"$f":"SUM(Y41:Y44)","v":2},null,{"$f":"IF(Y45=0,0,Y45/$Q45)","v":1.5003750937734434E-3},null,{"$f":"SUM(AC41:AC44)","v":34},null,{"$f":"IF(AC45=0,0,AC45/$Q45)","v":2.5506376594148537E-2},null,{"$f":"SUM(AG41:AG44)","v":1},null,{"$f":"IF(AG45=0,0,AG45/$Q45)","v":7.501875468867217E-4},null,{"$f":"SUM(AK41:AK44)","v":224},null,{"$f":"IF(AK45=0,0,AK45/$Q45)","v":0.16804201050262565},null,{"$f":"SUM(AO41:AO44)","v":7},null,{"$f":"IF(AO45=0,0,AO45/$Q45)","v":5.2513128282070517E-3},null,{"$f":"SUM(AS41:AS44)","v":87},null,{"$f":"IF(AS45=0,0,AS45/$Q45)","v":6.5266316579144792E-2},null,{"$f":"SUM(AW41:AW44)","v":37},null,{"$f":"IF(AW45=0,0,AW45/$Q45)","v":2.7756939234808702E-2},null,{"$f":"SUM(BA41:BA44)","v":1},null,{"$f":"IF(BA45=0,0,BA45/$Q45)","v":7.501875468867217E-4},null,{"$f":"SUM(BE41:BE44)","v":6},null,{"$f":"IF(BE45=0,0,BE45/$Q45)","v":4.5011252813203298E-3},null,{"$f":"SUM(BI41:BI44)","v":3},null,{"$f":"IF(BI45=0,0,BI45/$Q95)","v":2.2505626406601649E-3},null,{"$f":"SUM(BM41:BM44)","v":7},null,{"$f":"IF(BM45=0,0,BM45/$Q95)","v":5.2513128282070517E-3}]
[]
[]
[null,"TOTAUX",null,null,{"$f":"E$20+E$27+E$33+E$40+E$45","v":26563},null,{"$f":"G$20+G$27+G$33+G$40+G$45","v":10250},null,{"$f":"I$20+I$27+I$33+I$40+I$45","v":10250},null,{"$f":"IF(I48=\"\",\" \",I48/$E48)","v":0.3858750894100817},null,{"$f":"M$20+M$27+M$33+M$40+M$45","v":185},null,{"$f":"O$20+O$27+O$33+O$40+O$45","v":192},null,{"$f":"Q$20+Q$27+Q$33+Q$40+Q$45","v":9873},null,null,null,{"$f":"U$20+U$27+U$33+U$40+U$45","v":2427},null,{"$f":"IF($Q$48=0,0,U48/$Q$48)","v":0.2458219386204801},null,{"$f":"Y$20+Y$27+Y$33+Y$40+Y$45","v":12},null,{"$f":"IF($Q$48=0,0,Y48/$Q$48)","v":1.2154360376785171E-3},null,{"$f":"AC$20+AC$27+AC$33+AC$40+AC$45","v":158},null,{"$f":"IF($Q$48=0,0,AC48/$Q$48)","v":1.6003241162767141E-2},null,{"$f":"AG$20+AG$27+AG$33+AG$40+AG$45","v":16},null,{"$f":"IF($Q$48=0,0,AG48/$Q$48)","v":1.6205813835713562E-3},null,{"$f":"AK$20+AK$27+AK$33+AK$40+AK$45","v":1486},null,{"$f":"IF($Q$48=0,0,AK48/$Q$48)","v":0.1505114959991897},null,{"$f":"AO$20+AO$27+AO$33+AO$40+AO$45","v":44},null,{"$f":"IF($Q$48=0,0,AO48/$Q$48)","v":4.4565988048212296E-3},null,{"$f":"AS$20+AS$27+AS$33+AS$40+AS$45","v":974},null,{"$f":"IF($Q$48=0,0,AS48/$Q$48)","v":9.8652891724906308E-2},null,{"$f":"AW$20+AW$27+AW$33+AW$40+AW$45","v":209},null,{"$f":"IF($Q$48=0,0,AW48/$Q$48)","v":2.1168844322900841E-2},null,{"$f":"BA$20+BA$27+BA$33+BA$40+BA$45","v":5},null,{"$f":"IF($Q$48=0,0,BA48/$Q$48)","v":5.0643168236604887E-4},null,{"$f":"BE$20+BE$27+BE$33+BE$40+BE$45","v":59},null,{"$f":"IF($Q$48=0,0,BE48/$Q$48)","v":5.9758938519193757E-3},null,{"$f":"BI$20+BI$27+BI$33+BI$40+BI$45","v":22},null,{"$f":"IF($Q$48=0,0,BI48/$Q$48)","v":2.2282994024106148E-3},null,{"$f":"BM$20+BM$27+BM$33+BM$40+BM$45","v":43},null,{"$f":"IF($Q$48=0,0,BM48/$Q$48)","v":4.3553124683480202E-3}]
[null,"%     /    exprimés"]
[null,"%     /    Inscrits",null,null,null,null,null,null,null,null,null,null,{"$f":"IF(I48=0,0,M48/E48)","v":6.9645747844746453E-3},null,{"$f":"IF(I48=0,0,O48/E48)","v":7.2280992357790915E-3},null,{"$f":"IF(I48=0,0,Q48/E48)","v":0.37168241538982794},null,null,null,{"$f":"IF($Q$48=0,0,U48/$E$48)","v":9.1367691902270079E-2},null,null,null,{"$f":"IF($Q$48=0,0,Y48/$E$48)","v":4.5175620223619322E-4},null,null,null,{"$f":"IF($Q$48=0,0,AC48/$E$48)","v":5.9481233294432102E-3},null,null,null,{"$f":"IF($Q$48=0,0,AG48/$E$48)","v":6.0234160298159093E-4},null,null,null,{"$f":"IF($Q$48=0,0,AK48/$E$48)","v":5.5942476376915261E-2},null,null,null,{"$f":"IF($Q$48=0,0,AO48/$E$48)","v":1.6564394081993751E-3},null,null,null,{"$f":"IF($Q$48=0,0,AS48/$E$48)","v":3.6667545081504348E-2},null,null,null,{"$f":"IF($Q$48=0,0,AW48/$E$48)","v":7.8680871889470309E-3},null,null,null,{"$f":"IF($Q$48=0,0,BA48/$E$48)","v":1.8823175093174717E-4},null,null,null,{"$f":"IF($Q$48=0,0,BE48/$E$48)","v":2.2211346609946167E-3},null,null,null,{"$f":"IF($Q$48=0,0,BI48/$E$48)","v":8.2821970409968756E-4},null,null,null,{"$f":"IF($Q$48=0,0,BM48/$E$48)","v":1.6187930580130257E-3}]
[null,null,null,null,null,null,null,null,null,null,null,null,null,null,null,null,null,null,null,null,"ÉLECTIONS EUROPÉENNES"]
["RÉSULTATS"]
[null,null,null,null,null,null,null,null,null,null,null,null,null,null,null,null,null,null,null,null,null,null,null,null,null,null,null,null,null,null,null,null,null,null,null,null,null,null,null,null,null,null,null,null,null,null,null,null,null,null,null,null,null,null,null,null,null,null,null,null,null,null,"25 mai 2014"]
[null,null,null,null,null,null,null,null,null,null,null,null,null,null,null,null,null,null,null,null,null,null,null,null,null,{"$f":"COUNTIF($I$13:$I$19,\">0\")+COUNTIF($I$21:$I$26,\">0\")+COUNTIF($I$28:$I$32,\">0\")+COUNTIF($I$34:$I$39,\">0\")+COUNTIF($I$41:$I$44,\">0\")","v":28},null,null,"Bureaux sur",null,28]
[]
[null,null,null,null,"Listes 13 à 23",null,null,null,null,null,null,null,null,null,null,null,null,null,null,null,null,null,null,null,null,{"$f":"SUMIF($I$13:$I$19,\">0\",$E$13:$E$19)+SUMIF($I$21:$I$26,\">0\",$E$21:$E$26)+SUMIF($I$28:$I$32,\">0\",$E$28:$E$32)+SUMIF($I$34:$I$39,\">0\",$E$34:$E$39)+SUMIF($I$41:$I$44,\">0\",$E$41:$E$44)","v":26563},null,null,"Inscrits sur",null,{"$f":"$E$48","v":26563},null,"soit",":",{"$f":"Z56/AE56","v":1}]
[]
[]
[null,null,null,null,null,null,null,null,null,null,null,null,null,null,null,null,null,null,"%  /",null,{"$f":"Candidats!A14","v":"Xavier"},null,null,null,{"$f":"Candidats!A15","v":"Sandrine"},null,null,null,{"$f":"Candidats!A16","v":"Florian"},null,null,null,{"$f":"Candidats!A17","v":"Sandrine"},null,null,null,{"$f":"Candidats!A18","v":"Ismaël"},null,null,null,{"$f":"Candidats!A19","v":"Laure"},null,null,null,{"$f":"Candidats!A20","v":"Antonio"},null,null,null,{"$f":"Candidats!A21","v":"Isabelle"},null,null,null,{"$f":"Candidats!A22","v":"Yannick"},null,null,null,{"$f":"Candidats!A23","v":"Gabriel"},null,null,null,{"$f":"Candidats!A24","v":"Florence"}]
[null,null,null,"BUREAUX","Inscrits",null,"Émarg.",null,"Votants",null,"Particip.",null,"Blancs",null,"Nuls",null,"Exprimés",null,"Inscrits",null,{"$f":"Candidats!B14","v":"DESSAIGNE"},null,"%",null,{"$f":"Candidats!B15","v":"PICO"},null,"%",null,{"$f":"Candidats!B16","v":"PHILIPPOT"},null,"%",null,{"$f":"Candidats!B17","v":"BELIER"},null,"%",null,{"$f":"Candidats!B18","v":"BOUDJEKADA"},null,"%",null,{"$f":"Candidats!B19","v":"FERRARI"},null,"%",null,{"$f":"Candidats!B20","v":"SANCHEZ"},null,"%",null,{"$f":"Candidats!B21","v":"MAURER"},null,"%",null,{"$f":"Candidats!B22","v":"HERVE"},null,"%",null,{"$f":"Candidats!B23","v":"AMARD"},null,"%",null,{"$f":"Candidats!B24","v":"LHOTE"},null,"%"]
[]
[]
[null,"A1  -   Hôtel de Ville",null,null,{"$f":"IF('A1'!$E7=\"\",\"\",'A1'!$E7)","v":856},null,{"$f":"IF('A1'!$E8=\"\",\"\",'A1'!$E8)","v":368},null,{"$f":"IF('A1'!$E9=\"\",\"\",'A1'!$E9)","v":368},null,{"$f":"IF(I63=\"\",\" \",I63/$E63)","v":0.42990654205607476},null,{"$f":"IF('A1'!$E10=\"\",\"\",'A1'!$E10)","v":4},null,{"$f":"IF('A1'!$E11=\"\",\"\",'A1'!$E11)","v":4},null,{"$f":"IF('A1'!$E12=\"\",\"\",'A1'!$E12)","v":360},null,{"$f":"IF(Q63=\"\",\" \",Q63/$E63)","v":0.42056074766355139},null,{"$f":"IF('A1'!$E25=\"\",\"\",'A1'!$E25)","v":3},null,{"$f":"IF(U63=\"\",\" \",U63/$Q63)","v":8.3333333333333332E-3},null,{"$f":"IF('A1'!$E26=\"\",\"\",'A1'!$E26)","v":0},null,{"$f":"IF(Y63=\"\",\" \",Y63/$Q63)","v":0},null,{"$f":"IF('A1'!$E27=\"\",\"\",'A1'!$E27)","v":58},null,{"$f":"IF(AC63=\"\",\" \",AC63/$Q63)","v":0.16111111111111112},null,{"$f":"IF('A1'!$E28=\"\",\"\",'A1'!$E28)","v":31},null,{"$f":"IF(AG63=\"\",\" \",AG63/$Q63)","v":8.611111111111111E-2},null,{"$f":"IF('A1'!$E29=\"\",\"\",'A1'!$E29)","v":0},null,{"$f":"IF(AK63=\"\",\" \",AK63/$Q63)","v":0},null,{"$f":"IF('A1'!$E30=\"\",\"\",'A1'!$E30)","v":18},null,{"$f":"IF(AO63=\"\",\" \",AO63/$Q63)","v":0.05},null,{"$f":"IF('A1'!$E31=\"\",\"\",'A1'!$E31)","v":0},null,{"$f":"IF(AS63=\"\",\" \",AS63/$Q63)","v":0},null,{"$f":"IF('A1'!$E32=\"\",\"\",'A1'!$E32)","v":21},null,{"$f":"IF(AW63=\"\",\" \",AW63/$Q63)","v":5.8333333333333334E-2},null,{"$f":"IF('A1'!$E33=\"\",\"\",'A1'!$E33)","v":3},null,{"$f":"IF(BA63=\"\",\" \",BA63/$Q63)","v":8.3333333333333332E-3},null,{"$f":"IF('A1'!$E36=\"\",\"\",'A1'!$E34)","v":""},null,{"$f":"IF(BE63=\"\",\" \",BE63/$Q63)","v":" "},null,{"$f":"IF('A1'!$E35=\"\",\"\",'A1'!$E35)","v":2},null,{"$f":"IF(BI63=\"\",\" \",BI63/$Q63)","v":5.5555555555555558E-3}]
[null,"A2  -  Salle des fêtes",null,null,{"$f":"IF('A2'!$E7=\"\",\"\",'A2'!$E7)","v":934},null,{"$f":"IF('A2'!$E8=\"\",\"\",'A2'!$E8)","v":476},null,{"$f":"IF('A2'!$E9=\"\",\"\",'A2'!$E9)","v":476},null,{"$f":"IF(I64=\"\",\" \",I64/$E64)","v":0.50963597430406848},null,{"$f":"IF('A2'!$E10=\"\",\"\",'A2'!$E10)","v":7},null,{"$f":"IF('A2'!$E11=\"\",\"\",'A2'!$E11)","v":10},null,{"$f":"IF('A2'!$E12=\"\",\"\",'A2'!$E12)","v":459},null,{"$f":"IF(Q64=\"\",\" \",Q64/$E64)","v":0.49143468950749464},null,{"$f":"IF('A2'!$E25=\"\",\"\",'A2'!$E25)","v":7},null,1.5250544662309368E-2,null,{"$f":"IF('A2'!$E26=\"\",\"\",'A2'!$E26)","v":1},null,2.1786492374727671E-3,null,{"$f":"IF('A2'!$E27=\"\",\"\",'A2'!$E27)","v":66},null,0.1437908496732026,null,{"$f":"IF('A2'!$E28=\"\",\"\",'A2'!$E28)","v":32},null,6.9716775599128547E-2,null,{"$f":"IF('A2'!$E29=\"\",\"\",'A2'!$E29)","v":0},null,0,null,{"$f":"IF('A2'!$E30=\"\",\"\",'A2'!$E30)","v":16},null,3.4858387799564274E-2,null,{"$f":"IF('A2'!$E31=\"\",\"\",'A2'!$E31)","v":0},null,0,null,{"$f":"IF('A2'!$E32=\"\",\"\",'A2'!$E32)","v":7},null,1.5250544662309368E-2,null,{"$f":"IF('A2'!$E33=\"\",\"\",'A2'!$E33)","v":2},null,4.3572984749455342E-3,null,{"$f":"IF('A2'!$E34=\"\",\"\",'A2'!$E34)","v":30},null,6.535947712418301E-2,null,{"$f":"IF('A2'!$E35=\"\",\"\",'A2'!$E35)","v":2},null,4.3572984749455342E-3]
[null,"B1  -  Victor Hugo",null,null,{"$f":"IF('B1'!$E7=\"\",\"\",'B1'!$E7)","v":1068},null,{"$f":"IF('B1'!$E8=\"\",\"\",'B1'!$E8)","v":434},null,{"$f":"IF('B1'!$E9=\"\",\"\",'B1'!$E9)","v":434},null,0.40636704119850187,null,{"$f":"IF('B1'!$E10=\"\",\"\",'B1'!$E10)","v":4},null,{"$f":"IF('B1'!$E11=\"\",\"\",'B1'!$E11)","v":3},null,{"$f":"IF('B1'!$E12=\"\",\"\",'B1'!$E12)","v":427},null,0.39981273408239698,null,{"$f":"IF('B1'!$E25=\"\",\"\",'B1'!$E25)","v":4},null,9.3676814988290398E-3,null,{"$f":"IF('B1'!$E26=\"\",\"\",'B1'!$E26)","v":0},null,0,null,{"$f":"IF('B1'!$E27=\"\",\"\",'B1'!$E27)","v":57},null,0.13348946135831383,null,{"$f":"IF('B1'!$E28=\"\",\"\",'B1'!$E28)","v":33},null,7.7283372365339581E-2,null,{"$f":"IF('B1'!$E29=\"\",\"\",'B1'!$E29)","v":0},null,0,null,{"$f":"IF('B1'!$E30=\"\",\"\",'B1'!$E30)","v":16},null,3.7470725995316159E-2,null,{"$f":"IF('B1'!$E31=\"\",\"\",'B1'!$E31)","v":0},null,0,null,{"$f":"IF('B1'!$E32=\"\",\"\",'B1'!$E32)","v":9},null,2.1077283372365339E-2,null,{"$f":"IF('B1'!$E33=\"\",\"\",'B1'!$E33)","v":6},null,1.405152224824356E-2,null,{"$f":"IF('B1'!$E34=\"\",\"\",'B1'!$E34)","v":25},null,5.8548009367681501E-2,null,{"$f":"IF('B1'!$E35=\"\",\"\",'B1'!$E35)","v":2},null,4.6838407494145199E-3]
[null,"B2  -  Victor Hugo",null,null,{"$f":"IF('B2'!$E7=\"\",\"\",'B2'!$E7)","v":1149},null,{"$f":"IF('B2'!$E8=\"\",\"\",'B2'!$E8)","v":524},null,{"$f":"IF('B2'!$E9=\"\",\"\",'B2'!$E9)","v":524},null,0.45604873803307222,null,{"$f":"IF('B2'!$E10=\"\",\"\",'B2'!$E10)","v":1},null,{"$f":"IF('B2'!$E11=\"\",\"\",'B2'!$E11)","v":7},null,{"$f":"IF('B2'!$E12=\"\",\"\",'B2'!$E12)","v":516},null,0.44908616187989558,null,{"$f":"IF('B2'!$E25=\"\",\"\",'B2'!$E25)","v":4},null,7.7519379844961239E-3,null,{"$f":"IF('B2'!$E26=\"\",\"\",'B2'!$E26)","v":0},null,0,null,{"$f":"IF('B2'!$E27=\"\",\"\",'B2'!$E27)","v":86},null,0.16666666666666666,null,{"$f":"IF('B2'!$E28=\"\",\"\",'B2'!$E28)","v":59},null,0.11434108527131782,null,{"$f":"IF('B2'!$E29=\"\",\"\",'B2'!$E29)","v":0},null,0,null,{"$f":"IF('B2'!$E30=\"\",\"\",'B2'!$E30)","v":19},null,3.6821705426356592E-2,null,{"$f":"IF('B2'!$E31=\"\",\"\",'B2'!$E31)","v":0},null,0,null,{"$f":"IF('B2'!$E32=\"\",\"\",'B2'!$E32)","v":17},null,3.294573643410853E-2,null,{"$f":"IF('B2'!$E33=\"\",\"\",'B2'!$E33)","v":1},null,1.937984496124031E-3,null,{"$f":"IF('B2'!$E34=\"\",\"\",'B2'!$E34)","v":20},null,3.875968992248062E-2,null,{"$f":"IF('B2'!$E35=\"\",\"\",'B2'!$E35)","v":1},null,1.937984496124031E-3]
[null,"M1  -  Saint-Exupéry",null,null,{"$f":"IF('M1'!$E7=\"\",\"\",'M1'!$E7)","v":1300},null,{"$f":"IF('M1'!$E8=\"\",\"\",'M1'!$E8)","v":274},null,{"$f":"IF('M1'!$E9=\"\",\"\",'M1'!$E9)","v":274},null,0.21076923076923076,null,{"$f":"IF('M1'!$E10=\"\",\"\",'M1'!$E10)","v":4},null,{"$f":"IF('M1'!$E11=\"\",\"\",'M1'!$E11)","v":14},null,{"$f":"IF('M1'!$E12=\"\",\"\",'M1'!$E12)","v":256},null,0.19692307692307692,null,{"$f":"IF('M1'!$E25=\"\",\"\",'M1'!$E25)","v":1},null,3.90625E-3,null,{"$f":"IF('M1'!$E26=\"\",\"\",'M1'!$E26)","v":0},null,0,null,{"$f":"IF('M1'!$E27=\"\",\"\",'M1'!$E27)","v":63},null,0.24609375,null,{"$f":"IF('M1'!$E28=\"\",\"\",'M1'!$E28)","v":11},null,4.296875E-2,null,{"$f":"IF('M1'!$E29=\"\",\"\",'M1'!$E29)","v":0},null,0,null,{"$f":"IF('M1'!$E30=\"\",\"\",'M1'!$E30)","v":5},null,1.953125E-2,null,{"$f":"IF('M1'!$E31=\"\",\"\",'M1'!$E31)","v":0},null,0,null,{"$f":"IF('M1'!$E32=\"\",\"\",'M1'!$E32)","v":3},null,1.171875E-2,null,{"$f":"IF('M1'!$E33=\"\",\"\",'M1'!$E33)","v":1},null,3.90625E-3,null,{"$f":"IF('M1'!$E34=\"\",\"\",'M1'!$E34)","v":33},null,0.12890625,null,{"$f":"IF('M1'!$E35=\"\",\"\",'M1'!$E35)","v":2},null,7.8125E-3]
[null,"N1  -  Jean Moulin",null,null,{"$f":"IF('N1'!$E7=\"\",\"\",'N1'!$E7)","v":1451},null,{"$f":"IF('N1'!$E8=\"\",\"\",'N1'!$E8)","v":603},null,{"$f":"IF('N1'!$E9=\"\",\"\",'N1'!$E9)","v":603},null,0.41557546519641625,null,{"$f":"IF('N1'!$E10=\"\",\"\",'N1'!$E10)","v":12},null,{"$f":"IF('N1'!$E11=\"\",\"\",'N1'!$E11)","v":8},null,{"$f":"IF('N1'!$E12=\"\",\"\",'N1'!$E12)","v":583},null,0.40179186767746383,null,{"$f":"IF('N1'!$E25=\"\",\"\",'N1'!$E25)","v":6},null,1.0291595197255575E-2,null,{"$f":"IF('N1'!$E26=\"\",\"\",'N1'!$E26)","v":0},null,0,null,{"$f":"IF('N1'!$E27=\"\",\"\",'N1'!$E27)","v":149},null,0.25557461406518012,null,{"$f":"IF('N1'!$E28=\"\",\"\",'N1'!$E28)","v":46},null,7.8902229845626073E-2,null,{"$f":"IF('N1'!$E29=\"\",\"\",'N1'!$E29)","v":0},null,0,null,{"$f":"IF('N1'!$E30=\"\",\"\",'N1'!$E30)","v":19},null,3.2590051457975985E-2,null,{"$f":"IF('N1'!$E31=\"\",\"\",'N1'!$E31)","v":0},null,0,null,{"$f":"IF('N1'!$E32=\"\",\"\",'N1'!$E32)","v":13},null,2.2298456260720412E-2,null,{"$f":"IF('N1'!$E33=\"\",\"\",'N1'!$E33)","v":2},null,3.4305317324185248E-3,null,{"$f":"IF('N1'!$E34=\"\",\"\",'N1'!$E34)","v":34},null,5.8319039451114926E-2,null,{"$f":"IF('N1'!$E35=\"\",\"\",'N1'!$E35)","v":3},null,5.1457975986277877E-3]
[null,"N2  -  Cité des Associations",null,null,{"$f":"IF('N2'!$E7=\"\",\"\",'N2'!$E7)","v":899},null,{"$f":"IF('N2'!$E8=\"\",\"\",'N2'!$E8)","v":409},null,{"$f":"IF('N2'!$E9=\"\",\"\",'N2'!$E9)","v":409},null,0.45494994438264741,null,{"$f":"IF('N2'!$E10=\"\",\"\",'N2'!$E10)","v":12},null,{"$f":"IF('N2'!$E11=\"\",\"\",'N2'!$E11)","v":7},null,{"$f":"IF('N2'!$E12=\"\",\"\",'N2'!$E12)","v":390},null,0.43381535038932145,null,{"$f":"IF('N2'!$E25=\"\",\"\",'N2'!$E25)","v":6},null,1.5384615384615385E-2,null,{"$f":"IF('N2'!$E26=\"\",\"\",'N2'!$E26)","v":0},null,0,null,{"$f":"IF('N2'!$E27=\"\",\"\",'N2'!$E27)","v":83},null,0.21282051282051281,null,{"$f":"IF('N2'!$E28=\"\",\"\",'N2'!$E28)","v":38},null,9.7435897435897437E-2,null,{"$f":"IF('N2'!$E29=\"\",\"\",'N2'!$E29)","v":0},null,0,null,{"$f":"IF('N2'!$E30=\"\",\"\",'N2'!$E30)","v":8},null,2.0512820512820513E-2,null,{"$f":"IF('N2'!$E31=\"\",\"\",'N2'!$E31)","v":0},null,0,null,{"$f":"IF('N2'!$E32=\"\",\"\",'N2'!$E32)","v":8},null,2.0512820512820513E-2,null,{"$f":"IF('N2'!$E33=\"\",\"\",'N2'!$E33)","v":3},null,7.6923076923076927E-3,null,{"$f":"IF('N2'!$E34=\"\",\"\",'N2'!$E34)","v":23},null,5.8974358974358973E-2,null,{"$f":"IF('N2'!$E35=\"\",\"\",'N2'!$E35)","v":0},null,0]
[null,"Canton EST",null,null,{"$f":"SUM(E$13:E$19)","v":7657},null,{"$f":"SUM(G63:G69)","v":3088},null,{"$f":"SUM(I63:I69)","v":3088},null,{"$f":"IF(I70=\"\",\" \",I70/$E70)","v":0.40329110617735403},null,{"$f":"SUM(M63:M69)","v":44},null,{"$f":"SUM(O63:O69)","v":53},null,{"$f":"SUM(Q63:Q69)","v":2991},null,{"$f":"IF(Q70=\"\",\" \",Q70/$E70)","v":0.39062295938357061},null,{"$f":"SUM(U63:U69)","v":31},null,{"$f":"IF(U70=0,0,U70/$Q70)","v":1.0364426613172852E-2},null,{"$f":"SUM(Y63:Y69)","v":1},null,{"$f":"IF(Y70=0,0,Y70/$Q70)","v":3.3433634236041456E-4},null,{"$f":"SUM(AC63:AC69)","v":562},null,{"$f":"IF(AC70=0,0,AC70/$Q70)","v":0.18789702440655298},null,{"$f":"SUM(AG63:AG69)","v":250},null,{"$f":"IF(AG70=0,0,AG70/$Q70)","v":8.3584085590103649E-2},null,{"$f":"SUM(AK63:AK69)","v":0},null,{"$f":"IF(AK70=0,0,AK70/$Q70)","v":0},null,{"$f":"SUM(AO63:AO69)","v":101},null,{"$f":"IF(AO70=0,0,AO70/$Q70)","v":3.3767970578401869E-2},null,{"$f":"SUM(AS63:AS69)","v":0},null,{"$f":"IF(AS70=0,0,AS70/$Q70)","v":0},null,{"$f":"SUM(AW63:AW69)","v":78},null,{"$f":"IF(AW70=0,0,AW70/$Q70)","v":2.6078234704112337E-2},null,{"$f":"SUM(BA63:BA69)","v":18},null,{"$f":"IF(BA70=0,0,BA70/$Q70)","v":6.018054162487462E-3},null,{"$f":"SUM(BE63:BE69)","v":165},null,{"$f":"IF(BE70=0,0,BE70/$Q70)","v":5.5165496489468405E-2},null,{"$f":"SUM(BI63:BI69)","v":12},null,{"$f":"IF(BI70=0,0,BI70/$Q70)","v":4.0120361083249749E-3}]
[null,"C1  -  Victor Schoelcher",null,null,{"$f":"IF('C1'!$E7=\"\",\"\",'C1'!$E7)","v":1194},null,{"$f":"IF('C1'!$E8=\"\",\"\",'C1'!$E8)","v":487},null,{"$f":"IF('C1'!$E9=\"\",\"\",'C1'!$E9)","v":487},null,0.40787269681742044,null,{"$f":"IF('C1'!$E10=\"\",\"\",'C1'!$E10)","v":8},null,{"$f":"IF('C1'!$E11=\"\",\"\",'C1'!$E11)","v":4},null,{"$f":"IF('C1'!$E12=\"\",\"\",'C1'!$E12)","v":475},null,0.39782244556113905,null,{"$f":"IF('C1'!$E25=\"\",\"\",'C1'!$E25)","v":1},null,{"$f":"IF(U71=\"\",\" \",U71/$Q71)","v":2.1052631578947368E-3},null,{"$f":"IF('C1'!$E26=\"\",\"\",'C1'!$E26)","v":0},null,{"$f":"IF(Y71=\"\",\" \",Y71/$Q71)","v":0},null,{"$f":"IF('C1'!$E27=\"\",\"\",'C1'!$E27)","v":89},null,{"$f":"IF(AC71=\"\",\" \",AC71/$Q71)","v":0.18736842105263157},null,{"$f":"IF('C1'!$E28=\"\",\"\",'C1'!$E28)","v":37},null,{"$f":"IF(AG71=\"\",\" \",AG71/$Q71)","v":7.7894736842105267E-2},null,{"$f":"IF('C1'!$E29=\"\",\"\",'C1'!$E29)","v":0},null,{"$f":"IF(AK71=\"\",\" \",AK71/$Q71)","v":0},null,{"$f":"IF('C1'!$E30=\"\",\"\",'C1'!$E30)","v":19},null,{"$f":"IF(AO71=\"\",\" \",AO71/$Q71)","v":0.04},null,{"$f":"IF('C1'!$E31=\"\",\"\",'C1'!$E31)","v":0},null,{"$f":"IF(AS71=\"\",\" \",AS71/$Q71)","v":0},null,{"$f":"IF('C1'!$E32=\"\",\"\",'C1'!$E32)","v":11},null,{"$f":"IF(AW71=\"\",\" \",AW71/$Q71)","v":2.3157894736842106E-2},null,{"$f":"IF('C1'!$E33=\"\",\"\",'C1'!$E33)","v":4},null,{"$f":"IF(BA71=\"\",\" \",BA71/$Q71)","v":8.4210526315789472E-3},null,{"$f":"IF('C1'!$E34=\"\",\"\",'C1'!$E34)","v":18},null,{"$f":"IF(BE71=\"\",\" \",BE71/$Q71)","v":3.7894736842105266E-2},null,{"$f":"IF('C1'!$E35=\"\",\"\",'C1'!$E35)","v":1},null,{"$f":"IF(BI71=\"\",\" \",BI71/$Q71)","v":2.1052631578947368E-3}]
[null,"C2  -  Maison du Peuple",null,null,{"$f":"IF('C2'!$E7=\"\",\"\",'C2'!$E7)","v":749},null,{"$f":"IF('C2'!$E8=\"\",\"\",'C2'!$E8)","v":359},null,{"$f":"IF('C2'!$E9=\"\",\"\",'C2'!$E9)","v":359},null,0.47930574098798395,null,{"$f":"IF('C2'!$E10=\"\",\"\",'C2'!$E10)","v":4},null,{"$f":"IF('C2'!$E11=\"\",\"\",'C2'!$E11)","v":8},null,{"$f":"IF('C2'!$E12=\"\",\"\",'C2'!$E12)","v":347},null,0.46328437917222964,null,{"$f":"IF('C2'!$E25=\"\",\"\",'C2'!$E25)","v":6},null,1.7291066282420751E-2,null,{"$f":"IF('C2'!$E26=\"\",\"\",'C2'!$E26)","v":0},null,0,null,{"$f":"IF('C2'!$E27=\"\",\"\",'C2'!$E27)","v":57},null,0.16426512968299711,null,{"$f":"IF('C2'!$E28=\"\",\"\",'C2'!$E28)","v":23},null,6.6282420749279536E-2,null,{"$f":"IF('C2'!$E29=\"\",\"\",'C2'!$E29)","v":0},null,0,null,{"$f":"IF('C2'!$E30=\"\",\"\",'C2'!$E30)","v":17},null,4.8991354466858789E-2,null,{"$f":"IF('C2'!$E31=\"\",\"\",'C2'!$E31)","v":0},null,0,null,{"$f":"IF('C2'!$E32=\"\",\"\",'C2'!$E32)","v":12},null,3.4582132564841501E-2,null,{"$f":"IF('C2'!$E33=\"\",\"\",'C2'!$E33)","v":0},null,0,null,{"$f":"IF('C2'!$E34=\"\",\"\",'C2'!$E34)","v":20},null,5.7636887608069162E-2,null,{"$f":"IF('C2'!$E35=\"\",\"\",'C2'!$E35)","v":4},null,1.1527377521613832E-2]
[null,"C3  -  Maison du Peuple",null,null,{"$f":"IF('C3'!$E7=\"\",\"\",'C3'!$E7)","v":909},null,{"$f":"IF('C3'!$E8=\"\",\"\",'C3'!$E8)","v":426},null,{"$f":"IF('C3'!$E9=\"\",\"\",'C3'!$E9)","v":426},null,0.46864686468646866,null,{"$f":"IF('C3'!$E10=\"\",\"\",'C3'!$E10)","v":6},null,{"$f":"IF('C3'!$E11=\"\",\"\",'C3'!$E11)","v":5},null,{"$f":"IF('C3'!$E12=\"\",\"\",'C3'!$E12)","v":415},null,0.45654565456545654,null,{"$f":"IF('C3'!$E25=\"\",\"\",'C3'!$E25)","v":6},null,1.4457831325301205E-2,null,{"$f":"IF('C3'!$E26=\"\",\"\",'C3'!$E26)","v":0},null,0,null,{"$f":"IF('C3'!$E27=\"\",\"\",'C3'!$E27)","v":66},null,0.15903614457831325,null,{"$f":"IF('C3'!$E28=\"\",\"\",'C3'!$E28)","v":36},null,8.6746987951807228E-2,null,{"$f":"IF('C3'!$E29=\"\",\"\",'C3'!$E29)","v":0},null,0,null,{"$f":"IF('C3'!$E30=\"\",\"\",'C3'!$E30)","v":9},null,2.1686746987951807E-2,null,{"$f":"IF('C3'!$E31=\"\",\"\",'C3'!$E31)","v":0},null,0,null,{"$f":"IF('C3'!$E32=\"\",\"\",'C3'!$E32)","v":10},null,2.4096385542168676E-2,null,{"$f":"IF('C3'!$E33=\"\",\"\",'C3'!$E33)","v":0},null,0,null,{"$f":"IF('C3'!$E34=\"\",\"\",'C3'!$E34)","v":16},null,3.8554216867469883E-2,null,{"$f":"IF('C3'!$E35=\"\",\"\",'C3'!$E35)","v":1},null,2.4096385542168677E-3]
[null,"D1  -  Châteaudun",null,null,{"$f":"IF('D1'!$E7=\"\",\"\",'D1'!$E7)","v":1058},null,{"$f":"IF('D1'!$E8=\"\",\"\",'D1'!$E8)","v":444},null,{"$f":"IF('D1'!$E9=\"\",\"\",'D1'!$E9)","v":444},null,0.41965973534971646,null,{"$f":"IF('D1'!$E10=\"\",\"\",'D1'!$E10)","v":6},null,{"$f":"IF('D1'!$E11=\"\",\"\",'D1'!$E11)","v":7},null,{"$f":"IF('D1'!$E12=\"\",\"\",'D1'!$E12)","v":431},null,0.40737240075614367,null,{"$f":"IF('D1'!$E25=\"\",\"\",'D1'!$E25)","v":4},null,9.2807424593967514E-3,null,{"$f":"IF('D1'!$E26=\"\",\"\",'D1'!$E26)","v":0},null,0,null,{"$f":"IF('D1'!$E27=\"\",\"\",'D1'!$E27)","v":84},null,0.19489559164733178,null,{"$f":"IF('D1'!$E28=\"\",\"\",'D1'!$E28)","v":32},null,7.4245939675174011E-2,null,{"$f":"IF('D1'!$E29=\"\",\"\",'D1'!$E29)","v":0},null,0,null,{"$f":"IF('D1'!$E30=\"\",\"\",'D1'!$E30)","v":20},null,4.6403712296983757E-2,null,{"$f":"IF('D1'!$E31=\"\",\"\",'D1'!$E31)","v":0},null,0,null,{"$f":"IF('D1'!$E32=\"\",\"\",'D1'!$E32)","v":10},null,2.3201856148491878E-2,null,{"$f":"IF('D1'!$E33=\"\",\"\",'D1'!$E33)","v":3},null,6.9605568445475635E-3,null,{"$f":"IF('D1'!$E34=\"\",\"\",'D1'!$E34)","v":24},null,5.5684454756380508E-2,null,{"$f":"IF('D1'!$E35=\"\",\"\",'D1'!$E35)","v":2},null,4.6403712296983757E-3]
[null,"D2  -  Châteaudun",null,null,{"$f":"IF('D2'!$E7=\"\",\"\",'D2'!$E7)","v":827},null,{"$f":"IF('D2'!$E8=\"\",\"\",'D2'!$E8)","v":365},null,{"$f":"IF('D2'!$E9=\"\",\"\",'D2'!$E9)","v":365},null,0.44135429262394194,null,{"$f":"IF('D2'!$E10=\"\",\"\",'D2'!$E10)","v":5},null,{"$f":"IF('D2'!$E11=\"\",\"\",'D2'!$E11)","v":4},null,{"$f":"IF('D2'!$E12=\"\",\"\",'D2'!$E12)","v":356},null,0.43047158403869407,null,{"$f":"IF('D2'!$E25=\"\",\"\",'D2'!$E25)","v":6},null,1.6853932584269662E-2,null,{"$f":"IF('D2'!$E26=\"\",\"\",'D2'!$E26)","v":0},null,0,null,{"$f":"IF('D2'!$E27=\"\",\"\",'D2'!$E27)","v":84},null,0.23595505617977527,null,{"$f":"IF('D2'!$E28=\"\",\"\",'D2'!$E28)","v":32},null,8.98876404494382E-2,null,{"$f":"IF('D2'!$E29=\"\",\"\",'D2'!$E29)","v":0},null,0,null,{"$f":"IF('D2'!$E30=\"\",\"\",'D2'!$E30)","v":10},null,2.8089887640449437E-2,null,{"$f":"IF('D2'!$E31=\"\",\"\",'D2'!$E31)","v":0},null,0,null,{"$f":"IF('D2'!$E32=\"\",\"\",'D2'!$E32)","v":5},null,1.4044943820224719E-2,null,{"$f":"IF('D2'!$E33=\"\",\"\",'D2'!$E33)","v":0},null,0,null,{"$f":"IF('D2'!$E34=\"\",\"\",'D2'!$E34)","v":18},null,5.0561797752808987E-2,null,{"$f":"IF('D2'!$E35=\"\",\"\",'D2'!$E35)","v":0},null,0]
[null,"D3  -  Châteaudun",null,null,{"$f":"IF('D3'!$E7=\"\",\"\",'D3'!$E7)","v":895},null,{"$f":"IF('D3'!$E8=\"\",\"\",'D3'!$E8)","v":365},null,{"$f":"IF('D3'!$E9=\"\",\"\",'D3'!$E9)","v":365},null,0.40782122905027934,null,{"$f":"IF('D3'!$E10=\"\",\"\",'D3'!$E10)","v":8},null,{"$f":"IF('D3'!$E11=\"\",\"\",'D3'!$E11)","v":7},null,{"$f":"IF('D3'!$E12=\"\",\"\",'D3'!$E12)","v":350},null,0.39106145251396646,null,{"$f":"IF('D3'!$E25=\"\",\"\",'D3'!$E25)","v":4},null,1.1428571428571429E-2,null,{"$f":"IF('D3'!$E26=\"\",\"\",'D3'!$E26)","v":0},null,0,null,{"$f":"IF('D3'!$E27=\"\",\"\",'D3'!$E27)","v":103},null,0.29428571428571426,null,{"$f":"IF('D3'!$E28=\"\",\"\",'D3'!$E28)","v":21},null,0.06,null,{"$f":"IF('D3'!$E29=\"\",\"\",'D3'!$E29)","v":0},null,0,null,{"$f":"IF('D3'!$E30=\"\",\"\",'D3'!$E30)","v":9},null,2.5714285714285714E-2,null,{"$f":"IF('D3'!$E31=\"\",\"\",'D3'!$E31)","v":0},null,0,null,{"$f":"IF('D3'!$E32=\"\",\"\",'D3'!$E32)","v":5},null,1.4285714285714285E-2,null,{"$f":"IF('D3'!$E33=\"\",\"\",'D3'!$E33)","v":2},null,5.7142857142857143E-3,null,{"$f":"IF('D3'!$E34=\"\",\"\",'D3'!$E34)","v":25},null,7.1428571428571425E-2,null,{"$f":"IF('D3'!$E35=\"\",\"\",'D3'!$E35)","v":0},null,0]
[null,"Canton CENTRE",null,null,{"$f":"SUM(E$21:E$26)","v":5632},null,{"$f":"SUM(G71:G76)","v":2446},null,{"$f":"SUM(I71:I76)","v":2446},null,{"$f":"IF(I77=\"\",\" \",I77/$E77)","v":0.43430397727272729},null,{"$f":"SUM(M71:M76)","v":37},null,{"$f":"SUM(O71:O76)","v":35},null,{"$f":"SUM(Q71:Q76)","v":2374},null,{"$f":"IF(Q77=\"\",\" \",Q77/$E77)","v":0.42151988636363635},null,{"$f":"SUM(U71:U76)","v":27},null,{"$f":"IF(U77=0,0,U77/$Q77)","v":1.1373209772535805E-2},null,{"$f":"SUM(Y71:Y76)","v":0},null,{"$f":"IF(Y77=0,0,Y77/$Q77)","v":0},null,{"$f":"SUM(AC71:AC76)","v":483},null,{"$f":"IF(AC77=0,0,AC77/$Q77)","v":0.20345408593091829},null,{"$f":"SUM(AG71:AG76)","v":181},null,{"$f":"IF(AG77=0,0,AG77/$Q77)","v":7.6242628475147428E-2},null,{"$f":"SUM(AK71:AK76)","v":0},null,{"$f":"IF(AK77=0,0,AK77/$Q77)","v":0},null,{"$f":"SUM(AO71:AO76)","v":84},null,{"$f":"IF(AO77=0,0,AO77/$Q77)","v":3.5383319292333612E-2},null,{"$f":"SUM(AS71:AS76)","v":0},null,{"$f":"IF(AS77=0,0,AS77/$Q77)","v":0},null,{"$f":"SUM(AW71:AW76)","v":53},null,{"$f":"IF(AW77=0,0,AW77/$Q77)","v":2.2325189553496209E-2},null,{"$f":"SUM(BA71:BA76)","v":9},null,{"$f":"IF(BA77=0,0,BA77/$Q77)","v":3.7910699241786015E-3},null,{"$f":"SUM(BE71:BE76)","v":121},null,{"$f":"IF(BE77=0,0,BE77/$Q77)","v":5.0968828980623423E-2},null,{"$f":"SUM(BI71:BI76)","v":8},null,{"$f":"IF(BI77=0,0,BI77/$Q77)","v":3.3698399326032012E-3}]
[null,"E1  -  Raymond Aubert",null,null,{"$f":"IF('E1'!E$7=\"\",\"\",'E1'!E$7)","v":1168},null,{"$f":"IF('E1'!$E8=\"\",\"\",'E1'!$E8)","v":475},null,{"$f":"IF('E1'!$E9=\"\",\"\",'E1'!$E9)","v":475},null,0.40667808219178081,null,{"$f":"IF('E1'!$E10=\"\",\"\",'E1'!$E10)","v":10},null,{"$f":"IF('E1'!$E11=\"\",\"\",'E1'!$E11)","v":8},null,{"$f":"IF('E1'!$E12=\"\",\"\",'E1'!$E12)","v":457},null,0.39126712328767121,null,{"$f":"IF('E1'!$E25=\"\",\"\",'E1'!$E25)","v":3},null,{"$f":"IF(U78=\"\",\" \",U78/$Q78)","v":6.5645514223194746E-3},null,{"$f":"IF('E1'!$E26=\"\",\"\",'E1'!$E26)","v":0},null,{"$f":"IF(Y78=\"\",\" \",Y78/$Q78)","v":0},null,{"$f":"IF('E1'!$E27=\"\",\"\",'E1'!$E27)","v":131},null,{"$f":"IF(AC78=\"\",\" \",AC78/$Q78)","v":0.28665207877461707},null,{"$f":"IF('E1'!$E28=\"\",\"\",'E1'!$E28)","v":30},null,{"$f":"IF(AG78=\"\",\" \",AG78/$Q78)","v":6.5645514223194742E-2},null,{"$f":"IF('E1'!$E29=\"\",\"\",'E1'!$E29)","v":0},null,{"$f":"IF(AK78=\"\",\" \",AK78/$Q78)","v":0},null,{"$f":"IF('E1'!$E30=\"\",\"\",'E1'!$E30)","v":16},null,{"$f":"IF(AO78=\"\",\" \",AO78/$Q78)","v":3.5010940919037198E-2},null,{"$f":"IF('E1'!$E31=\"\",\"\",'E1'!$E31)","v":0},null,{"$f":"IF(AS78=\"\",\" \",AS78/$Q78)","v":0},null,{"$f":"IF('E1'!$E32=\"\",\"\",'E1'!$E32)","v":12},null,{"$f":"IF(AW78=\"\",\" \",AW78/$Q78)","v":2.6258205689277898E-2},null,{"$f":"IF('E1'!$E33=\"\",\"\",'E1'!$E33)","v":0},null,{"$f":"IF(BA78=\"\",\" \",BA78/$Q78)","v":0},null,{"$f":"IF('E1'!$E34=\"\",\"\",'E1'!$E34)","v":23},null,{"$f":"IF(BE78=\"\",\" \",BE78/$Q78)","v":5.0328227571115977E-2},null,{"$f":"IF('E1'!$E35=\"\",\"\",'E1'!$E35)","v":0},null,{"$f":"IF(BI78=\"\",\" \",BI78/$Q78)","v":0}]
[null,"E2  -  Raymond Aubert",null,null,{"$f":"IF('E2'!$E7=\"\",\"\",'E2'!$E7)","v":1204},null,{"$f":"IF('E2'!$E8=\"\",\"\",'E2'!$E8)","v":452},null,{"$f":"IF('E2'!$E9=\"\",\"\",'E2'!$E9)","v":452},null,0.37541528239202659,null,{"$f":"IF('E2'!$E10=\"\",\"\",'E2'!$E10)","v":13},null,{"$f":"IF('E2'!$E11=\"\",\"\",'E2'!$E11)","v":8},null,{"$f":"IF('E2'!$E12=\"\",\"\",'E2'!$E12)","v":431},null,0.35797342192691028,null,{"$f":"IF('E2'!$E25=\"\",\"\",'E2'!$E25)","v":4},null,{"$f":"IF(U79=\"\",\" \",U79/$Q79)","v":9.2807424593967514E-3},null,{"$f":"IF('E2'!$E26=\"\",\"\",'E2'!$E26)","v":0},null,{"$f":"IF(Y79=\"\",\" \",Y79/$Q79)","v":0},null,{"$f":"IF('E2'!$E27=\"\",\"\",'E2'!$E27)","v":122},null,{"$f":"IF(AC79=\"\",\" \",AC79/$Q79)","v":0.28306264501160094},null,{"$f":"IF('E2'!$E28=\"\",\"\",'E2'!$E28)","v":31},null,{"$f":"IF(AG79=\"\",\" \",AG79/$Q79)","v":7.1925754060324823E-2},null,{"$f":"IF('E2'!$E29=\"\",\"\",'E2'!$E29)","v":0},null,0,null,{"$f":"IF('E2'!$E30=\"\",\"\",'E2'!$E30)","v":9},null,{"$f":"IF(AO79=\"\",\" \",AO79/$Q79)","v":2.0881670533642691E-2},null,{"$f":"IF('E2'!$E31=\"\",\"\",'E2'!$E31)","v":0},null,{"$f":"IF(AS79=\"\",\" \",AS79/$Q79)","v":0},null,{"$f":"IF('E2'!$E32=\"\",\"\",'E2'!$E32)","v":5},null,{"$f":"IF(AW79=\"\",\" \",AW79/$Q79)","v":1.1600928074245939E-2},null,{"$f":"IF('E2'!$E33=\"\",\"\",'E2'!$E33)","v":2},null,{"$f":"IF(BA79=\"\",\" \",BA79/$Q79)","v":4.6403712296983757E-3},null,{"$f":"IF('E2'!$E34=\"\",\"\",'E2'!$E34)","v":14},null,{"$f":"IF(BE79=\"\",\" \",BE79/$Q79)","v":3.248259860788863E-2},null,{"$f":"IF('E2'!$E35=\"\",\"\",'E2'!$E35)","v":1},null,{"$f":"IF(BI79=\"\",\" \",BI79/$Q79)","v":2.3201856148491878E-3}]
[null,"E3  -  Raymond Aubert",null,null,{"$f":"IF('E3'!$E7=\"\",\"\",'E3'!$E7)","v":1030},null,{"$f":"IF('E3'!$E8=\"\",\"\",'E3'!$E8)","v":389},null,{"$f":"IF('E3'!$E9=\"\",\"\",'E3'!$E9)","v":389},null,0.37766990291262137,null,{"$f":"IF('E3'!$E10=\"\",\"\",'E3'!$E10)","v":12},null,{"$f":"IF('E3'!$E11=\"\",\"\",'E3'!$E11)","v":11},null,{"$f":"IF('E3'!$E12=\"\",\"\",'E3'!$E12)","v":366},null,0.35533980582524272,null,{"$f":"IF('E3'!$E25=\"\",\"\",'E3'!$E25)","v":1},null,{"$f":"IF(U80=\"\",\" \",U80/$Q80)","v":2.7322404371584699E-3},null,{"$f":"IF('E3'!$E26=\"\",\"\",'E3'!$E26)","v":0},null,{"$f":"IF(Y80=\"\",\" \",Y80/$Q80)","v":0},null,{"$f":"IF('E3'!$E27=\"\",\"\",'E3'!$E27)","v":103},null,{"$f":"IF(AC80=\"\",\" \",AC80/$Q80)","v":0.28142076502732238},null,{"$f":"IF('E3'!$E28=\"\",\"\",'E3'!$E28)","v":25},null,{"$f":"IF(AG80=\"\",\" \",AG80/$Q80)","v":6.8306010928961755E-2},null,{"$f":"IF('E3'!$E29=\"\",\"\",'E3'!$E29)","v":0},null,0,null,{"$f":"IF('E3'!$E30=\"\",\"\",'E3'!$E30)","v":12},null,{"$f":"IF(AO80=\"\",\" \",AO80/$Q80)","v":3.2786885245901641E-2},null,{"$f":"IF('E3'!$E31=\"\",\"\",'E3'!$E31)","v":0},null,{"$f":"IF(AS80=\"\",\" \",AS80/$Q80)","v":0},null,{"$f":"IF('E3'!$E32=\"\",\"\",'E3'!$E32)","v":11},null,{"$f":"IF(AW80=\"\",\" \",AW80/$Q80)","v":3.0054644808743168E-2},null,{"$f":"IF('E3'!$E33=\"\",\"\",'E3'!$E33)","v":1},null,{"$f":"IF(BA80=\"\",\" \",BA80/$Q80)","v":2.7322404371584699E-3},null,{"$f":"IF('E3'!$E34=\"\",\"\",'E3'!$E34)","v":22},null,{"$f":"IF(BE80=\"\",\" \",BE80/$Q80)","v":6.0109289617486336E-2},null,{"$f":"IF('E3'!$E35=\"\",\"\",'E3'!$E35)","v":0},null,{"$f":"IF(BI80=\"\",\" \",BI80/$Q80)","v":0}]
[null,"F1  -  Maison de l'enfant",null,null,{"$f":"IF('F1'!$E7=\"\",\"\",'F1'!$E7)","v":768},null,{"$f":"IF('F1'!$E8=\"\",\"\",'F1'!$E8)","v":331},null,{"$f":"IF('F1'!$E9=\"\",\"\",'F1'!$E9)","v":331},null,0.43098958333333331,null,{"$f":"IF('F1'!$E10=\"\",\"\",'F1'!$E10)","v":4},null,{"$f":"IF('F1'!$E11=\"\",\"\",'F1'!$E11)","v":9},null,{"$f":"IF('F1'!$E12=\"\",\"\",'F1'!$E12)","v":318},null,0.4140625,null,{"$f":"IF('F1'!$E25=\"\",\"\",'F1'!$E25)","v":2},null,{"$f":"IF(U81=\"\",\" \",U81/$Q81)","v":6.2893081761006293E-3},null,{"$f":"IF('F1'!$E26=\"\",\"\",'F1'!$E26)","v":0},null,{"$f":"IF(Y81=\"\",\" \",Y81/$Q81)","v":0},null,{"$f":"IF('F1'!$E27=\"\",\"\",'F1'!$E27)","v":66},null,{"$f":"IF(AC81=\"\",\" \",AC81/$Q81)","v":0.20754716981132076},null,{"$f":"IF('F1'!$E28=\"\",\"\",'F1'!$E28)","v":21},null,{"$f":"IF(AG81=\"\",\" \",AG81/$Q81)","v":6.6037735849056603E-2},null,{"$f":"IF('F1'!$E29=\"\",\"\",'F1'!$E29)","v":0},null,0,null,{"$f":"IF('F1'!$E30=\"\",\"\",'F1'!$E30)","v":8},null,{"$f":"IF(AO81=\"\",\" \",AO81/$Q81)","v":2.5157232704402517E-2},null,{"$f":"IF('F1'!$E31=\"\",\"\",'F1'!$E31)","v":0},null,{"$f":"IF(AS81=\"\",\" \",AS81/$Q81)","v":0},null,{"$f":"IF('F1'!$E32=\"\",\"\",'F1'!$E32)","v":10},null,{"$f":"IF(AW81=\"\",\" \",AW81/$Q81)","v":3.1446540880503145E-2},null,{"$f":"IF('F1'!$E33=\"\",\"\",'F1'!$E33)","v":2},null,{"$f":"IF(BA81=\"\",\" \",BA81/$Q81)","v":6.2893081761006293E-3},null,{"$f":"IF('F1'!$E34=\"\",\"\",'F1'!$E34)","v":25},null,{"$f":"IF(BE81=\"\",\" \",BE81/$Q81)","v":7.8616352201257858E-2},null,{"$f":"IF('F1'!$E35=\"\",\"\",'F1'!$E35)","v":0},null,{"$f":"IF(BI81=\"\",\" \",BI81/$Q81)","v":0}]
[null,"F2  -  Émile Géhant",null,null,{"$f":"IF('F2'!$E7=\"\",\"\",'F2'!$E7)","v":516},null,{"$f":"IF('F2'!$E8=\"\",\"\",'F2'!$E8)","v":224},null,{"$f":"IF('F2'!$E9=\"\",\"\",'F2'!$E9)","v":224},null,0.43410852713178294,null,{"$f":"IF('F2'!$E10=\"\",\"\",'F2'!$E10)","v":6},null,{"$f":"IF('F2'!$E11=\"\",\"\",'F2'!$E11)","v":3},null,{"$f":"IF('F2'!$E12=\"\",\"\",'F2'!$E12)","v":215},null,0.41666666666666669,null,{"$f":"IF('F2'!$E25=\"\",\"\",'F2'!$E25)","v":1},null,{"$f":"IF(U82=\"\",\" \",U82/$Q82)","v":4.6511627906976744E-3},null,{"$f":"IF('F2'!$E26=\"\",\"\",'F2'!$E26)","v":0},null,{"$f":"IF(Y82=\"\",\" \",Y82/$Q82)","v":0},null,{"$f":"IF('F2'!$E27=\"\",\"\",'F2'!$E27)","v":71},null,{"$f":"IF(AC82=\"\",\" \",AC82/$Q82)","v":0.33023255813953489},null,{"$f":"IF('F2'!$E28=\"\",\"\",'F2'!$E28)","v":22},null,{"$f":"IF(AG82=\"\",\" \",AG82/$Q82)","v":0.10232558139534884},null,{"$f":"IF('F2'!$E29=\"\",\"\",'F2'!$E29)","v":0},null,0,null,{"$f":"IF('F2'!$E30=\"\",\"\",'F2'!$E30)","v":4},null,{"$f":"IF(AO82=\"\",\" \",AO82/$Q82)","v":1.8604651162790697E-2},null,{"$f":"IF('F2'!$E31=\"\",\"\",'F2'!$E31)","v":0},null,{"$f":"IF(AS82=\"\",\" \",AS82/$Q82)","v":0},null,{"$f":"IF('F2'!$E32=\"\",\"\",'F2'!$E32)","v":2},null,{"$f":"IF(AW82=\"\",\" \",AW82/$Q82)","v":9.3023255813953487E-3},null,{"$f":"IF('F2'!$E33=\"\",\"\",'F2'!$E33)","v":3},null,{"$f":"IF(BA82=\"\",\" \",BA82/$Q82)","v":1.3953488372093023E-2},null,{"$f":"IF('F2'!$E34=\"\",\"\",'F2'!$E34)","v":27},null,{"$f":"IF(BE82=\"\",\" \",BE82/$Q82)","v":0.12558139534883722},null,{"$f":"IF('F2'!$E35=\"\",\"\",'F2'!$E35)","v":1},null,{"$f":"IF(BI82=\"\",\" \",BI82/$Q82)","v":4.6511627906976744E-3}]
[null,"Canton NORD",null,null,{"$f":"SUM(E$28:E$32)","v":4686},null,{"$f":"SUM(G78:G82)","v":1871},null,{"$f":"SUM(I78:I82)","v":1871},null,0.3992744344857021,null,{"$f":"SUM(M78:M82)","v":45},null,{"$f":"SUM(O78:O82)","v":39},null,{"$f":"SUM(Q78:Q82)","v":1787},null,{"$f":"IF(Q83=\"\",\" \",Q83/$E83)","v":0.3813486982501067},null,{"$f":"SUM(U78:U82)","v":11},null,{"$f":"IF(U83=0,0,U83/$Q83)","v":6.155567991046447E-3},null,{"$f":"SUM(Y78:Y82)","v":0},null,{"$f":"IF(Y83=0,0,Y83/$Q83)","v":0},null,{"$f":"SUM(AC78:AC82)","v":493},null,{"$f":"IF(AC83=0,0,AC83/$Q83)","v":0.27588136541689984},null,{"$f":"SUM(AG78:AG82)","v":129},null,{"$f":"IF(AG83=0,0,AG83/$Q83)","v":7.218802462227196E-2},null,{"$f":"SUM(AK78:AK82)","v":0},null,0,null,{"$f":"SUM(AO78:AO82)","v":49},null,{"$f":"IF(AO83=0,0,AO83/$Q83)","v":2.7420257414661444E-2},null,{"$f":"SUM(AS78:AS82)","v":0},null,{"$f":"IF(AS83=0,0,AS83/$Q83)","v":0},null,{"$f":"SUM(AW78:AW82)","v":40},null,{"$f":"IF(AW83=0,0,AW83/$Q83)","v":2.238388360380526E-2},null,{"$f":"SUM(BA78:BA82)","v":8},null,{"$f":"IF(BA83=0,0,BA83/$Q83)","v":4.4767767207610524E-3},null,{"$f":"SUM(BE78:BE82)","v":111},null,{"$f":"IF(BE83=0,0,BE83/$Q83)","v":6.2115277000559597E-2},null,{"$f":"SUM(BI78:BI82)","v":2},null,{"$f":"IF(BI83=0,0,BI83/$Q83)","v":1.1191941801902631E-3}]
[null,"G1  -  Hubert Metzger",null,null,{"$f":"IF('G1'!$E7=\"\",\"\",'G1'!$E7)","v":650},null,{"$f":"IF('G1'!$E8=\"\",\"\",'G1'!$E8)","v":266},null,{"$f":"IF('G1'!$E9=\"\",\"\",'G1'!$E9)","v":266},null,0.40923076923076923,null,{"$f":"IF('G1'!$E10=\"\",\"\",'G1'!$E10)","v":7},null,{"$f":"IF('G1'!$E11=\"\",\"\",'G1'!$E11)","v":7},null,{"$f":"IF('G1'!$E12=\"\",\"\",'G1'!$E12)","v":252},null,0.38769230769230767,null,{"$f":"IF('G1'!$E25=\"\",\"\",'G1'!$E25)","v":1},null,{"$f":"IF(U84=\"\",\" \",U84/$Q84)","v":3.968253968253968E-3},null,{"$f":"IF('G1'!$E26=\"\",\"\",'G1'!$E26)","v":0},null,{"$f":"IF(Y84=\"\",\" \",Y84/$Q84)","v":0},null,{"$f":"IF('G1'!$E27=\"\",\"\",'G1'!$E27)","v":67},null,{"$f":"IF(AC84=\"\",\" \",AC84/$Q84)","v":0.26587301587301587},null,{"$f":"IF('G1'!$E28=\"\",\"\",'G1'!$E28)","v":29},null,{"$f":"IF(AG84=\"\",\" \",AG84/$Q84)","v":0.11507936507936507},null,{"$f":"IF('G1'!$E29=\"\",\"\",'G1'!$E29)","v":0},null,{"$f":"IF(AK84=\"\",\" \",AK84/$Q84)","v":0},null,{"$f":"IF('G1'!$E30=\"\",\"\",'G1'!$E30)","v":7},null,{"$f":"IF(AO84=\"\",\" \",AO84/$Q84)","v":2.7777777777777776E-2},null,{"$f":"IF('G1'!$E31=\"\",\"\",'G1'!$E31)","v":0},null,{"$f":"IF(AS84=\"\",\" \",AS84/$Q84)","v":0},null,{"$f":"IF('G1'!$E32=\"\",\"\",'G1'!$E32)","v":4},null,{"$f":"IF(AW84=\"\",\" \",AW84/$Q84)","v":1.5873015873015872E-2},null,{"$f":"IF('G1'!$E33=\"\",\"\",'G1'!$E33)","v":4},null,{"$f":"IF(BA84=\"\",\" \",BA84/$Q84)","v":1.5873015873015872E-2},null,{"$f":"IF('G1'!$E34=\"\",\"\",'G1'!$E34)","v":31},null,{"$f":"IF(BE84=\"\",\" \",BE84/$Q84)","v":0.12301587301587301},null,{"$f":"IF('G1'!$E35=\"\",\"\",'G1'!$E35)","v":1},null,{"$f":"IF(BI84=\"\",\" \",BI84/$Q84)","v":3.968253968253968E-3}]
[null,"G2  -  Hubert Metzger",null,null,{"$f":"IF('G2'!$E7=\"\",\"\",'G2'!$E7)","v":753},null,{"$f":"IF('G2'!$E8=\"\",\"\",'G2'!$E8)","v":250},null,{"$f":"IF('G2'!$E9=\"\",\"\",'G2'!$E9)","v":250},null,0.33200531208499334,null,{"$f":"IF('G2'!$E10=\"\",\"\",'G2'!$E10)","v":7},null,{"$f":"IF('G2'!$E11=\"\",\"\",'G2'!$E11)","v":6},null,{"$f":"IF('G2'!$E12=\"\",\"\",'G2'!$E12)","v":237},null,0.3147410358565737,null,{"$f":"IF('G2'!$E25=\"\",\"\",'G2'!$E25)","v":0},null,0,null,{"$f":"IF('G2'!$E26=\"\",\"\",'G2'!$E26)","v":0},null,0,null,{"$f":"IF('G2'!$E27=\"\",\"\",'G2'!$E27)","v":75},null,0.31645569620253167,null,{"$f":"IF('G2'!$E28=\"\",\"\",'G2'!$E28)","v":11},null,4.6413502109704644E-2,null,{"$f":"IF('G2'!$E29=\"\",\"\",'G2'!$E29)","v":0},null,0,null,{"$f":"IF('G2'!$E30=\"\",\"\",'G2'!$E30)","v":4},null,1.6877637130801686E-2,null,{"$f":"IF('G2'!$E31=\"\",\"\",'G2'!$E31)","v":0},null,0,null,{"$f":"IF('G2'!$E32=\"\",\"\",'G2'!$E32)","v":9},null,3.7974683544303799E-2,null,{"$f":"IF('G2'!$E33=\"\",\"\",'G2'!$E33)","v":1},null,4.2194092827004216E-3,null,{"$f":"IF('G2'!$E34=\"\",\"\",'G2'!$E34)","v":22},null,9.2827004219409287E-2,null,{"$f":"IF('G2'!$E35=\"\",\"\",'G2'!$E35)","v":0},null,0]
[null,"H1  -  Léonard de Vinci",null,null,{"$f":"IF('H1'!$E7=\"\",\"\",'H1'!$E7)","v":1037},null,{"$f":"IF('H1'!$E8=\"\",\"\",'H1'!$E8)","v":377},null,{"$f":"IF('H1'!$E9=\"\",\"\",'H1'!$E9)","v":377},null,0.36354869816779173,null,{"$f":"IF('H1'!$E10=\"\",\"\",'H1'!$E10)","v":7},null,{"$f":"IF('H1'!$E11=\"\",\"\",'H1'!$E11)","v":5},null,{"$f":"IF('H1'!$E12=\"\",\"\",'H1'!$E12)","v":365},null,0.35197685631629699,null,{"$f":"IF('H1'!$E25=\"\",\"\",'H1'!$E25)","v":5},null,1.3698630136986301E-2,null,{"$f":"IF('H1'!$E26=\"\",\"\",'H1'!$E26)","v":0},null,0,null,{"$f":"IF('H1'!$E27=\"\",\"\",'H1'!$E27)","v":96},null,0.26301369863013696,null,{"$f":"IF('H1'!$E28=\"\",\"\",'H1'!$E28)","v":30},null,8.2191780821917804E-2,null,{"$f":"IF('H1'!$E29=\"\",\"\",'H1'!$E29)","v":0},null,0,null,{"$f":"IF('H1'!$E30=\"\",\"\",'H1'!$E30)","v":11},null,3.0136986301369864E-2,null,{"$f":"IF('H1'!$E31=\"\",\"\",'H1'!$E31)","v":0},null,0,null,{"$f":"IF('H1'!$E32=\"\",\"\",'H1'!$E32)","v":8},null,2.1917808219178082E-2,null,{"$f":"IF('H1'!$E33=\"\",\"\",'H1'!$E33)","v":1},null,2.7397260273972603E-3,null,{"$f":"IF('H1'!$E34=\"\",\"\",'H1'!$E34)","v":26},null,7.1232876712328766E-2,null,{"$f":"IF('H1'!$E35=\"\",\"\",'H1'!$E35)","v":0},null,0]
[null,"J1  -  René Rücklin",null,null,{"$f":"IF('J1'!$E7=\"\",\"\",'J1'!$E7)","v":591},null,{"$f":"IF('J1'!$E8=\"\",\"\",'J1'!$E8)","v":179},null,{"$f":"IF('J1'!$E9=\"\",\"\",'J1'!$E9)","v":179},null,0.30287648054145516,null,{"$f":"IF('J1'!$E10=\"\",\"\",'J1'!$E10)","v":8},null,{"$f":"IF('J1'!$E11=\"\",\"\",'J1'!$E11)","v":7},null,{"$f":"IF('J1'!$E12=\"\",\"\",'J1'!$E12)","v":164},null,0.27749576988155666,null,{"$f":"IF('J1'!$E25=\"\",\"\",'J1'!$E25)","v":1},null,6.0975609756097563E-3,null,{"$f":"IF('J1'!$E26=\"\",\"\",'J1'!$E26)","v":0},null,0,null,{"$f":"IF('J1'!$E27=\"\",\"\",'J1'!$E27)","v":66},null,0.40243902439024393,null,{"$f":"IF('J1'!$E28=\"\",\"\",'J1'!$E28)","v":8},null,4.878048780487805E-2,null,{"$f":"IF('J1'!$E29=\"\",\"\",'J1'!$E29)","v":0},null,0,null,{"$f":"IF('J1'!$E30=\"\",\"\",'J1'!$E30)","v":5},null,3.048780487804878E-2,null,{"$f":"IF('J1'!$E31=\"\",\"\",'J1'!$E31)","v":0},null,0,null,{"$f":"IF('J1'!$E32=\"\",\"\",'J1'!$E32)","v":2},null,1.2195121951219513E-2,null,{"$f":"IF('J1'!$E33=\"\",\"\",'J1'!$E33)","v":4},null,2.4390243902439025E-2,null,{"$f":"IF('J1'!$E34=\"\",\"\",'J1'!$E34)","v":12},null,7.3170731707317069E-2,null,{"$f":"IF('J1'!$E35=\"\",\"\",'J1'!$E35)","v":0},null,0]
[null,"J2  -  René Rücklin",null,null,{"$f":"IF('J2'!$E7=\"\",\"\",'J2'!$E7)","v":813},null,{"$f":"IF('J2'!$E8=\"\",\"\",'J2'!$E8)","v":244},null,{"$f":"IF('J2'!$E9=\"\",\"\",'J2'!$E9)","v":244},null,0.30012300123001229,null,{"$f":"IF('J2'!$E10=\"\",\"\",'J2'!$E10)","v":6},null,{"$f":"IF('J2'!$E11=\"\",\"\",'J2'!$E11)","v":1},null,{"$f":"IF('J2'!$E12=\"\",\"\",'J2'!$E12)","v":237},null,0.29151291512915128,null,{"$f":"IF('J2'!$E25=\"\",\"\",'J2'!$E25)","v":1},null,4.2194092827004216E-3,null,{"$f":"IF('J2'!$E26=\"\",\"\",'J2'!$E26)","v":0},null,0,null,{"$f":"IF('J2'!$E27=\"\",\"\",'J2'!$E27)","v":69},null,0.29113924050632911,null,{"$f":"IF('J2'!$E28=\"\",\"\",'J2'!$E28)","v":11},null,4.6413502109704644E-2,null,{"$f":"IF('J2'!$E29=\"\",\"\",'J2'!$E29)","v":0},null,0,null,{"$f":"IF('J2'!$E30=\"\",\"\",'J2'!$E30)","v":6},null,2.5316455696202531E-2,null,{"$f":"IF('J2'!$E31=\"\",\"\",'J2'!$E31)","v":0},null,0,null,{"$f":"IF('J2'!$E32=\"\",\"\",'J2'!$E32)","v":2},null,8.4388185654008432E-3,null,{"$f":"IF('J2'!$E33=\"\",\"\",'J2'!$E33)","v":1},null,4.2194092827004216E-3,null,{"$f":"IF('J2'!$E34=\"\",\"\",'J2'!$E34)","v":20},null,8.4388185654008435E-2,null,{"$f":"IF('J2'!$E35=\"\",\"\",'J2'!$E35)","v":1},null,4.2194092827004216E-3]
[null,"J3  -  René Rücklin",null,null,{"$f":"IF('J3'!$E7=\"\",\"\",'J3'!$E7)","v":556},null,{"$f":"IF('J3'!$E8=\"\",\"\",'J3'!$E8)","v":142},null,{"$f":"IF('J3'!$E9=\"\",\"\",'J3'!$E9)","v":142},null,0.25539568345323743,null,{"$f":"IF('J3'!$E10=\"\",\"\",'J3'!$E10)","v":4},null,{"$f":"IF('J3'!$E11=\"\",\"\",'J3'!$E11)","v":5},null,{"$f":"IF('J3'!$E12=\"\",\"\",'J3'!$E12)","v":133},null,0.23920863309352519,null,{"$f":"IF('J3'!$E25=\"\",\"\",'J3'!$E25)","v":2},null,1.5037593984962405E-2,null,{"$f":"IF('J3'!$E26=\"\",\"\",'J3'!$E26)","v":0},null,0,null,{"$f":"IF('J3'!$E27=\"\",\"\",'J3'!$E27)","v":32},null,0.24060150375939848,null,{"$f":"IF('J3'!$E28=\"\",\"\",'J3'!$E28)","v":10},null,7.5187969924812026E-2,null,{"$f":"IF('J3'!$E29=\"\",\"\",'J3'!$E29)","v":0},null,0,null,{"$f":"IF('J3'!$E30=\"\",\"\",'J3'!$E30)","v":2},null,1.5037593984962405E-2,null,{"$f":"IF('J3'!$E31=\"\",\"\",'J3'!$E31)","v":0},null,0,null,{"$f":"IF('J3'!$E32=\"\",\"\",'J3'!$E32)","v":3},null,2.2556390977443608E-2,null,{"$f":"IF('J3'!$E33=\"\",\"\",'J3'!$E33)","v":0},null,0,null,{"$f":"IF('J3'!$E34=\"\",\"\",'J3'!$E34)","v":23},null,0.17293233082706766,null,{"$f":"IF('J3'!$E35=\"\",\"\",'J3'!$E35)","v":0},null,0]
[null,"Canton SUD",null,null,{"$f":"SUM(E$34:E$39)","v":4400},null,{"$f":"SUM(G84:G89)","v":1458},null,{"$f":"SUM(I84:I89)","v":1458},null,0.33136363636363636,null,{"$f":"SUM(M84:M89)","v":39},null,{"$f":"SUM(O84:O89)","v":31},null,{"$f":"SUM(Q84:Q89)","v":1388},null,{"$f":"IF(Q90=\"\",\" \",Q90/$E90)","v":0.31545454545454543},null,{"$f":"SUM(U84:U89)","v":10},null,{"$f":"IF(U90=0,0,U90/$Q90)","v":7.2046109510086453E-3},null,{"$f":"SUM(Y84:Y89)","v":0},null,{"$f":"IF(Y90=0,0,Y90/$Q90)","v":0},null,{"$f":"SUM(AC84:AC89)","v":405},null,{"$f":"IF(AC90=0,0,AC90/$Q90)","v":0.29178674351585016},null,{"$f":"SUM(AG84:AG89)","v":99},null,{"$f":"IF(AG90=0,0,AG90/$Q90)","v":7.1325648414985593E-2},null,{"$f":"SUM(AK84:AK89)","v":0},null,{"$f":"IF(AK90=0,0,AK90/$Q90)","v":0},null,{"$f":"SUM(AO84:AO89)","v":35},null,{"$f":"IF(AO90=0,0,AO90/$Q90)","v":2.5216138328530261E-2},null,{"$f":"SUM(AS84:AS89)","v":0},null,{"$f":"IF(AS90=0,0,AS90/$Q90)","v":0},null,{"$f":"SUM(AW84:AW89)","v":28},null,{"$f":"IF(AW90=0,0,AW90/$Q90)","v":2.0172910662824207E-2},null,{"$f":"SUM(BA84:BA89)","v":11},null,{"$f":"IF(BA90=0,0,BA90/$Q90)","v":7.9250720461095103E-3},null,{"$f":"SUM(BE84:BE89)","v":134},null,{"$f":"IF(BE90=0,0,BE90/$Q90)","v":9.6541786743515851E-2},null,{"$f":"SUM(BI84:BI89)","v":2},null,{"$f":"IF(BI90=0,0,BI90/$Q90)","v":1.440922190201729E-3}]
[null,"K1  -  Louis Pergaud",null,null,{"$f":"IF('K1'!$E7=\"\",\"\",'K1'!$E7)","v":944},null,{"$f":"IF('K1'!$E8=\"\",\"\",'K1'!$E8)","v":193},null,{"$f":"IF('K1'!$E9=\"\",\"\",'K1'!$E9)","v":193},null,0.20444915254237289,null,{"$f":"IF('K1'!$E10=\"\",\"\",'K1'!$E10)","v":4},null,{"$f":"IF('K1'!$E11=\"\",\"\",'K1'!$E11)","v":8},null,{"$f":"IF('K1'!$E12=\"\",\"\",'K1'!$E12)","v":181},null,0.19173728813559321,null,{"$f":"IF('K1'!$E25=\"\",\"\",'K1'!$E25)","v":0},null,{"$f":"IF(U91=\"\",\" \",U91/$Q91)","v":0},null,{"$f":"IF('K1'!$E26=\"\",\"\",'K1'!$E26)","v":0},null,{"$f":"IF(Y91=\"\",\" \",Y91/$Q91)","v":0},null,{"$f":"IF('K1'!$E27=\"\",\"\",'K1'!$E27)","v":46},null,{"$f":"IF(AC91=\"\",\" \",AC91/$Q91)","v":0.2541436464088398},null,{"$f":"IF('K1'!$E28=\"\",\"\",'K1'!$E28)","v":8},null,{"$f":"IF(AG91=\"\",\" \",AG91/$Q91)","v":4.4198895027624308E-2},null,{"$f":"IF('K1'!$E29=\"\",\"\",'K1'!$E29)","v":0},null,{"$f":"IF(AK91=\"\",\" \",AK91/$Q91)","v":0},null,{"$f":"IF('K1'!$E30=\"\",\"\",'K1'!$E30)","v":8},null,{"$f":"IF(AO91=\"\",\" \",AO91/$Q91)","v":4.4198895027624308E-2},null,{"$f":"IF('K1'!$E31=\"\",\"\",'K1'!$E31)","v":0},null,{"$f":"IF(AS91=\"\",\" \",AS91/$Q91)","v":0},null,{"$f":"IF('K1'!$E32=\"\",\"\",'K1'!$E32)","v":3},null,{"$f":"IF(AW91=\"\",\" \",AW91/$Q91)","v":1.6574585635359115E-2},null,{"$f":"IF('K1'!$E33=\"\",\"\",'K1'!$E33)","v":2},null,{"$f":"IF(BA91=\"\",\" \",BA91/$Q91)","v":1.1049723756906077E-2},null,{"$f":"IF('K1'!$E34=\"\",\"\",'K1'!$E34)","v":17},null,{"$f":"IF(BE91=\"\",\" \",BE91/$Q91)","v":9.3922651933701654E-2},null,{"$f":"IF('K1'!$E35=\"\",\"\",'K1'!$E35)","v":0},null,{"$f":"IF(BI91=\"\",\" \",BI91/$Q91)","v":0}]
[null,"K2  -  Louis Pergaud",null,null,{"$f":"IF('K2'!$E7=\"\",\"\",'K2'!$E7)","v":784},null,{"$f":"IF('K2'!$E8=\"\",\"\",'K2'!$E8)","v":187},null,{"$f":"IF('K2'!$E9=\"\",\"\",'K2'!$E9)","v":187},null,0.23852040816326531,null,{"$f":"IF('K2'!$E10=\"\",\"\",'K2'!$E10)","v":0},null,{"$f":"IF('K2'!$E11=\"\",\"\",'K2'!$E11)","v":6},null,{"$f":"IF('K2'!$E12=\"\",\"\",'K2'!$E12)","v":181},null,0.2308673469387755,null,{"$f":"IF('K2'!$E25=\"\",\"\",'K2'!$E25)","v":1},null,{"$f":"IF(U92=\"\",\" \",U92/$Q92)","v":5.5248618784530384E-3},null,{"$f":"IF('K2'!$E26=\"\",\"\",'K2'!$E26)","v":0},null,{"$f":"IF(Y92=\"\",\" \",Y92/$Q92)","v":0},null,{"$f":"IF('K2'!$E27=\"\",\"\",'K2'!$E27)","v":48},null,{"$f":"IF(AC92=\"\",\" \",AC92/$Q92)","v":0.26519337016574585},null,{"$f":"IF('K2'!$E28=\"\",\"\",'K2'!$E28)","v":15},null,{"$f":"IF(AG92=\"\",\" \",AG92/$Q92)","v":8.2872928176795577E-2},null,{"$f":"IF('K2'!$E29=\"\",\"\",'K2'!$E29)","v":0},null,{"$f":"IF(AK92=\"\",\" \",AK92/$Q92)","v":0},null,{"$f":"IF('K2'!$E30=\"\",\"\",'K2'!$E30)","v":4},null,{"$f":"IF(AO92=\"\",\" \",AO92/$Q92)","v":2.2099447513812154E-2},null,{"$f":"IF('K2'!$E31=\"\",\"\",'K2'!$E31)","v":0},null,{"$f":"IF(AS92=\"\",\" \",AS92/$Q92)","v":0},null,{"$f":"IF('K2'!$E32=\"\",\"\",'K2'!$E32)","v":8},null,{"$f":"IF(AW92=\"\",\" \",AW92/$Q92)","v":4.4198895027624308E-2},null,{"$f":"IF('K2'!$E33=\"\",\"\",'K2'!$E33)","v":1},null,{"$f":"IF(BA92=\"\",\" \",BA92/$Q92)","v":5.5248618784530384E-3},null,{"$f":"IF('K2'!$E34=\"\",\"\",'K2'!$E34)","v":13},null,{"$f":"IF(BE92=\"\",\" \",BE92/$Q92)","v":7.18232044198895E-2},null,{"$f":"IF('K2'!$E35=\"\",\"\",'K2'!$E35)","v":0},null,{"$f":"IF(BI92=\"\",\" \",BI92/$Q92)","v":0}]
[null,"L1  -  Les Barres",null,null,{"$f":"IF('L1'!$E7=\"\",\"\",'L1'!$E7)","v":1314},null,{"$f":"IF('L1'!$E8=\"\",\"\",'L1'!$E8)","v":500},null,{"$f":"IF('L1'!$E9=\"\",\"\",'L1'!$E9)","v":500},null,0.38051750380517502,null,{"$f":"IF('L1'!$E10=\"\",\"\",'L1'!$E10)","v":11},null,{"$f":"IF('L1'!$E11=\"\",\"\",'L1'!$E11)","v":5},null,{"$f":"IF('L1'!$E12=\"\",\"\",'L1'!$E12)","v":484},null,0.36834094368340942,null,{"$f":"IF('L1'!$E25=\"\",\"\",'L1'!$E25)","v":2},null,{"$f":"IF(U93=\"\",\" \",U93/$Q93)","v":4.1322314049586778E-3},null,{"$f":"IF('L1'!$E26=\"\",\"\",'L1'!$E26)","v":0},null,{"$f":"IF(Y93=\"\",\" \",Y93/$Q93)","v":0},null,{"$f":"IF('L1'!$E27=\"\",\"\",'L1'!$E27)","v":111},null,{"$f":"IF(AC93=\"\",\" \",AC93/$Q93)","v":0.22933884297520662},null,{"$f":"IF('L1'!$E28=\"\",\"\",'L1'!$E28)","v":37},null,{"$f":"IF(AG93=\"\",\" \",AG93/$Q93)","v":7.6446280991735532E-2},null,{"$f":"IF('L1'!$E29=\"\",\"\",'L1'!$E29)","v":0},null,{"$f":"IF(AK93=\"\",\" \",AK93/$Q93)","v":0},null,{"$f":"IF('L1'!$E30=\"\",\"\",'L1'!$E30)","v":7},null,{"$f":"IF(AO93=\"\",\" \",AO93/$Q93)","v":1.4462809917355372E-2},null,{"$f":"IF('L1'!$E31=\"\",\"\",'L1'!$E31)","v":0},null,{"$f":"IF(AS93=\"\",\" \",AS93/$Q93)","v":0},null,{"$f":"IF('L1'!$E32=\"\",\"\",'L1'!$E32)","v":22},null,{"$f":"IF(AW93=\"\",\" \",AW93/$Q93)","v":4.5454545454545456E-2},null,{"$f":"IF('L1'!$E33=\"\",\"\",'L1'!$E33)","v":3},null,{"$f":"IF(BA93=\"\",\" \",BA93/$Q93)","v":6.1983471074380167E-3},null,{"$f":"IF('L1'!$E34=\"\",\"\",'L1'!$E34)","v":40},null,{"$f":"IF(BE93=\"\",\" \",BE93/$Q93)","v":8.2644628099173556E-2},null,{"$f":"IF('L1'!$E35=\"\",\"\",'L1'!$E35)","v":3},null,{"$f":"IF(BI93=\"\",\" \",BI93/$Q93)","v":6.1983471074380167E-3}]
[null,"L2  -  Les Barres",null,null,{"$f":"IF('L2'!$E7=\"\",\"\",'L2'!$E7)","v":1146},null,{"$f":"IF('L2'!$E8=\"\",\"\",'L2'!$E8)","v":507},null,{"$f":"IF('L2'!$E9=\"\",\"\",'L2'!$E9)","v":507},null,0.44240837696335078,null,{"$f":"IF('L2'!$E10=\"\",\"\",'L2'!$E10)","v":5},null,{"$f":"IF('L2'!$E11=\"\",\"\",'L2'!$E11)","v":15},null,{"$f":"IF('L2'!$E12=\"\",\"\",'L2'!$E12)","v":487},null,0.42495636998254799,null,{"$f":"IF('L2'!$E25=\"\",\"\",'L2'!$E25)","v":12},null,{"$f":"IF(U94=\"\",\" \",U94/$Q94)","v":2.4640657084188913E-2},null,{"$f":"IF('L2'!$E26=\"\",\"\",'L2'!$E26)","v":0},null,{"$f":"IF(Y94=\"\",\" \",Y94/$Q94)","v":0},null,{"$f":"IF('L2'!$E27=\"\",\"\",'L2'!$E27)","v":122},null,{"$f":"IF(AC94=\"\",\" \",AC94/$Q94)","v":0.25051334702258726},null,{"$f":"IF('L2'!$E28=\"\",\"\",'L2'!$E28)","v":44},null,{"$f":"IF(AG94=\"\",\" \",AG94/$Q94)","v":9.034907597535935E-2},null,{"$f":"IF('L2'!$E29=\"\",\"\",'L2'!$E29)","v":0},null,{"$f":"IF(AK94=\"\",\" \",AK94/$Q94)","v":0},null,{"$f":"IF('L2'!$E30=\"\",\"\",'L2'!$E30)","v":17},null,{"$f":"IF(AO94=\"\",\" \",AO94/$Q94)","v":3.4907597535934289E-2},null,{"$f":"IF('L2'!$E31=\"\",\"\",'L2'!$E31)","v":0},null,{"$f":"IF(AS94=\"\",\" \",AS94/$Q94)","v":0},null,{"$f":"IF('L2'!$E32=\"\",\"\",'L2'!$E32)","v":17},null,{"$f":"IF(AW94=\"\",\" \",AW94/$Q94)","v":3.4907597535934289E-2},null,{"$f":"IF('L2'!$E33=\"\",\"\",'L2'!$E33)","v":2},null,{"$f":"IF(BA94=\"\",\" \",BA94/$Q94)","v":4.1067761806981521E-3},null,{"$f":"IF('L2'!$E34=\"\",\"\",'L2'!$E34)","v":39},null,{"$f":"IF(BE94=\"\",\" \",BE94/$Q94)","v":8.0082135523613956E-2},null,{"$f":"IF('L2'!$E35=\"\",\"\",'L2'!$E35)","v":1},null,{"$f":"IF(BI94=\"\",\" \",BI94/$Q94)","v":2.0533880903490761E-3}]
[null,"Canton OUEST",null,null,{"$f":"SUM(E$41:E$44)","v":4188},null,{"$f":"SUM(G91:G94)","v":1387},null,{"$f":"SUM(I91:I94)","v":1387},null,0.33118433619866283,null,{"$f":"SUM(M91:M94)","v":20},null,{"$f":"SUM(O91:O94)","v":34},null,{"$f":"SUM(Q91:Q94)","v":1333},null,{"$f":"IF(Q95=\"\",\" \",Q95/$E95)","v":0.31829035339063994},null,{"$f":"SUM(U91:U94)","v":15},null,{"$f":"IF(U95=0,0,U95/$Q95)","v":1.1252813203300824E-2},null,{"$f":"SUM(Y91:Y94)","v":0},null,{"$f":"IF(Y95=0,0,Y95/$Q95)","v":0},null,{"$f":"SUM(AC91:AC94)","v":327},null,{"$f":"IF(AC95=0,0,AC95/$Q95)","v":0.245311327831958},null,{"$f":"SUM(AG91:AG94)","v":104},null,{"$f":"IF(AG95=0,0,AG95/$Q95)","v":7.8019504876219059E-2},null,{"$f":"SUM(AK91:AK94)","v":0},null,{"$f":"IF(AK95=0,0,AK95/$Q95)","v":0},null,{"$f":"SUM(AO91:AO94)","v":36},null,{"$f":"IF(AO95=0,0,AO95/$Q95)","v":2.7006751687921979E-2},null,{"$f":"SUM(AS91:AS94)","v":0},null,{"$f":"IF(AS95=0,0,AS95/$Q95)","v":0},null,{"$f":"SUM(AW91:AW94)","v":50},null,{"$f":"IF(AW95=0,0,AW95/$Q95)","v":3.7509377344336084E-2},null,{"$f":"SUM(BA91:BA94)","v":8},null,{"$f":"IF(BA95=0,0,BA95/$Q95)","v":6.0015003750937736E-3},null,{"$f":"SUM(BE91:BE94)","v":109},null,{"$f":"IF(BE95=0,0,BE95/$Q95)","v":8.1770442610652666E-2},null,{"$f":"SUM(BI91:BI94)","v":4},null,{"$f":"IF(BI95=0,0,BI95/$Q95)","v":3.0007501875468868E-3}]
[]
[]
[null,"TOTAUX",null,null,{"$f":"E$20+E$27+E$33+E$40+E$45","v":26563},null,{"$f":"G$20+G$27+G$33+G$40+G$45","v":10250},null,{"$f":"I$20+I$27+I$33+I$40+I$45","v":10250},null,{"$f":"IF(I98=\"\",\" \",I98/$E98)","v":0.3858750894100817},null,{"$f":"M$20+M$27+M$33+M$40+M$45","v":185},null,{"$f":"O$20+O$27+O$33+O$40+O$45","v":192},null,{"$f":"Q$20+Q$27+Q$33+Q$40+Q$45","v":9873},null,null,null,{"$f":"U$70+U$77+U$83+U$90+U$95","v":94},null,{"$f":"IF($Q$48=0,0,U98/$Q$48)","v":9.5209156284817176E-3},null,{"$f":"Y$70+Y$77+Y$83+Y$90+Y$95","v":1},null,{"$f":"IF($Q$48=0,0,Y98/$Q$48)","v":1.0128633647320976E-4},null,{"$f":"AC$70+AC$77+AC$83+AC$90+AC$95","v":2270},null,{"$f":"IF($Q$48=0,0,AC98/$Q$48)","v":0.22991998379418616},null,{"$f":"AG$70+AG$77+AG$83+AG$90+AG$95","v":763},null,{"$f":"IF($Q$48=0,0,AG98/$Q$48)","v":7.7281474729059052E-2},null,{"$f":"AK$70+AK$77+AK$83+AK$90+AK$95","v":0},null,{"$f":"IF($Q$48=0,0,AK98/$Q$48)","v":0},null,{"$f":"AO$70+AO$77+AO$83+AO$90+AO$95","v":305},null,{"$f":"IF($Q$48=0,0,AO98/$Q$48)","v":3.0892332624328979E-2},null,{"$f":"AS$70+AS$77+AS$83+AS$90+AS$95","v":0},null,{"$f":"IF($Q$48=0,0,AS98/$Q$48)","v":0},null,{"$f":"AW$70+AW$77+AW$83+AW$90+AW$95","v":249},null,{"$f":"IF($Q$48=0,0,AW98/$Q$48)","v":2.5220297781829232E-2},null,{"$f":"BA$70+BA$77+BA$83+BA$90+BA$95","v":54},null,{"$f":"IF($Q$48=0,0,BA98/$Q$48)","v":5.4694621695533276E-3},null,{"$f":"BE$70+BE$77+BE$83+BE$90+BE$95","v":640},null,{"$f":"IF($Q$48=0,0,BE98/$Q$48)","v":6.4823255342854255E-2},null,{"$f":"BI$70+BI$77+BI$83+BI$90+BI$95","v":28},null,{"$f":"IF($Q$48=0,0,BI98/$Q$48)","v":2.8360174212498732E-3}]
[null,"%     /    exprimés"]
[null,"%     /    Inscrits",null,null,null,null,null,null,null,null,null,null,{"$f":"IF(I98=0,0,M98/E98)","v":6.9645747844746453E-3},null,{"$f":"IF(I98=0,0,O98/E98)","v":7.2280992357790915E-3},null,{"$f":"IF(I98=0,0,Q98/E98)","v":0.37168241538982794},null,null,null,{"$f":"IF($Q$48=0,0,U98/$E$48)","v":3.5387569175168469E-3},null,null,null,{"$f":"IF($Q$48=0,0,Y98/$E$48)","v":3.7646350186349433E-5},null,null,null,{"$f":"IF($Q$48=0,0,AC98/$E$48)","v":8.5457214923013211E-2},null,null,null,{"$f":"IF($Q$48=0,0,AG98/$E$48)","v":2.8724165192184618E-2},null,null,null,{"$f":"IF($Q$48=0,0,AK98/$E$48)","v":0},null,null,null,{"$f":"IF($Q$48=0,0,AO98/$E$48)","v":1.1482136806836577E-2},null,null,null,{"$f":"IF($Q$48=0,0,AS98/$E$48)","v":0},null,null,null,{"$f":"IF($Q$48=0,0,AW98/$E$48)","v":9.3739411964010085E-3},null,null,null,{"$f":"IF($Q$48=0,0,BA98/$E$48)","v":2.0329029100628693E-3},null,null,null,{"$f":"IF($Q$48=0,0,BE98/$E$48)","v":2.4093664119263638E-2},null,null,null,{"$f":"IF($Q$48=0,0,BI98/$E$48)","v":1.0540978052177841E-3}]

{"sheet":"RESULTATS A3","index":31,"n_rows":50,"n_cols":111,"rows_kept":50,"cut":false,"hidden":false,"merged":[[47,110,48,111],[47,70,48,71],[47,74,48,75],[47,78,48,79],[47,82,48,83],[47,86,48,87],[47,90,48,91],[47,94,48,95],[47,98,48,99],[47,102,48,103],[47,106,48,107],[8,108,8,109],[9,104,10,105],[9,108,10,109],[9,80,10,81],[9,84,10,85],[9,88,10,89],[9,92,10,93],[9,96,10,97],[9,100,10,101],[8,76,8,77],[8,92,8,93],[8,96,8,97],[8,100,8,101],[8,104,8,105],[8,80,8,81],[8,84,8,85],[8,88,8,89],[47,50,48,51],[47,54,48,55],[47,58,48,59],[47,62,48,63],[47,66,48,67],[9,64,10,65],[8,60,8,61],[8,64,8,65],[9,68,10,69],[9,72,10,73],[9,76,10,77],[8,68,8,69],[8,72,8,73],[47,46,48,47],[19,1,19,3],[26,1,26,3],[32,1,32,3],[39,1,39,3],[44,1,44,3],[47,22,48,23],[47,26,48,27],[47,30,48,31],[47,34,48,35],[47,38,48,39],[47,42,48,43],[9,44,10,45],[9,48,10,49],[9,52,10,53],[9,56,10,57],[9,60,10,61],[9,16,9,17],[9,18,9,19],[9,20,10,21],[9,24,10,25],[9,28,10,29],[9,32,10,33],[9,36,10,37],[9,40,10,41],[8,36,8,37],[8,40,8,41],[8,20,8,21],[8,24,8,25],[8,28,8,29],[8,32,8,33],[0,48,0,69],[8,44,8,45],[8,48,8,49],[8,52,8,53],[8,56,8,57],[5,53,5,54],[5,56,5,57],[1,0,1,3],[2,0,3,3],[3,53,3,54],[3,56,3,57],[4,56,4,62]]}
[null,null,null,null,null,null,null,null,null,null,null,null,null,null,null,null,null,null,null,null,null,null,null,null,null,null,null,null,null,null,null,null,null,null,null,null,null,null,null,null,null,null,null,null,null,null,null,null,"ÉLECTIONS EUROPÉENNES"]
["RÉSULTATS"]
[null,null,null,null,null,null,null,null,null,null,null,null,null,null,null,null,null,null,null,null,null,null,null,null,null,null,null,null,null,null,null,null,null,null,null,null,null,null,null,null,null,null,null,null,null,null,null,null,null,null,null,null,null,null,null,null,null,null,null,null,null,null,null,null,null,null,null,null,null,null,null,null,null,null,null,null,null,null,null,null,null,null,null,null,null,null,null,null,null,null,null,null,null,null,null,null,null,null,null,null,null,null,null,null,null,null,null,null,null,null,"25 mai 2014"]
[null,null,null,null,null,null,null,null,null,null,null,null,null,null,null,null,null,null,null,null,null,null,null,null,null,null,null,null,null,null,null,null,null,null,null,null,null,null,null,null,null,null,null,null,null,null,null,null,null,null,null,null,null,{"$f":"COUNTIF($I$13:$I$19,\">0\")+COUNTIF($I$21:$I$26,\">0\")+COUNTIF($I$28:$I$32,\">0\")+COUNTIF($I$34:$I$39,\">0\")+COUNTIF($I$41:$I$44,\">0\")","v":28},null,null,"Bureaux sur",null,28]
[]
[null,null,null,null,"Listes 1 à 23",null,null,null,null,null,null,null,null,null,null,null,null,null,null,null,null,null,null,null,null,null,null,null,null,null,null,null,null,null,null,null,null,null,null,null,null,null,null,null,null,null,null,null,null,null,null,null,null,{"$f":"SUMIF($I$13:$I$19,\">0\",$E$13:$E$19)+SUMIF($I$21:$I$26,\">0\",$E$21:$E$26)+SUMIF($I$28:$I$32,\">0\",$E$28:$E$32)+SUMIF($I$34:$I$39,\">0\",$E$34:$E$39)+SUMIF($I$41:$I$44,\">0\",$E$41:$E$44)","v":26563},null,null,"Inscrits sur",null,{"$f":"$E$48","v":26563},null,"soit",":",{"$f":"BB6/BG6","v":1}]
[]
[]
[null,null,null,null,null,null,null,null,null,null,null,null,null,null,null,null,null,null,"%  /",null,{"$f":"Candidats!A2","v":"Nadine"},null,null,null,{"$f":"Candidats!A3","v":"Joe"},null,null,null,{"$f":"Candidats!A4","v":"Claire"},null,null,null,{"$f":"Candidats!A5","v":"Christian"},null,null,null,{"$f":"Candidats!A6","v":"Edouard"},null,null,null,{"$f":"Candidats!A7","v":"Gaël"},null,null,null,{"$f":"Candidats!A8","v":"Nathalie"},null,null,null,{"$f":"Candidats!A9","v":"Julien"},null,null,null,{"$f":"Candidats!A10","v":"Philippe"},null,null,null,{"$f":"Candidats!A11","v":"Antoine"},null,null,null,{"$f":"Candidats!A12","v":"Geneviève"},null,null,null,{"$f":"Candidats!A13","v":"Isabelle"},null,null,null,{"$f":"Candidats!A14","v":"Xavier"},null,null,null,{"$f":"Candidats!A15","v":"Sandrine"},null,null,null,{"$f":"Candidats!A16","v":"Florian"},null,null,null,{"$f":"Candidats!A17","v":"Sandrine"},null,null,null,{"$f":"Candidats!A18","v":"Ismaël"},null,null,null,{"$f":"Candidats!A19","v":"Laure"},null,null,null,{"$f":"Candidats!A20","v":"Antonio"},null,null,null,{"$f":"Candidats!A21","v":"Isabelle"},null,null,null,{"$f":"Candidats!A22","v":"Yannick"},null,null,null,{"$f":"Candidats!A23","v":"Gabriel"},null,null,null,{"$f":"Candidats!A24","v":"Florence"}]
[null,null,null,"BUREAUX","Inscrits",null,"Émarg.",null,"Votants",null,"Particip.",null,"Blancs",null,"Nuls",null,"Exprimés",null,"Inscrits",null,{"$f":"Candidats!B2","v":"MORANO"},null,"%",null,{"$f":"Candidats!B3","v":"LABAT"},null,"%",null,{"$f":"Candidats!B4","v":"ROCHER"},null,"%",null,{"$f":"Candidats!B5","v":"D'ANDLAU-HOMBOURG"},null,"%",null,{"$f":"Candidats!B6","v":"MARTIN"},null,"%",null,{"$f":"Candidats!B7","v":"DIAFERIA"},null,"%",null,{"$f":"Candidats!B8","v":"GRIESBECK"},null,"%",null,{"$f":"Candidats!B9","v":"GONZALEZ"},null,"%",null,{"$f":"Candidats!B10","v":"COUKA"},null,"%",null,{"$f":"Candidats!B11","v":"RENARD"},null,"%",null,{"$f":"Candidats!B12","v":"MARTIN"},null,"%",null,{"$f":"Candidats!B13","v":"VÉRIN"},null,"%",null,{"$f":"Candidats!B14","v":"DESSAIGNE"},null,"%",null,{"$f":"Candidats!B15","v":"PICO"},null,"%",null,{"$f":"Candidats!B16","v":"PHILIPPOT"},null,"%",null,{"$f":"Candidats!B17","v":"BELIER"},null,"%",null,{"$f":"Candidats!B18","v":"BOUDJEKADA"},null,"%",null,{"$f":"Candidats!B19","v":"FERRARI"},null,"%",null,{"$f":"Candidats!B20","v":"SANCHEZ"},null,"%",null,{"$f":"Candidats!B21","v":"MAURER"},null,"%",null,{"$f":"Candidats!B22","v":"HERVE"},null,"%",null,{"$f":"Candidats!B23","v":"AMARD"},null,"%",null,{"$f":"Candidats!B24","v":"LHOTE"},null,"%"]
[]
[]
[null,"A1  -   Hôtel de Ville",null,null,{"$f":"IF('A1'!$E7=\"\",\"\",'A1'!$E7)","v":856},null,{"$f":"IF('A1'!$E8=\"\",\"\",'A1'!$E8)","v":368},null,{"$f":"IF('A1'!$E9=\"\",\"\",'A1'!$E9)","v":368},null,{"$f":"IF(I13=\"\",\" \",I13/$E13)","v":0.42990654205607476},null,{"$f":"IF('A1'!$E10=\"\",\"\",'A1'!$E10)","v":4},null,{"$f":"IF('A1'!$E11=\"\",\"\",'A1'!$E11)","v":4},null,{"$f":"IF('A1'!$E12=\"\",\"\",'A1'!$E12)","v":360},null,{"$f":"IF(Q13=\"\",\" \",Q13/$E13)","v":0.42056074766355139},null,{"$f":"IF('A1'!$E13=\"\",\"\",'A1'!$E13)","v":87},null,{"$f":"IF(U13=\"\",\" \",U13/$Q13)","v":0.24166666666666667},null,{"$f":"IF('A1'!$E14=\"\",\"\",'A1'!$E14)","v":1},null,{"$f":"IF(Y13=\"\",\" \",Y13/$Q13)","v":2.7777777777777779E-3},null,{"$f":"IF('A1'!$E15=\"\",\"\",'A1'!$E15)","v":5},null,{"$f":"IF(AC13=\"\",\" \",AC13/$Q13)","v":1.3888888888888888E-2},null,{"$f":"IF('A1'!$E16=\"\",\"\",'A1'!$E16)","v":0},null,{"$f":"IF(AG13=\"\",\" \",AG13/$Q13)","v":0},null,{"$f":"IF('A1'!$E17=\"\",\"\",'A1'!$E17)","v":57},null,{"$f":"IF(AK13=\"\",\" \",AK13/$Q13)","v":0.15833333333333333},null,{"$f":"IF('A1'!$E18=\"\",\"\",'A1'!$E18)","v":1},null,{"$f":"IF(AO13=\"\",\" \",AO13/$Q13)","v":2.7777777777777779E-3},null,{"$f":"IF('A1'!$E19=\"\",\"\",'A1'!$E19)","v":42},null,{"$f":"IF(AS13=\"\",\" \",AS13/$Q13)","v":0.11666666666666667},null,{"$f":"IF('A1'!$E20=\"\",\"\",'A1'!$E20)","v":7},null,{"$f":"IF(AW13=\"\",\" \",AW13/$Q13)","v":1.9444444444444445E-2},null,{"$f":"IF('A1'!$E21=\"\",\"\",'A1'!$E21)","v":0},null,{"$f":"IF(BA13=\"\",\" \",BA13/$Q13)","v":0},null,{"$f":"IF('A1'!$E22=\"\",\"\",'A1'!$E22)","v":6},null,{"$f":"IF(BE13=\"\",\" \",BE13/$Q13)","v":1.6666666666666666E-2},null,{"$f":"IF('A1'!$E23=\"\",\"\",'A1'!$E23)","v":1},null,{"$f":"IF(BI13=\"\",\" \",BI13/$Q13)","v":2.7777777777777779E-3},null,{"$f":"IF('A1'!$E24=\"\",\"\",'A1'!$E24)","v":3},null,{"$f":"IF(BM13=\"\",\" \",BM13/$Q13)","v":8.3333333333333332E-3},null,{"$f":"IF('A1'!$E25=\"\",\"\",'A1'!$E25)","v":3},null,{"$f":"IF(BQ13=\"\",\" \",BQ13/$Q13)","v":8.3333333333333332E-3},null,{"$f":"IF('A1'!$E26=\"\",\"\",'A1'!$E26)","v":0},null,{"$f":"IF(BU13=\"\",\" \",BU13/$Q13)","v":0},null,{"$f":"IF('A1'!$E27=\"\",\"\",'A1'!$E27)","v":58},null,{"$f":"IF(BY13=\"\",\" \",BY13/$Q13)","v":0.16111111111111112},null,{"$f":"IF('A1'!$E28=\"\",\"\",'A1'!$E28)","v":31},null,{"$f":"IF(CC13=\"\",\" \",CC13/$Q13)","v":8.611111111111111E-2},null,{"$f":"IF('A1'!$E29=\"\",\"\",'A1'!$E29)","v":0},null,{"$f":"IF(CG13=\"\",\" \",CG13/$Q13)","v":0},null,{"$f":"IF('A1'!$E30=\"\",\"\",'A1'!$E30)","v":18},null,{"$f":"IF(CK13=\"\",\" \",CK13/$Q13)","v":0.05},null,{"$f":"IF('A1'!$E31=\"\",\"\",'A1'!$E31)","v":0},null,{"$f":"IF(CO13=\"\",\" \",CO13/$Q13)","v":0},null,{"$f":"IF('A1'!$E32=\"\",\"\",'A1'!$E32)","v":21},null,{"$f":"IF(CS13=\"\",\" \",CS13/$Q13)","v":5.8333333333333334E-2},null,{"$f":"IF('A1'!$E33=\"\",\"\",'A1'!$E33)","v":3},null,{"$f":"IF(CW13=\"\",\" \",CW13/$Q13)","v":8.3333333333333332E-3},null,{"$f":"IF('A1'!$E36=\"\",\"\",'A1'!$E34)","v":""},null,{"$f":"IF(DA13=\"\",\" \",DA13/$Q13)","v":" "},null,{"$f":"IF('A1'!$E35=\"\",\"\",'A1'!$E35)","v":2},null,{"$f":"IF(DE13=\"\",\" \",DE13/$Q13)","v":5.5555555555555558E-3}]
[null,"A2  -  Salle des fêtes",null,null,{"$f":"IF('A2'!$E7=\"\",\"\",'A2'!$E7)","v":934},null,{"$f":"IF('A2'!$E8=\"\",\"\",'A2'!$E8)","v":476},null,{"$f":"IF('A2'!$E9=\"\",\"\",'A2'!$E9)","v":476},null,{"$f":"IF(I14=\"\",\" \",I14/$E14)","v":0.50963597430406848},null,{"$f":"IF('A2'!$E10=\"\",\"\",'A2'!$E10)","v":7},null,{"$f":"IF('A2'!$E11=\"\",\"\",'A2'!$E11)","v":10},null,{"$f":"IF('A2'!$E12=\"\",\"\",'A2'!$E12)","v":459},null,{"$f":"IF(Q14=\"\",\" \",Q14/$E14)","v":0.49143468950749464},null,{"$f":"IF('A2'!$E13=\"\",\"\",'A2'!$E13)","v":160},null,0.34858387799564272,null,{"$f":"IF('A2'!$E14=\"\",\"\",'A2'!$E14)","v":0},null,0,null,{"$f":"IF('A2'!$E15=\"\",\"\",'A2'!$E15)","v":5},null,1.0893246187363835E-2,null,{"$f":"IF('A2'!$E16=\"\",\"\",'A2'!$E16)","v":0},null,0,null,{"$f":"IF('A2'!$E17=\"\",\"\",'A2'!$E17)","v":60},null,0.13071895424836602,null,{"$f":"IF('A2'!$E18=\"\",\"\",'A2'!$E18)","v":0},null,0,null,{"$f":"IF('A2'!$E19=\"\",\"\",'A2'!$E19)","v":53},null,0.11546840958605664,null,{"$f":"IF('A2'!$E20=\"\",\"\",'A2'!$E20)","v":10},null,2.178649237472767E-2,null,{"$f":"IF('A2'!$E21=\"\",\"\",'A2'!$E21)","v":0},null,0,null,{"$f":"IF('A2'!E22=\"\",\"\",'A2'!E22)","v":6},null,1.3071895424836602E-2,null,{"$f":"IF('A2'!$E23=\"\",\"\",'A2'!$E23)","v":0},null,{"$f":"IF(BI14=\"\",\" \",BI14/$Q14)","v":0},null,{"$f":"IF('A2'!$E24=\"\",\"\",'A2'!$E24)","v":2},null,{"$f":"IF(BM14=\"\",\" \",BM14/$Q14)","v":4.3572984749455342E-3},null,{"$f":"IF('A2'!$E25=\"\",\"\",'A2'!$E25)","v":7},null,{"$f":"IF(BQ14=\"\",\" \",BQ14/$Q14)","v":1.5250544662309368E-2},null,{"$f":"IF('A2'!$E26=\"\",\"\",'A2'!$E26)","v":1},null,{"$f":"IF(BU14=\"\",\" \",BU14/$Q14)","v":2.1786492374727671E-3},null,{"$f":"IF('A2'!$E27=\"\",\"\",'A2'!$E27)","v":66},null,{"$f":"IF(BY14=\"\",\" \",BY14/$Q14)","v":0.1437908496732026},null,{"$f":"IF('A2'!$E28=\"\",\"\",'A2'!$E28)","v":32},null,{"$f":"IF(CC14=\"\",\" \",CC14/$Q14)","v":6.9716775599128547E-2},null,{"$f":"IF('A2'!$E29=\"\",\"\",'A2'!$E29)","v":0},null,{"$f":"IF(CG14=\"\",\" \",CG14/$Q14)","v":0},null,{"$f":"IF('A2'!$E30=\"\",\"\",'A2'!$E30)","v":16},null,{"$f":"IF(CK14=\"\",\" \",CK14/$Q14)","v":3.4858387799564274E-2},null,{"$f":"IF('A2'!$E31=\"\",\"\",'A2'!$E31)","v":0},null,{"$f":"IF(CO14=\"\",\" \",CO14/$Q14)","v":0},null,{"$f":"IF('A2'!$E32=\"\",\"\",'A2'!$E32)","v":7},null,{"$f":"IF(CS14=\"\",\" \",CS14/$Q14)","v":1.5250544662309368E-2},null,{"$f":"IF('A2'!$E33=\"\",\"\",'A2'!$E33)","v":2},null,{"$f":"IF(CW14=\"\",\" \",CW14/$Q14)","v":4.3572984749455342E-3},null,{"$f":"IF('A2'!$E34=\"\",\"\",'A2'!$E34)","v":30},null,{"$f":"IF(DA14=\"\",\" \",DA14/$Q14)","v":6.535947712418301E-2},null,{"$f":"IF('A2'!$E35=\"\",\"\",'A2'!$E35)","v":2},null,{"$f":"IF(DE14=\"\",\" \",DE14/$Q14)","v":4.3572984749455342E-3}]
[null,"B1  -  Victor Hugo",null,null,{"$f":"IF('B1'!$E7=\"\",\"\",'B1'!$E7)","v":1068},null,{"$f":"IF('B1'!$E8=\"\",\"\",'B1'!$E8)","v":434},null,{"$f":"IF('B1'!$E9=\"\",\"\",'B1'!$E9)","v":434},null,0.40636704119850187,null,{"$f":"IF('B1'!$E10=\"\",\"\",'B1'!$E10)","v":4},null,{"$f":"IF('B1'!$E11=\"\",\"\",'B1'!$E11)","v":3},null,{"$f":"IF('B1'!$E12=\"\",\"\",'B1'!$E12)","v":427},null,0.39981273408239698,null,{"$f":"IF('B1'!$E13=\"\",\"\",'B1'!$E13)","v":121},null,0.28337236533957844,null,{"$f":"IF('B1'!$E14=\"\",\"\",'B1'!$E14)","v":2},null,4.6838407494145199E-3,null,{"$f":"IF('B1'!$E15=\"\",\"\",'B1'!$E15)","v":4},null,9.3676814988290398E-3,null,{"$f":"IF('B1'!$E16=\"\",\"\",'B1'!$E16)","v":1},null,2.34192037470726E-3,null,{"$f":"IF('B1'!$E17=\"\",\"\",'B1'!$E17)","v":74},null,0.17330210772833723,null,{"$f":"IF('B1'!$E18=\"\",\"\",'B1'!$E18)","v":0},null,0,null,{"$f":"IF('B1'!$E19=\"\",\"\",'B1'!$E19)","v":61},null,0.14285714285714285,null,{"$f":"IF('B1'!$E20=\"\",\"\",'B1'!$E20)","v":8},null,1.873536299765808E-2,null,{"$f":"IF('B1'!$E21=\"\",\"\",'B1'!$E21)","v":0},null,0,null,{"$f":"IF('B1'!E22=\"\",\"\",'B1'!E22)","v":2},null,4.6838407494145199E-3,null,{"$f":"IF('B1'!$E23=\"\",\"\",'B1'!$E23)","v":1},null,2.34192037470726E-3,null,{"$f":"IF('B1'!$E24=\"\",\"\",'B1'!$E24)","v":1},null,2.34192037470726E-3,null,{"$f":"IF('B1'!$E25=\"\",\"\",'B1'!$E25)","v":4},null,9.3676814988290398E-3,null,{"$f":"IF('B1'!$E26=\"\",\"\",'B1'!$E26)","v":0},null,0,null,{"$f":"IF('B1'!$E27=\"\",\"\",'B1'!$E27)","v":57},null,0.13348946135831383,null,{"$f":"IF('B1'!$E28=\"\",\"\",'B1'!$E28)","v":33},null,7.7283372365339581E-2,null,{"$f":"IF('B1'!$E29=\"\",\"\",'B1'!$E29)","v":0},null,0,null,{"$f":"IF('B1'!$E30=\"\",\"\",'B1'!$E30)","v":16},null,3.7470725995316159E-2,null,{"$f":"IF('B1'!$E31=\"\",\"\",'B1'!$E31)","v":0},null,0,null,{"$f":"IF('B1'!$E32=\"\",\"\",'B1'!$E32)","v":9},null,2.1077283372365339E-2,null,{"$f":"IF('B1'!$E33=\"\",\"\",'B1'!$E33)","v":6},null,1.405152224824356E-2,null,{"$f":"IF('B1'!$E34=\"\",\"\",'B1'!$E34)","v":25},null,5.8548009367681501E-2,null,{"$f":"IF('B1'!$E35=\"\",\"\",'B1'!$E35)","v":2},null,4.6838407494145199E-3]
[null,"B2  -  Victor Hugo",null,null,{"$f":"IF('B2'!$E7=\"\",\"\",'B2'!$E7)","v":1149},null,{"$f":"IF('B2'!$E8=\"\",\"\",'B2'!$E8)","v":524},null,{"$f":"IF('B2'!$E9=\"\",\"\",'B2'!$E9)","v":524},null,0.45604873803307222,null,{"$f":"IF('B2'!$E10=\"\",\"\",'B2'!$E10)","v":1},null,{"$f":"IF('B2'!$E11=\"\",\"\",'B2'!$E11)","v":7},null,{"$f":"IF('B2'!$E12=\"\",\"\",'B2'!$E12)","v":516},null,0.44908616187989558,null,{"$f":"IF('B2'!$E13=\"\",\"\",'B2'!$E13)","v":145},null,0.2810077519379845,null,{"$f":"IF('B2'!$E14=\"\",\"\",'B2'!$E14)","v":0},null,0,null,{"$f":"IF('B2'!$E15=\"\",\"\",'B2'!$E15)","v":5},null,9.6899224806201549E-3,null,{"$f":"IF('B2'!$E16=\"\",\"\",'B2'!$E16)","v":1},null,1.937984496124031E-3,null,{"$f":"IF('B2'!$E17=\"\",\"\",'B2'!$E17)","v":66},null,0.12790697674418605,null,{"$f":"IF('B2'!$E18=\"\",\"\",'B2'!$E18)","v":4},null,7.7519379844961239E-3,null,{"$f":"IF('B2'!$E19=\"\",\"\",'B2'!$E19)","v":64},null,0.12403100775193798,null,{"$f":"IF('B2'!$E20=\"\",\"\",'B2'!$E20)","v":12},null,2.3255813953488372E-2,null,{"$f":"IF('B2'!$E21=\"\",\"\",'B2'!$E21)","v":1},null,1.937984496124031E-3,null,{"$f":"IF('B2'!E22=\"\",\"\",'B2'!E22)","v":10},null,1.937984496124031E-2,null,{"$f":"IF('B2'!$E23=\"\",\"\",'B2'!$E23)","v":1},null,1.937984496124031E-3,null,{"$f":"IF('B2'!$E24=\"\",\"\",'B2'!$E24)","v":0},null,0,null,{"$f":"IF('B2'!$E25=\"\",\"\",'B2'!$E25)","v":4},null,7.7519379844961239E-3,null,{"$f":"IF('B2'!$E26=\"\",\"\",'B2'!$E26)","v":0},null,0,null,{"$f":"IF('B2'!$E27=\"\",\"\",'B2'!$E27)","v":86},null,0.16666666666666666,null,{"$f":"IF('B2'!$E28=\"\",\"\",'B2'!$E28)","v":59},null,0.11434108527131782,null,{"$f":"IF('B2'!$E29=\"\",\"\",'B2'!$E29)","v":0},null,0,null,{"$f":"IF('B2'!$E30=\"\",\"\",'B2'!$E30)","v":19},null,3.6821705426356592E-2,null,{"$f":"IF('B2'!$E31=\"\",\"\",'B2'!$E31)","v":0},null,0,null,{"$f":"IF('B2'!$E32=\"\",\"\",'B2'!$E32)","v":17},null,3.294573643410853E-2,null,{"$f":"IF('B2'!$E33=\"\",\"\",'B2'!$E33)","v":1},null,1.937984496124031E-3,null,{"$f":"IF('B2'!$E34=\"\",\"\",'B2'!$E34)","v":20},null,3.875968992248062E-2,null,{"$f":"IF('B2'!$E35=\"\",\"\",'B2'!$E35)","v":1},null,1.937984496124031E-3]
[null,"M1  -  Saint-Exupéry",null,null,{"$f":"IF('M1'!$E7=\"\",\"\",'M1'!$E7)","v":1300},null,{"$f":"IF('M1'!$E8=\"\",\"\",'M1'!$E8)","v":274},null,{"$f":"IF('M1'!$E9=\"\",\"\",'M1'!$E9)","v":274},null,0.21076923076923076,null,{"$f":"IF('M1'!$E10=\"\",\"\",'M1'!$E10)","v":4},null,{"$f":"IF('M1'!$E11=\"\",\"\",'M1'!$E11)","v":14},null,{"$f":"IF('M1'!$E12=\"\",\"\",'M1'!$E12)","v":256},null,0.19692307692307692,null,{"$f":"IF('M1'!$E13=\"\",\"\",'M1'!$E13)","v":50},null,0.1953125,null,{"$f":"IF('M1'!$E14=\"\",\"\",'M1'!$E14)","v":0},null,0,null,{"$f":"IF('M1'!$E15=\"\",\"\",'M1'!$E15)","v":4},null,1.5625E-2,null,{"$f":"IF('M1'!$E16=\"\",\"\",'M1'!$E16)","v":1},null,3.90625E-3,null,{"$f":"IF('M1'!$E17=\"\",\"\",'M1'!$E17)","v":48},null,0.1875,null,{"$f":"IF('M1'!$E18=\"\",\"\",'M1'!$E18)","v":2},null,7.8125E-3,null,{"$f":"IF('M1'!$E19=\"\",\"\",'M1'!$E19)","v":24},null,9.375E-2,null,{"$f":"IF('M1'!$E20=\"\",\"\",'M1'!$E20)","v":4},null,1.5625E-2,null,{"$f":"IF('M1'!$E21=\"\",\"\",'M1'!$E21)","v":0},null,0,null,{"$f":"IF('M1'!E22=\"\",\"\",'M1'!E22)","v":1},null,3.90625E-3,null,{"$f":"IF('M1'!$E23=\"\",\"\",'M1'!$E23)","v":1},null,3.90625E-3,null,{"$f":"IF('M1'!$E24=\"\",\"\",'M1'!$E24)","v":2},null,7.8125E-3,null,{"$f":"IF('M1'!$E25=\"\",\"\",'M1'!$E25)","v":1},null,3.90625E-3,null,{"$f":"IF('M1'!$E26=\"\",\"\",'M1'!$E26)","v":0},null,0,null,{"$f":"IF('M1'!$E27=\"\",\"\",'M1'!$E27)","v":63},null,0.24609375,null,{"$f":"IF('M1'!$E28=\"\",\"\",'M1'!$E28)","v":11},null,4.296875E-2,null,{"$f":"IF('M1'!$E29=\"\",\"\",'M1'!$E29)","v":0},null,0,null,{"$f":"IF('M1'!$E30=\"\",\"\",'M1'!$E30)","v":5},null,1.953125E-2,null,{"$f":"IF('M1'!$E31=\"\",\"\",'M1'!$E31)","v":0},null,0,null,{"$f":"IF('M1'!$E32=\"\",\"\",'M1'!$E32)","v":3},null,1.171875E-2,null,{"$f":"IF('M1'!$E33=\"\",\"\",'M1'!$E33)","v":1},null,3.90625E-3,null,{"$f":"IF('M1'!$E34=\"\",\"\",'M1'!$E34)","v":33},null,0.12890625,null,{"$f":"IF('M1'!$E35=\"\",\"\",'M1'!$E35)","v":2},null,7.8125E-3]
[null,"N1  -  Jean Moulin",null,null,{"$f":"IF('N1'!$E7=\"\",\"\",'N1'!$E7)","v":1451},null,{"$f":"IF('N1'!$E8=\"\",\"\",'N1'!$E8)","v":603},null,{"$f":"IF('N1'!$E9=\"\",\"\",'N1'!$E9)","v":603},null,0.41557546519641625,null,{"$f":"IF('N1'!$E10=\"\",\"\",'N1'!$E10)","v":12},null,{"$f":"IF('N1'!$E11=\"\",\"\",'N1'!$E11)","v":8},null,{"$f":"IF('N1'!$E12=\"\",\"\",'N1'!$E12)","v":583},null,0.40179186767746383,null,{"$f":"IF('N1'!$E13=\"\",\"\",'N1'!$E13)","v":141},null,0.241852487135506,null,{"$f":"IF('N1'!$E14=\"\",\"\",'N1'!$E14)","v":0},null,0,null,{"$f":"IF('N1'!$E15=\"\",\"\",'N1'!$E15)","v":4},null,6.8610634648370496E-3,null,{"$f":"IF('N1'!$E16=\"\",\"\",'N1'!$E16)","v":1},null,1.7152658662092624E-3,null,{"$f":"IF('N1'!$E17=\"\",\"\",'N1'!$E17)","v":78},null,0.13379073756432247,null,{"$f":"IF('N1'!$E18=\"\",\"\",'N1'!$E18)","v":4},null,6.8610634648370496E-3,null,{"$f":"IF('N1'!$E19=\"\",\"\",'N1'!$E19)","v":62},null,0.10634648370497427,null,{"$f":"IF('N1'!$E20=\"\",\"\",'N1'!$E20)","v":13},null,2.2298456260720412E-2,null,{"$f":"IF('N1'!$E21=\"\",\"\",'N1'!$E21)","v":2},null,3.4305317324185248E-3,null,{"$f":"IF('N1'!E22=\"\",\"\",'N1'!E22)","v":3},null,5.1457975986277877E-3,null,{"$f":"IF('N1'!$E23=\"\",\"\",'N1'!$E23)","v":0},null,0,null,{"$f":"IF('N1'!$E24=\"\",\"\",'N1'!$E24)","v":3},null,5.1457975986277877E-3,null,{"$f":"IF('N1'!$E25=\"\",\"\",'N1'!$E25)","v":6},null,1.0291595197255575E-2,null,{"$f":"IF('N1'!$E26=\"\",\"\",'N1'!$E26)","v":0},null,0,null,{"$f":"IF('N1'!$E27=\"\",\"\",'N1'!$E27)","v":149},null,0.25557461406518012,null,{"$f":"IF('N1'!$E28=\"\",\"\",'N1'!$E28)","v":46},null,7.8902229845626073E-2,null,{"$f":"IF('N1'!$E29=\"\",\"\",'N1'!$E29)","v":0},null,0,null,{"$f":"IF('N1'!$E30=\"\",\"\",'N1'!$E30)","v":19},null,3.2590051457975985E-2,null,{"$f":"IF('N1'!$E31=\"\",\"\",'N1'!$E31)","v":0},null,0,null,{"$f":"IF('N1'!$E32=\"\",\"\",'N1'!$E32)","v":13},null,2.2298456260720412E-2,null,{"$f":"IF('N1'!$E33=\"\",\"\",'N1'!$E33)","v":2},null,3.4305317324185248E-3,null,{"$f":"IF('N1'!$E34=\"\",\"\",'N1'!$E34)","v":34},null,5.8319039451114926E-2,null,{"$f":"IF('N1'!$E35=\"\",\"\",'N1'!$E35)","v":3},null,5.1457975986277877E-3]
[null,"N2  -  Cité des Associations",null,null,{"$f":"IF('N2'!$E7=\"\",\"\",'N2'!$E7)","v":899},null,{"$f":"IF('N2'!$E8=\"\",\"\",'N2'!$E8)","v":409},null,{"$f":"IF('N2'!$E9=\"\",\"\",'N2'!$E9)","v":409},null,0.45494994438264741,null,{"$f":"IF('N2'!$E10=\"\",\"\",'N2'!$E10)","v":12},null,{"$f":"IF('N2'!$E11=\"\",\"\",'N2'!$E11)","v":7},null,{"$f":"IF('N2'!$E12=\"\",\"\",'N2'!$E12)","v":390},null,0.43381535038932145,null,{"$f":"IF('N2'!$E13=\"\",\"\",'N2'!$E13)","v":70},null,0.17948717948717949,null,{"$f":"IF('N2'!$E14=\"\",\"\",'N2'!$E14)","v":2},null,5.1282051282051282E-3,null,{"$f":"IF('N2'!$E15=\"\",\"\",'N2'!$E15)","v":6},null,1.5384615384615385E-2,null,{"$f":"IF('N2'!$E16=\"\",\"\",'N2'!$E16)","v":0},null,0,null,{"$f":"IF('N2'!$E17=\"\",\"\",'N2'!$E17)","v":83},null,0.21282051282051281,null,{"$f":"IF('N2'!$E18=\"\",\"\",'N2'!$E18)","v":1},null,2.5641025641025641E-3,null,{"$f":"IF('N2'!$E19=\"\",\"\",'N2'!$E19)","v":47},null,0.12051282051282051,null,{"$f":"IF('N2'!$E20=\"\",\"\",'N2'!$E20)","v":6},null,1.5384615384615385E-2,null,{"$f":"IF('N2'!$E21=\"\",\"\",'N2'!$E21)","v":0},null,0,null,{"$f":"IF('N2'!E22=\"\",\"\",'N2'!E22)","v":2},null,5.1282051282051282E-3,null,{"$f":"IF('N2'!$E23=\"\",\"\",'N2'!$E23)","v":2},null,5.1282051282051282E-3,null,{"$f":"IF('N2'!$E24=\"\",\"\",'N2'!$E24)","v":2},null,5.1282051282051282E-3,null,{"$f":"IF('N2'!$E25=\"\",\"\",'N2'!$E25)","v":6},null,1.5384615384615385E-2,null,{"$f":"IF('N2'!$E26=\"\",\"\",'N2'!$E26)","v":0},null,0,null,{"$f":"IF('N2'!$E27=\"\",\"\",'N2'!$E27)","v":83},null,0.21282051282051281,null,{"$f":"IF('N2'!$E28=\"\",\"\",'N2'!$E28)","v":38},null,9.7435897435897437E-2,null,{"$f":"IF('N2'!$E29=\"\",\"\",'N2'!$E29)","v":0},null,0,null,{"$f":"IF('N2'!$E30=\"\",\"\",'N2'!$E30)","v":8},null,2.0512820512820513E-2,null,{"$f":"IF('N2'!$E31=\"\",\"\",'N2'!$E31)","v":0},null,0,null,{"$f":"IF('N2'!$E32=\"\",\"\",'N2'!$E32)","v":8},null,2.0512820512820513E-2,null,{"$f":"IF('N2'!$E33=\"\",\"\",'N2'!$E33)","v":3},null,7.6923076923076927E-3,null,{"$f":"IF('N2'!$E34=\"\",\"\",'N2'!$E34)","v":23},null,5.8974358974358973E-2,null,{"$f":"IF('N2'!$E35=\"\",\"\",'N2'!$E35)","v":0},null,0]
[null,"Canton EST",null,null,{"$f":"SUM(E$13:E$19)","v":7657},null,{"$f":"SUM(G13:G19)","v":3088},null,{"$f":"SUM(I13:I19)","v":3088},null,0.40329110617735403,null,{"$f":"SUM(M13:M19)","v":44},null,{"$f":"SUM(O13:O19)","v":53},null,{"$f":"SUM(Q13:Q19)","v":2991},null,0.39062295938357061,null,{"$f":"SUM(U13:U19)","v":774},null,{"$f":"IF(U20=0,0,U20/$Q20)","v":0.2587763289869609},null,{"$f":"SUM(Y13:Y19)","v":5},null,{"$f":"IF(Y20=0,0,Y20/$Q20)","v":1.671681711802073E-3},null,{"$f":"SUM(AC13:AC19)","v":33},null,{"$f":"IF(AC20=0,0,AC20/$Q20)","v":1.1033099297893681E-2},null,{"$f":"SUM(AG13:AG19)","v":4},null,{"$f":"IF(AG20=0,0,AG20/$Q20)","v":1.3373453694416582E-3},null,{"$f":"SUM(AK13:AK19)","v":466},null,{"$f":"IF(AK20=0,0,AK20/$Q20)","v":0.15580073553995319},null,{"$f":"SUM(AO13:AO19)","v":12},null,{"$f":"IF(AO20=0,0,AO20/$Q20)","v":4.0120361083249749E-3},null,{"$f":"SUM(AS13:AS19)","v":353},null,{"$f":"IF(AS20=0,0,AS20/$Q20)","v":0.11802072885322634},null,{"$f":"SUM(AW13:AW19)","v":60},null,{"$f":"IF(AW20=0,0,AW20/$Q20)","v":2.0060180541624874E-2},null,{"$f":"SUM(BA13:BA19)","v":3},null,{"$f":"IF(BA20=0,0,BA20/$Q20)","v":1.0030090270812437E-3},null,{"$f":"SUM(BE13:BE19)","v":30},null,{"$f":"IF(BE20=0,0,BE20/$Q20)","v":1.0030090270812437E-2},null,{"$f":"SUM(BI13:BI19)","v":6},null,{"$f":"IF(BI20=0,0,BI20/$Q20)","v":2.0060180541624875E-3},null,{"$f":"SUM(BM13:BM19)","v":13},null,{"$f":"IF(BM20=0,0,BM20/$Q20)","v":4.3463724506853894E-3},null,{"$f":"SUM(BQ13:BQ19)","v":31},null,{"$f":"IF(BQ20=0,0,BQ20/$Q20)","v":1.0364426613172852E-2},null,{"$f":"SUM(BU13:BU19)","v":1},null,{"$f":"IF(BU20=0,0,BU20/$Q20)","v":3.3433634236041456E-4},null,{"$f":"SUM(BY13:BY19)","v":562},null,{"$f":"IF(BY20=0,0,BY20/$Q20)","v":0.18789702440655298},null,{"$f":"SUM(CC13:CC19)","v":250},null,{"$f":"IF(CC20=0,0,CC20/$Q20)","v":8.3584085590103649E-2},null,{"$f":"SUM(CG13:CG19)","v":0},null,{"$f":"IF(CG20=0,0,CG20/$Q20)","v":0},null,{"$f":"SUM(CK13:CK19)","v":101},null,{"$f":"IF(CK20=0,0,CK20/$Q20)","v":3.3767970578401869E-2},null,{"$f":"SUM(CO13:CO19)","v":0},null,{"$f":"IF(CO20=0,0,CO20/$Q20)","v":0},null,{"$f":"SUM(CS13:CS19)","v":78},null,{"$f":"IF(CS20=0,0,CS20/$Q20)","v":2.6078234704112337E-2},null,{"$f":"SUM(CW13:CW19)","v":18},null,{"$f":"IF(CW20=0,0,CW20/$Q20)","v":6.018054162487462E-3},null,{"$f":"SUM(DA13:DA19)","v":165},null,{"$f":"IF(DA20=0,0,DA20/$Q20)","v":5.5165496489468405E-2},null,{"$f":"SUM(DE13:DE19)","v":12},null,{"$f":"IF(DE20=0,0,DE20/$Q20)","v":4.0120361083249749E-3}]
[null,"C1  -  Victor Schoelcher",null,null,{"$f":"IF('C1'!$E7=\"\",\"\",'C1'!$E7)","v":1194},null,{"$f":"IF('C1'!$E8=\"\",\"\",'C1'!$E8)","v":487},null,{"$f":"IF('C1'!$E9=\"\",\"\",'C1'!$E9)","v":487},null,0.40787269681742044,null,{"$f":"IF('C1'!$E10=\"\",\"\",'C1'!$E10)","v":8},null,{"$f":"IF('C1'!$E11=\"\",\"\",'C1'!$E11)","v":4},null,{"$f":"IF('C1'!$E12=\"\",\"\",'C1'!$E12)","v":475},null,0.39782244556113905,null,{"$f":"IF('C1'!$E13=\"\",\"\",'C1'!$E13)","v":127},null,{"$f":"IF(U21=\"\",\" \",U21/$Q21)","v":0.26736842105263159},null,{"$f":"IF('C1'!$E14=\"\",\"\",'C1'!$E14)","v":2},null,{"$f":"IF(Y21=\"\",\" \",Y21/$Q21)","v":4.2105263157894736E-3},null,{"$f":"IF('C1'!$E15=\"\",\"\",'C1'!$E15)","v":4},null,{"$f":"IF(AC21=\"\",\" \",AC21/$Q21)","v":8.4210526315789472E-3},null,{"$f":"IF('C1'!$E16=\"\",\"\",'C1'!$E16)","v":1},null,{"$f":"IF(AG21=\"\",\" \",AG21/$Q21)","v":2.1052631578947368E-3},null,{"$f":"IF('C1'!$E17=\"\",\"\",'C1'!$E17)","v":86},null,{"$f":"IF(AK21=\"\",\" \",AK21/$Q21)","v":0.18105263157894738},null,{"$f":"IF('C1'!$E18=\"\",\"\",'C1'!$E18)","v":2},null,{"$f":"IF(AO21=\"\",\" \",AO21/$Q21)","v":4.2105263157894736E-3},null,{"$f":"IF('C1'!$E19=\"\",\"\",'C1'!$E19)","v":56},null,{"$f":"IF(AS21=\"\",\" \",AS21/$Q21)","v":0.11789473684210526},null,{"$f":"IF('C1'!$E20=\"\",\"\",'C1'!$E20)","v":10},null,{"$f":"IF(AW21=\"\",\" \",AW21/$Q21)","v":2.1052631578947368E-2},null,{"$f":"IF('C1'!$E21=\"\",\"\",'C1'!$E21)","v":0},null,{"$f":"IF(BA21=\"\",\" \",BA21/$Q21)","v":0},null,{"$f":"IF('C1'!E22=\"\",\"\",'C1'!E22)","v":4},null,{"$f":"IF(BE21=\"\",\" \",BE21/$Q21)","v":8.4210526315789472E-3},null,{"$f":"IF('C1'!$E23=\"\",\"\",'C1'!$E23)","v":0},null,{"$f":"IF(BI21=\"\",\" \",BI21/$Q21)","v":0},null,{"$f":"IF('C1'!$E24=\"\",\"\",'C1'!$E24)","v":3},null,{"$f":"IF(BM21=\"\",\" \",BM21/$Q21)","v":6.3157894736842104E-3},null,{"$f":"IF('C1'!$E25=\"\",\"\",'C1'!$E25)","v":1},null,{"$f":"IF(BQ21=\"\",\" \",BQ21/$Q21)","v":2.1052631578947368E-3},null,{"$f":"IF('C1'!$E26=\"\",\"\",'C1'!$E26)","v":0},null,{"$f":"IF(BU21=\"\",\" \",BU21/$Q21)","v":0},null,{"$f":"IF('C1'!$E27=\"\",\"\",'C1'!$E27)","v":89},null,{"$f":"IF(BY21=\"\",\" \",BY21/$Q21)","v":0.18736842105263157},null,{"$f":"IF('C1'!$E28=\"\",\"\",'C1'!$E28)","v":37},null,{"$f":"IF(CC21=\"\",\" \",CC21/$Q21)","v":7.7894736842105267E-2},null,{"$f":"IF('C1'!$E29=\"\",\"\",'C1'!$E29)","v":0},null,{"$f":"IF(CG21=\"\",\" \",CG21/$Q21)","v":0},null,{"$f":"IF('C1'!$E30=\"\",\"\",'C1'!$E30)","v":19},null,{"$f":"IF(CK21=\"\",\" \",CK21/$Q21)","v":0.04},null,{"$f":"IF('C1'!$E31=\"\",\"\",'C1'!$E31)","v":0},null,{"$f":"IF(CO21=\"\",\" \",CO21/$Q21)","v":0},null,{"$f":"IF('C1'!$E32=\"\",\"\",'C1'!$E32)","v":11},null,{"$f":"IF(CS21=\"\",\" \",CS21/$Q21)","v":2.3157894736842106E-2},null,{"$f":"IF('C1'!$E33=\"\",\"\",'C1'!$E33)","v":4},null,{"$f":"IF(CW21=\"\",\" \",CW21/$Q21)","v":8.4210526315789472E-3},null,{"$f":"IF('C1'!$E34=\"\",\"\",'C1'!$E34)","v":18},null,{"$f":"IF(DA21=\"\",\" \",DA21/$Q21)","v":3.7894736842105266E-2},null,{"$f":"IF('C1'!$E35=\"\",\"\",'C1'!$E35)","v":1},null,{"$f":"IF(DE21=\"\",\" \",DE21/$Q21)","v":2.1052631578947368E-3}]
[null,"C2  -  Maison du Peuple",null,null,{"$f":"IF('C2'!$E7=\"\",\"\",'C2'!$E7)","v":749},null,{"$f":"IF('C2'!$E8=\"\",\"\",'C2'!$E8)","v":359},null,{"$f":"IF('C2'!$E9=\"\",\"\",'C2'!$E9)","v":359},null,0.47930574098798395,null,{"$f":"IF('C2'!$E10=\"\",\"\",'C2'!$E10)","v":4},null,{"$f":"IF('C2'!$E11=\"\",\"\",'C2'!$E11)","v":8},null,{"$f":"IF('C2'!$E12=\"\",\"\",'C2'!$E12)","v":347},null,0.46328437917222964,null,{"$f":"IF('C2'!$E13=\"\",\"\",'C2'!$E13)","v":108},null,0.31123919308357351,null,{"$f":"IF('C2'!$E14=\"\",\"\",'C2'!$E14)","v":0},null,0,null,{"$f":"IF('C2'!$E15=\"\",\"\",'C2'!$E15)","v":2},null,5.763688760806916E-3,null,{"$f":"IF('C2'!$E16=\"\",\"\",'C2'!$E16)","v":0},null,0,null,{"$f":"IF('C2'!$E17=\"\",\"\",'C2'!$E17)","v":52},null,0.14985590778097982,null,{"$f":"IF('C2'!$E18=\"\",\"\",'C2'!$E18)","v":2},null,5.763688760806916E-3,null,{"$f":"IF('C2'!$E19=\"\",\"\",'C2'!$E19)","v":33},null,9.5100864553314124E-2,null,{"$f":"IF('C2'!$E20=\"\",\"\",'C2'!$E20)","v":7},null,2.0172910662824207E-2,null,{"$f":"IF('C2'!$E21=\"\",\"\",'C2'!$E21)","v":1},null,2.881844380403458E-3,null,{"$f":"IF('C2'!E22=\"\",\"\",'C2'!E22)","v":1},null,2.881844380403458E-3,null,{"$f":"IF('C2'!$E23=\"\",\"\",'C2'!$E23)","v":1},null,{"$f":"IF(BI22=\"\",\" \",BI22/$Q22)","v":2.881844380403458E-3},null,{"$f":"IF('C2'!$E24=\"\",\"\",'C2'!$E24)","v":1},null,{"$f":"IF(BM22=\"\",\" \",BM22/$Q22)","v":2.881844380403458E-3},null,{"$f":"IF('C2'!$E25=\"\",\"\",'C2'!$E25)","v":6},null,{"$f":"IF(BQ22=\"\",\" \",BQ22/$Q22)","v":1.7291066282420751E-2},null,{"$f":"IF('C2'!$E26=\"\",\"\",'C2'!$E26)","v":0},null,{"$f":"IF(BU22=\"\",\" \",BU22/$Q22)","v":0},null,{"$f":"IF('C2'!$E27=\"\",\"\",'C2'!$E27)","v":57},null,{"$f":"IF(BY22=\"\",\" \",BY22/$Q22)","v":0.16426512968299711},null,{"$f":"IF('C2'!$E28=\"\",\"\",'C2'!$E28)","v":23},null,{"$f":"IF(CC22=\"\",\" \",CC22/$Q22)","v":6.6282420749279536E-2},null,{"$f":"IF('C2'!$E29=\"\",\"\",'C2'!$E29)","v":0},null,{"$f":"IF(CG22=\"\",\" \",CG22/$Q22)","v":0},null,{"$f":"IF('C2'!$E30=\"\",\"\",'C2'!$E30)","v":17},null,{"$f":"IF(CK22=\"\",\" \",CK22/$Q22)","v":4.8991354466858789E-2},null,{"$f":"IF('C2'!$E31=\"\",\"\",'C2'!$E31)","v":0},null,{"$f":"IF(CO22=\"\",\" \",CO22/$Q22)","v":0},null,{"$f":"IF('C2'!$E32=\"\",\"\",'C2'!$E32)","v":12},null,{"$f":"IF(CS22=\"\",\" \",CS22/$Q22)","v":3.4582132564841501E-2},null,{"$f":"IF('C2'!$E33=\"\",\"\",'C2'!$E33)","v":0},null,{"$f":"IF(CW22=\"\",\" \",CW22/$Q22)","v":0},null,{"$f":"IF('C2'!$E34=\"\",\"\",'C2'!$E34)","v":20},null,{"$f":"IF(DA22=\"\",\" \",DA22/$Q22)","v":5.7636887608069162E-2},null,{"$f":"IF('C2'!$E35=\"\",\"\",'C2'!$E35)","v":4},null,{"$f":"IF(DE22=\"\",\" \",DE22/$Q22)","v":1.1527377521613832E-2}]
[null,"C3  -  Maison du Peuple",null,null,{"$f":"IF('C3'!$E7=\"\",\"\",'C3'!$E7)","v":909},null,{"$f":"IF('C3'!$E8=\"\",\"\",'C3'!$E8)","v":426},null,{"$f":"IF('C3'!$E9=\"\",\"\",'C3'!$E9)","v":426},null,0.46864686468646866,null,{"$f":"IF('C3'!$E10=\"\",\"\",'C3'!$E10)","v":6},null,{"$f":"IF('C3'!$E11=\"\",\"\",'C3'!$E11)","v":5},null,{"$f":"IF('C3'!$E12=\"\",\"\",'C3'!$E12)","v":415},null,0.45654565456545654,null,{"$f":"IF('C3'!$E13=\"\",\"\",'C3'!$E13)","v":148},null,0.3566265060240964,null,{"$f":"IF('C3'!$E14=\"\",\"\",'C3'!$E14)","v":1},null,2.4096385542168677E-3,null,{"$f":"IF('C3'!$E15=\"\",\"\",'C3'!$E15)","v":2},null,4.8192771084337354E-3,null,{"$f":"IF('C3'!$E16=\"\",\"\",'C3'!$E16)","v":0},null,0,null,{"$f":"IF('C3'!$E17=\"\",\"\",'C3'!$E17)","v":65},null,0.15662650602409639,null,{"$f":"IF('C3'!$E18=\"\",\"\",'C3'!$E18)","v":2},null,4.8192771084337354E-3,null,{"$f":"IF('C3'!$E19=\"\",\"\",'C3'!$E19)","v":39},null,9.3975903614457831E-2,null,{"$f":"IF('C3'!$E20=\"\",\"\",'C3'!$E20)","v":7},null,1.6867469879518072E-2,null,{"$f":"IF('C3'!$E21=\"\",\"\",'C3'!$E21)","v":0},null,0,null,{"$f":"IF('C3'!E22=\"\",\"\",'C3'!E22)","v":3},null,7.2289156626506026E-3,null,{"$f":"IF('C3'!$E23=\"\",\"\",'C3'!$E23)","v":1},null,2.4096385542168677E-3,null,{"$f":"IF('C3'!$E24=\"\",\"\",'C3'!$E24)","v":3},null,7.2289156626506026E-3,null,{"$f":"IF('C3'!$E25=\"\",\"\",'C3'!$E25)","v":6},null,1.4457831325301205E-2,null,{"$f":"IF('C3'!$E26=\"\",\"\",'C3'!$E26)","v":0},null,0,null,{"$f":"IF('C3'!$E27=\"\",\"\",'C3'!$E27)","v":66},null,0.15903614457831325,null,{"$f":"IF('C3'!$E28=\"\",\"\",'C3'!$E28)","v":36},null,8.6746987951807228E-2,null,{"$f":"IF('C3'!$E29=\"\",\"\",'C3'!$E29)","v":0},null,0,null,{"$f":"IF('C3'!$E30=\"\",\"\",'C3'!$E30)","v":9},null,2.1686746987951807E-2,null,{"$f":"IF('C3'!$E31=\"\",\"\",'C3'!$E31)","v":0},null,0,null,{"$f":"IF('C3'!$E32=\"\",\"\",'C3'!$E32)","v":10},null,2.4096385542168676E-2,null,{"$f":"IF('C3'!$E33=\"\",\"\",'C3'!$E33)","v":0},null,0,null,{"$f":"IF('C3'!$E34=\"\",\"\",'C3'!$E34)","v":16},null,3.8554216867469883E-2,null,{"$f":"IF('C3'!$E35=\"\",\"\",'C3'!$E35)","v":1},null,2.4096385542168677E-3]
[null,"D1  -  Châteaudun",null,null,{"$f":"IF('D1'!$E7=\"\",\"\",'D1'!$E7)","v":1058},null,{"$f":"IF('D1'!$E8=\"\",\"\",'D1'!$E8)","v":444},null,{"$f":"IF('D1'!$E9=\"\",\"\",'D1'!$E9)","v":444},null,0.41965973534971646,null,{"$f":"IF('D1'!$E10=\"\",\"\",'D1'!$E10)","v":6},null,{"$f":"IF('D1'!$E11=\"\",\"\",'D1'!$E11)","v":7},null,{"$f":"IF('D1'!$E12=\"\",\"\",'D1'!$E12)","v":431},null,0.40737240075614367,null,{"$f":"IF('D1'!$E13=\"\",\"\",'D1'!$E13)","v":140},null,0.3248259860788863,null,{"$f":"IF('D1'!$E14=\"\",\"\",'D1'!$E14)","v":0},null,0,null,{"$f":"IF('D1'!$E15=\"\",\"\",'D1'!$E15)","v":3},null,6.9605568445475635E-3,null,{"$f":"IF('D1'!$E16=\"\",\"\",'D1'!$E16)","v":0},null,0,null,{"$f":"IF('D1'!$E17=\"\",\"\",'D1'!$E17)","v":61},null,0.14153132250580047,null,{"$f":"IF('D1'!$E18=\"\",\"\",'D1'!$E18)","v":1},null,2.3201856148491878E-3,null,{"$f":"IF('D1'!$E19=\"\",\"\",'D1'!$E19)","v":35},null,8.1206496519721574E-2,null,{"$f":"IF('D1'!$E20=\"\",\"\",'D1'!$E20)","v":10},null,2.3201856148491878E-2,null,{"$f":"IF('D1'!$E21=\"\",\"\",'D1'!$E21)","v":0},null,0,null,{"$f":"IF('D1'!E22=\"\",\"\",'D1'!E22)","v":1},null,2.3201856148491878E-3,null,{"$f":"IF('D1'!$E23=\"\",\"\",'D1'!$E23)","v":1},null,2.3201856148491878E-3,null,{"$f":"IF('D1'!$E24=\"\",\"\",'D1'!$E24)","v":0},null,0,null,{"$f":"IF('D1'!$E25=\"\",\"\",'D1'!$E25)","v":4},null,9.2807424593967514E-3,null,{"$f":"IF('D1'!$E26=\"\",\"\",'D1'!$E26)","v":0},null,0,null,{"$f":"IF('D1'!$E27=\"\",\"\",'D1'!$E27)","v":84},null,0.19489559164733178,null,{"$f":"IF('D1'!$E28=\"\",\"\",'D1'!$E28)","v":32},null,7.4245939675174011E-2,null,{"$f":"IF('D1'!$E29=\"\",\"\",'D1'!$E29)","v":0},null,0,null,{"$f":"IF('D1'!$E30=\"\",\"\",'D1'!$E30)","v":20},null,4.6403712296983757E-2,null,{"$f":"IF('D1'!$E31=\"\",\"\",'D1'!$E31)","v":0},null,0,null,{"$f":"IF('D1'!$E32=\"\",\"\",'D1'!$E32)","v":10},null,2.3201856148491878E-2,null,{"$f":"IF('D1'!$E33=\"\",\"\",'D1'!$E33)","v":3},null,6.9605568445475635E-3,null,{"$f":"IF('D1'!$E34=\"\",\"\",'D1'!$E34)","v":24},null,5.5684454756380508E-2,null,{"$f":"IF('D1'!$E35=\"\",\"\",'D1'!$E35)","v":2},null,4.6403712296983757E-3]
[null,"D2  -  Châteaudun",null,null,{"$f":"IF('D2'!$E7=\"\",\"\",'D2'!$E7)","v":827},null,{"$f":"IF('D2'!$E8=\"\",\"\",'D2'!$E8)","v":365},null,{"$f":"IF('D2'!$E9=\"\",\"\",'D2'!$E9)","v":365},null,0.44135429262394194,null,{"$f":"IF('D2'!$E10=\"\",\"\",'D2'!$E10)","v":5},null,{"$f":"IF('D2'!$E11=\"\",\"\",'D2'!$E11)","v":4},null,{"$f":"IF('D2'!$E12=\"\",\"\",'D2'!$E12)","v":356},null,0.43047158403869407,null,{"$f":"IF('D2'!$E13=\"\",\"\",'D2'!$E13)","v":104},null,0.29213483146067415,null,{"$f":"IF('D2'!$E14=\"\",\"\",'D2'!$E14)","v":1},null,2.8089887640449437E-3,null,{"$f":"IF('D2'!$E15=\"\",\"\",'D2'!$E15)","v":0},null,0,null,{"$f":"IF('D2'!$E16=\"\",\"\",'D2'!$E16)","v":0},null,0,null,{"$f":"IF('D2'!$E17=\"\",\"\",'D2'!$E17)","v":44},null,0.12359550561797752,null,{"$f":"IF('D2'!$E18=\"\",\"\",'D2'!$E18)","v":3},null,8.4269662921348312E-3,null,{"$f":"IF('D2'!$E19=\"\",\"\",'D2'!$E19)","v":44},null,0.12359550561797752,null,{"$f":"IF('D2'!$E20=\"\",\"\",'D2'!$E20)","v":2},null,5.6179775280898875E-3,null,{"$f":"IF('D2'!$E21=\"\",\"\",'D2'!$E21)","v":0},null,0,null,{"$f":"IF('D2'!E22=\"\",\"\",'D2'!E22)","v":0},null,0,null,{"$f":"IF('D2'!$E23=\"\",\"\",'D2'!$E23)","v":1},null,2.8089887640449437E-3,null,{"$f":"IF('D2'!$E24=\"\",\"\",'D2'!$E24)","v":2},null,5.6179775280898875E-3,null,{"$f":"IF('D2'!$E25=\"\",\"\",'D2'!$E25)","v":6},null,1.6853932584269662E-2,null,{"$f":"IF('D2'!$E26=\"\",\"\",'D2'!$E26)","v":0},null,0,null,{"$f":"IF('D2'!$E27=\"\",\"\",'D2'!$E27)","v":84},null,0.23595505617977527,null,{"$f":"IF('D2'!$E28=\"\",\"\",'D2'!$E28)","v":32},null,8.98876404494382E-2,null,{"$f":"IF('D2'!$E29=\"\",\"\",'D2'!$E29)","v":0},null,0,null,{"$f":"IF('D2'!$E30=\"\",\"\",'D2'!$E30)","v":10},null,2.8089887640449437E-2,null,{"$f":"IF('D2'!$E31=\"\",\"\",'D2'!$E31)","v":0},null,0,null,{"$f":"IF('D2'!$E32=\"\",\"\",'D2'!$E32)","v":5},null,1.4044943820224719E-2,null,{"$f":"IF('D2'!$E33=\"\",\"\",'D2'!$E33)","v":0},null,0,null,{"$f":"IF('D2'!$E34=\"\",\"\",'D2'!$E34)","v":18},null,5.0561797752808987E-2,null,{"$f":"IF('D2'!$E35=\"\",\"\",'D2'!$E35)","v":0},null,0]
[null,"D3  -  Châteaudun",null,null,{"$f":"IF('D3'!$E7=\"\",\"\",'D3'!$E7)","v":895},null,{"$f":"IF('D3'!$E8=\"\",\"\",'D3'!$E8)","v":365},null,{"$f":"IF('D3'!$E9=\"\",\"\",'D3'!$E9)","v":365},null,0.40782122905027934,null,{"$f":"IF('D3'!$E10=\"\",\"\",'D3'!$E10)","v":8},null,{"$f":"IF('D3'!$E11=\"\",\"\",'D3'!$E11)","v":7},null,{"$f":"IF('D3'!$E12=\"\",\"\",'D3'!$E12)","v":350},null,0.39106145251396646,null,{"$f":"IF('D3'!$E13=\"\",\"\",'D3'!$E13)","v":83},null,0.23714285714285716,null,{"$f":"IF('D3'!$E14=\"\",\"\",'D3'!$E14)","v":0},null,0,null,{"$f":"IF('D3'!$E15=\"\",\"\",'D3'!$E15)","v":7},null,0.02,null,{"$f":"IF('D3'!$E16=\"\",\"\",'D3'!$E16)","v":1},null,2.8571428571428571E-3,null,{"$f":"IF('D3'!$E17=\"\",\"\",'D3'!$E17)","v":42},null,0.12,null,{"$f":"IF('D3'!$E18=\"\",\"\",'D3'!$E18)","v":3},null,8.5714285714285719E-3,null,{"$f":"IF('D3'!$E19=\"\",\"\",'D3'!$E19)","v":32},null,9.1428571428571428E-2,null,{"$f":"IF('D3'!$E20=\"\",\"\",'D3'!$E20)","v":6},null,1.7142857142857144E-2,null,{"$f":"IF('D3'!$E21=\"\",\"\",'D3'!$E21)","v":0},null,0,null,{"$f":"IF('D3'!E22=\"\",\"\",'D3'!E22)","v":2},null,5.7142857142857143E-3,null,{"$f":"IF('D3'!$E23=\"\",\"\",'D3'!$E23)","v":1},null,2.8571428571428571E-3,null,{"$f":"IF('D3'!$E24=\"\",\"\",'D3'!$E24)","v":4},null,1.1428571428571429E-2,null,{"$f":"IF('D3'!$E25=\"\",\"\",'D3'!$E25)","v":4},null,1.1428571428571429E-2,null,{"$f":"IF('D3'!$E26=\"\",\"\",'D3'!$E26)","v":0},null,0,null,{"$f":"IF('D3'!$E27=\"\",\"\",'D3'!$E27)","v":103},null,0.29428571428571426,null,{"$f":"IF('D3'!$E28=\"\",\"\",'D3'!$E28)","v":21},null,0.06,null,{"$f":"IF('D3'!$E29=\"\",\"\",'D3'!$E29)","v":0},null,0,null,{"$f":"IF('D3'!$E30=\"\",\"\",'D3'!$E30)","v":9},null,2.5714285714285714E-2,null,{"$f":"IF('D3'!$E31=\"\",\"\",'D3'!$E31)","v":0},null,0,null,{"$f":"IF('D3'!$E32=\"\",\"\",'D3'!$E32)","v":5},null,1.4285714285714285E-2,null,{"$f":"IF('D3'!$E33=\"\",\"\",'D3'!$E33)","v":2},null,5.7142857142857143E-3,null,{"$f":"IF('D3'!$E34=\"\",\"\",'D3'!$E34)","v":25},null,7.1428571428571425E-2,null,{"$f":"IF('D3'!$E35=\"\",\"\",'D3'!$E35)","v":0},null,0]
[null,"Canton CENTRE",null,null,{"$f":"SUM(E$21:E$26)","v":5632},null,{"$f":"SUM(G21:G26)","v":2446},null,{"$f":"SUM(I21:I26)","v":2446},null,0.43430397727272729,null,{"$f":"SUM(M21:M26)","v":37},null,{"$f":"SUM(O21:O26)","v":35},null,{"$f":"SUM(Q21:Q26)","v":2374},null,0.42151988636363635,null,{"$f":"SUM(U21:U26)","v":710},null,{"$f":"IF(U27=0,0,U27/$Q27)","v":0.29907329401853411},null,{"$f":"SUM(Y21:Y26)","v":4},null,{"$f":"IF(Y27=0,0,Y27/$Q27)","v":1.6849199663016006E-3},null,{"$f":"SUM(AC21:AC26)","v":18},null,{"$f":"IF(AC27=0,0,AC27/$Q27)","v":7.582139848357203E-3},null,{"$f":"SUM(AG21:AG26)","v":2},null,{"$f":"IF(AG27=0,0,AG27/$Q27)","v":8.4245998315080029E-4},null,{"$f":"SUM(AK21:AK26)","v":350},null,{"$f":"IF(AK27=0,0,AK27/$Q27)","v":0.14743049705139005},null,{"$f":"SUM(AO21:AO26)","v":13},null,{"$f":"IF(AO27=0,0,AO27/$Q27)","v":5.4759898904802023E-3},null,{"$f":"SUM(AS21:AS26)","v":239},null,{"$f":"IF(AS27=0,0,AS27/$Q27)","v":0.10067396798652065},null,{"$f":"SUM(AW21:AW26)","v":42},null,{"$f":"IF(AW27=0,0,AW27/$Q27)","v":1.7691659646166806E-2},null,{"$f":"SUM(BA21:BA26)","v":1},null,{"$f":"IF(BA27=0,0,BA27/$Q27)","v":4.2122999157540015E-4},null,{"$f":"SUM(BE21:BE26)","v":11},null,{"$f":"IF(BE27=0,0,BE27/$Q27)","v":4.6335299073294017E-3},null,{"$f":"SUM(BI21:BI26)","v":5},null,{"$f":"IF(BI27=0,0,BI27/$Q27)","v":2.1061499578770007E-3},null,{"$f":"SUM(BM21:BM26)","v":13},null,{"$f":"IF(BM27=0,0,BM27/$Q27)","v":5.4759898904802023E-3},null,{"$f":"SUM(BQ21:BQ26)","v":27},null,{"$f":"IF(BQ27=0,0,BQ27/$Q27)","v":1.1373209772535805E-2},null,{"$f":"SUM(BU21:BU26)","v":0},null,{"$f":"IF(BU27=0,0,BU27/$Q27)","v":0},null,{"$f":"SUM(BY21:BY26)","v":483},null,{"$f":"IF(BY27=0,0,BY27/$Q27)","v":0.20345408593091829},null,{"$f":"SUM(CC21:CC26)","v":181},null,{"$f":"IF(CC27=0,0,CC27/$Q27)","v":7.6242628475147428E-2},null,{"$f":"SUM(CG21:CG26)","v":0},null,{"$f":"IF(CG27=0,0,CG27/$Q27)","v":0},null,{"$f":"SUM(CK21:CK26)","v":84},null,{"$f":"IF(CK27=0,0,CK27/$Q27)","v":3.5383319292333612E-2},null,{"$f":"SUM(CO21:CO26)","v":0},null,{"$f":"IF(CO27=0,0,CO27/$Q27)","v":0},null,{"$f":"SUM(CS21:CS26)","v":53},null,{"$f":"IF(CS27=0,0,CS27/$Q27)","v":2.2325189553496209E-2},null,{"$f":"SUM(CW21:CW26)","v":9},null,{"$f":"IF(CW27=0,0,CW27/$Q27)","v":3.7910699241786015E-3},null,{"$f":"SUM(DA21:DA26)","v":121},null,{"$f":"IF(DA27=0,0,DA27/$Q27)","v":5.0968828980623423E-2},null,{"$f":"SUM(DE21:DE26)","v":8},null,{"$f":"IF(DE27=0,0,DE27/$Q27)","v":3.3698399326032012E-3}]
[null,"E1  -  Raymond Aubert",null,null,{"$f":"IF('E1'!E$7=\"\",\"\",'E1'!E$7)","v":1168},null,{"$f":"IF('E1'!$E8=\"\",\"\",'E1'!$E8)","v":475},null,{"$f":"IF('E1'!$E9=\"\",\"\",'E1'!$E9)","v":475},null,0.40667808219178081,null,{"$f":"IF('E1'!$E10=\"\",\"\",'E1'!$E10)","v":10},null,{"$f":"IF('E1'!$E11=\"\",\"\",'E1'!$E11)","v":8},null,{"$f":"IF('E1'!$E12=\"\",\"\",'E1'!$E12)","v":457},null,0.39126712328767121,null,{"$f":"IF('E1'!$E13=\"\",\"\",'E1'!$E13)","v":117},null,{"$f":"IF(U28=\"\",\" \",U28/$Q28)","v":0.25601750547045954},null,{"$f":"IF('E1'!$E14=\"\",\"\",'E1'!$E14)","v":0},null,{"$f":"IF(Y28=\"\",\" \",Y28/$Q28)","v":0},null,{"$f":"IF('E1'!$E15=\"\",\"\",'E1'!$E15)","v":8},null,{"$f":"IF(AC28=\"\",\" \",AC28/$Q28)","v":1.7505470459518599E-2},null,{"$f":"IF('E1'!$E16=\"\",\"\",'E1'!$E16)","v":1},null,{"$f":"IF(AG28=\"\",\" \",AG28/$Q28)","v":2.1881838074398249E-3},null,{"$f":"IF('E1'!$E17=\"\",\"\",'E1'!$E17)","v":59},null,{"$f":"IF(AK28=\"\",\" \",AK28/$Q28)","v":0.12910284463894967},null,{"$f":"IF('E1'!$E18=\"\",\"\",'E1'!$E18)","v":1},null,{"$f":"IF(AO28=\"\",\" \",AO28/$Q28)","v":2.1881838074398249E-3},null,{"$f":"IF('E1'!$E19=\"\",\"\",'E1'!$E19)","v":48},null,{"$f":"IF(AS28=\"\",\" \",AS28/$Q28)","v":0.10503282275711159},null,{"$f":"IF('E1'!$E20=\"\",\"\",'E1'!$E20)","v":6},null,{"$f":"IF(AW28=\"\",\" \",AW28/$Q28)","v":1.3129102844638949E-2},null,{"$f":"IF('E1'!$E21=\"\",\"\",'E1'!$E21)","v":0},null,{"$f":"IF(BA28=\"\",\" \",BA28/$Q28)","v":0},null,{"$f":"IF('E1'!E22=\"\",\"\",'E1'!E22)","v":0},null,{"$f":"IF(BE28=\"\",\" \",BE28/$Q28)","v":0},null,{"$f":"IF('E1'!$E23=\"\",\"\",'E1'!$E23)","v":1},null,{"$f":"IF(BI28=\"\",\" \",BI28/$Q28)","v":2.1881838074398249E-3},null,{"$f":"IF('E1'!$E24=\"\",\"\",'E1'!$E24)","v":1},null,{"$f":"IF(BM28=\"\",\" \",BM28/$Q28)","v":2.1881838074398249E-3},null,{"$f":"IF('E1'!$E25=\"\",\"\",'E1'!$E25)","v":3},null,{"$f":"IF(BQ28=\"\",\" \",BQ28/$Q28)","v":6.5645514223194746E-3},null,{"$f":"IF('E1'!$E26=\"\",\"\",'E1'!$E26)","v":0},null,{"$f":"IF(BU28=\"\",\" \",BU28/$Q28)","v":0},null,{"$f":"IF('E1'!$E27=\"\",\"\",'E1'!$E27)","v":131},null,{"$f":"IF(BY28=\"\",\" \",BY28/$Q28)","v":0.28665207877461707},null,{"$f":"IF('E1'!$E28=\"\",\"\",'E1'!$E28)","v":30},null,{"$f":"IF(CC28=\"\",\" \",CC28/$Q28)","v":6.5645514223194742E-2},null,{"$f":"IF('E1'!$E29=\"\",\"\",'E1'!$E29)","v":0},null,{"$f":"IF(CG28=\"\",\" \",CG28/$Q28)","v":0},null,{"$f":"IF('E1'!$E30=\"\",\"\",'E1'!$E30)","v":16},null,{"$f":"IF(CK28=\"\",\" \",CK28/$Q28)","v":3.5010940919037198E-2},null,{"$f":"IF('E1'!$E31=\"\",\"\",'E1'!$E31)","v":0},null,{"$f":"IF(CO28=\"\",\" \",CO28/$Q28)","v":0},null,{"$f":"IF('E1'!$E32=\"\",\"\",'E1'!$E32)","v":12},null,{"$f":"IF(CS28=\"\",\" \",CS28/$Q28)","v":2.6258205689277898E-2},null,{"$f":"IF('E1'!$E33=\"\",\"\",'E1'!$E33)","v":0},null,{"$f":"IF(CW28=\"\",\" \",CW28/$Q28)","v":0},null,{"$f":"IF('E1'!$E34=\"\",\"\",'E1'!$E34)","v":23},null,{"$f":"IF(DA28=\"\",\" \",DA28/$Q28)","v":5.0328227571115977E-2},null,{"$f":"IF('E1'!$E35=\"\",\"\",'E1'!$E35)","v":0},null,{"$f":"IF(DE28=\"\",\" \",DE28/$Q28)","v":0}]
[null,"E2  -  Raymond Aubert",null,null,{"$f":"IF('E2'!$E7=\"\",\"\",'E2'!$E7)","v":1204},null,{"$f":"IF('E2'!$E8=\"\",\"\",'E2'!$E8)","v":452},null,{"$f":"IF('E2'!$E9=\"\",\"\",'E2'!$E9)","v":452},null,0.37541528239202659,null,{"$f":"IF('E2'!$E10=\"\",\"\",'E2'!$E10)","v":13},null,{"$f":"IF('E2'!$E11=\"\",\"\",'E2'!$E11)","v":8},null,{"$f":"IF('E2'!$E12=\"\",\"\",'E2'!$E12)","v":431},null,0.35797342192691028,null,{"$f":"IF('E2'!$E13=\"\",\"\",'E2'!$E13)","v":120},null,{"$f":"IF(U29=\"\",\" \",U29/$Q29)","v":0.27842227378190254},null,{"$f":"IF('E2'!$E14=\"\",\"\",'E2'!$E14)","v":0},null,{"$f":"IF(Y29=\"\",\" \",Y29/$Q29)","v":0},null,{"$f":"IF('E2'!$E15=\"\",\"\",'E2'!$E15)","v":5},null,{"$f":"IF(AC29=\"\",\" \",AC29/$Q29)","v":1.1600928074245939E-2},null,{"$f":"IF('E2'!$E16=\"\",\"\",'E2'!$E16)","v":2},null,{"$f":"IF(AG29=\"\",\" \",AG29/$Q29)","v":4.6403712296983757E-3},null,{"$f":"IF('E2'!$E17=\"\",\"\",'E2'!$E17)","v":51},null,{"$f":"IF(AK29=\"\",\" \",AK29/$Q29)","v":0.11832946635730858},null,{"$f":"IF('E2'!$E18=\"\",\"\",'E2'!$E18)","v":2},null,{"$f":"IF(AO29=\"\",\" \",AO29/$Q29)","v":4.6403712296983757E-3},null,{"$f":"IF('E2'!$E19=\"\",\"\",'E2'!$E19)","v":45},null,{"$f":"IF(AS29=\"\",\" \",AS29/$Q29)","v":0.10440835266821345},null,{"$f":"IF('E2'!$E20=\"\",\"\",'E2'!$E20)","v":11},null,{"$f":"IF(AW29=\"\",\" \",AW29/$Q29)","v":2.5522041763341066E-2},null,{"$f":"IF('E2'!$E21=\"\",\"\",'E2'!$E21)","v":0},null,{"$f":"IF(BA29=\"\",\" \",BA29/$Q29)","v":0},null,{"$f":"IF('E2'!E22=\"\",\"\",'E2'!E22)","v":1},null,{"$f":"IF(BE29=\"\",\" \",BE29/$Q29)","v":2.3201856148491878E-3},null,{"$f":"IF('E2'!$E23=\"\",\"\",'E2'!$E23)","v":3},null,{"$f":"IF(BI29=\"\",\" \",BI29/$Q29)","v":6.9605568445475635E-3},null,{"$f":"IF('E2'!$E24=\"\",\"\",'E2'!$E24)","v":3},null,{"$f":"IF(BM29=\"\",\" \",BM29/$Q29)","v":6.9605568445475635E-3},null,{"$f":"IF('E2'!$E25=\"\",\"\",'E2'!$E25)","v":4},null,{"$f":"IF(BQ29=\"\",\" \",BQ29/$Q29)","v":9.2807424593967514E-3},null,{"$f":"IF('E2'!$E26=\"\",\"\",'E2'!$E26)","v":0},null,{"$f":"IF(BU29=\"\",\" \",BU29/$Q29)","v":0},null,{"$f":"IF('E2'!$E27=\"\",\"\",'E2'!$E27)","v":122},null,{"$f":"IF(BY29=\"\",\" \",BY29/$Q29)","v":0.28306264501160094},null,{"$f":"IF('E2'!$E28=\"\",\"\",'E2'!$E28)","v":31},null,{"$f":"IF(CC29=\"\",\" \",CC29/$Q29)","v":7.1925754060324823E-2},null,{"$f":"IF('E2'!$E29=\"\",\"\",'E2'!$E29)","v":0},null,{"$f":"IF(CG29=\"\",\" \",CG29/$Q29)","v":0},null,{"$f":"IF('E2'!$E30=\"\",\"\",'E2'!$E30)","v":9},null,{"$f":"IF(CK29=\"\",\" \",CK29/$Q29)","v":2.0881670533642691E-2},null,{"$f":"IF('E2'!$E31=\"\",\"\",'E2'!$E31)","v":0},null,{"$f":"IF(CO29=\"\",\" \",CO29/$Q29)","v":0},null,{"$f":"IF('E2'!$E32=\"\",\"\",'E2'!$E32)","v":5},null,{"$f":"IF(CS29=\"\",\" \",CS29/$Q29)","v":1.1600928074245939E-2},null,{"$f":"IF('E2'!$E33=\"\",\"\",'E2'!$E33)","v":2},null,{"$f":"IF(CW29=\"\",\" \",CW29/$Q29)","v":4.6403712296983757E-3},null,{"$f":"IF('E2'!$E34=\"\",\"\",'E2'!$E34)","v":14},null,{"$f":"IF(DA29=\"\",\" \",DA29/$Q29)","v":3.248259860788863E-2},null,{"$f":"IF('E2'!$E35=\"\",\"\",'E2'!$E35)","v":1},null,{"$f":"IF(DE29=\"\",\" \",DE29/$Q29)","v":2.3201856148491878E-3}]
[null,"E3  -  Raymond Aubert",null,null,{"$f":"IF('E3'!$E7=\"\",\"\",'E3'!$E7)","v":1030},null,{"$f":"IF('E3'!$E8=\"\",\"\",'E3'!$E8)","v":389},null,{"$f":"IF('E3'!$E9=\"\",\"\",'E3'!$E9)","v":389},null,0.37766990291262137,null,{"$f":"IF('E3'!$E10=\"\",\"\",'E3'!$E10)","v":12},null,{"$f":"IF('E3'!$E11=\"\",\"\",'E3'!$E11)","v":11},null,{"$f":"IF('E3'!$E12=\"\",\"\",'E3'!$E12)","v":366},null,0.35533980582524272,null,{"$f":"IF('E3'!$E13=\"\",\"\",'E3'!$E13)","v":81},null,{"$f":"IF(U30=\"\",\" \",U30/$Q30)","v":0.22131147540983606},null,{"$f":"IF('E3'!$E14=\"\",\"\",'E3'!$E14)","v":0},null,{"$f":"IF(Y30=\"\",\" \",Y30/$Q30)","v":0},null,{"$f":"IF('E3'!$E15=\"\",\"\",'E3'!$E15)","v":10},null,{"$f":"IF(AC30=\"\",\" \",AC30/$Q30)","v":2.7322404371584699E-2},null,{"$f":"IF('E3'!$E16=\"\",\"\",'E3'!$E16)","v":1},null,{"$f":"IF(AG30=\"\",\" \",AG30/$Q30)","v":2.7322404371584699E-3},null,{"$f":"IF('E3'!$E17=\"\",\"\",'E3'!$E17)","v":58},null,{"$f":"IF(AK30=\"\",\" \",AK30/$Q30)","v":0.15846994535519127},null,{"$f":"IF('E3'!$E18=\"\",\"\",'E3'!$E18)","v":0},null,{"$f":"IF(AO30=\"\",\" \",AO30/$Q30)","v":0},null,{"$f":"IF('E3'!$E19=\"\",\"\",'E3'!$E19)","v":31},null,{"$f":"IF(AS30=\"\",\" \",AS30/$Q30)","v":8.4699453551912565E-2},null,{"$f":"IF('E3'!$E20=\"\",\"\",'E3'!$E20)","v":7},null,{"$f":"IF(AW30=\"\",\" \",AW30/$Q30)","v":1.912568306010929E-2},null,{"$f":"IF('E3'!$E21=\"\",\"\",'E3'!$E21)","v":0},null,{"$f":"IF(BA30=\"\",\" \",BA30/$Q30)","v":0},null,{"$f":"IF('E3'!E22=\"\",\"\",'E3'!E22)","v":2},null,{"$f":"IF(BE30=\"\",\" \",BE30/$Q30)","v":5.4644808743169399E-3},null,{"$f":"IF('E3'!$E23=\"\",\"\",'E3'!$E23)","v":1},null,2.7322404371584699E-3,null,{"$f":"IF('E3'!$E24=\"\",\"\",'E3'!$E24)","v":0},null,0,null,{"$f":"IF('E3'!$E25=\"\",\"\",'E3'!$E25)","v":1},null,2.7322404371584699E-3,null,{"$f":"IF('E3'!$E26=\"\",\"\",'E3'!$E26)","v":0},null,0,null,{"$f":"IF('E3'!$E27=\"\",\"\",'E3'!$E27)","v":103},null,0.28142076502732238,null,{"$f":"IF('E3'!$E28=\"\",\"\",'E3'!$E28)","v":25},null,6.8306010928961755E-2,null,{"$f":"IF('E3'!$E29=\"\",\"\",'E3'!$E29)","v":0},null,0,null,{"$f":"IF('E3'!$E30=\"\",\"\",'E3'!$E30)","v":12},null,3.2786885245901641E-2,null,{"$f":"IF('E3'!$E31=\"\",\"\",'E3'!$E31)","v":0},null,0,null,{"$f":"IF('E3'!$E32=\"\",\"\",'E3'!$E32)","v":11},null,3.0054644808743168E-2,null,{"$f":"IF('E3'!$E33=\"\",\"\",'E3'!$E33)","v":1},null,2.7322404371584699E-3,null,{"$f":"IF('E3'!$E34=\"\",\"\",'E3'!$E34)","v":22},null,6.0109289617486336E-2,null,{"$f":"IF('E3'!$E35=\"\",\"\",'E3'!$E35)","v":0},null,0]
[null,"F1  -  Maison de l'enfant",null,null,{"$f":"IF('F1'!$E7=\"\",\"\",'F1'!$E7)","v":768},null,{"$f":"IF('F1'!$E8=\"\",\"\",'F1'!$E8)","v":331},null,{"$f":"IF('F1'!$E9=\"\",\"\",'F1'!$E9)","v":331},null,0.43098958333333331,null,{"$f":"IF('F1'!$E10=\"\",\"\",'F1'!$E10)","v":4},null,{"$f":"IF('F1'!$E11=\"\",\"\",'F1'!$E11)","v":9},null,{"$f":"IF('F1'!$E12=\"\",\"\",'F1'!$E12)","v":318},null,0.4140625,null,{"$f":"IF('F1'!$E13=\"\",\"\",'F1'!$E13)","v":72},null,{"$f":"IF(U31=\"\",\" \",U31/$Q31)","v":0.22641509433962265},null,{"$f":"IF('F1'!$E14=\"\",\"\",'F1'!$E14)","v":0},null,{"$f":"IF(Y31=\"\",\" \",Y31/$Q31)","v":0},null,{"$f":"IF('F1'!$E15=\"\",\"\",'F1'!$E15)","v":9},null,{"$f":"IF(AC31=\"\",\" \",AC31/$Q31)","v":2.8301886792452831E-2},null,{"$f":"IF('F1'!$E16=\"\",\"\",'F1'!$E16)","v":0},null,{"$f":"IF(AG31=\"\",\" \",AG31/$Q31)","v":0},null,{"$f":"IF('F1'!$E17=\"\",\"\",'F1'!$E17)","v":48},null,{"$f":"IF(AK31=\"\",\" \",AK31/$Q31)","v":0.15094339622641509},null,{"$f":"IF('F1'!$E18=\"\",\"\",'F1'!$E18)","v":3},null,{"$f":"IF(AO31=\"\",\" \",AO31/$Q31)","v":9.433962264150943E-3},null,{"$f":"IF('F1'!$E19=\"\",\"\",'F1'!$E19)","v":37},null,{"$f":"IF(AS31=\"\",\" \",AS31/$Q31)","v":0.11635220125786164},null,{"$f":"IF('F1'!$E20=\"\",\"\",'F1'!$E20)","v":12},null,{"$f":"IF(AW31=\"\",\" \",AW31/$Q31)","v":3.7735849056603772E-2},null,{"$f":"IF('F1'!$E21=\"\",\"\",'F1'!$E21)","v":0},null,{"$f":"IF(BA31=\"\",\" \",BA31/$Q31)","v":0},null,{"$f":"IF('F1'!E22=\"\",\"\",'F1'!E22)","v":1},null,{"$f":"IF(BE31=\"\",\" \",BE31/$Q31)","v":3.1446540880503146E-3},null,{"$f":"IF('F1'!$E23=\"\",\"\",'F1'!$E23)","v":0},null,0,null,{"$f":"IF('F1'!$E24=\"\",\"\",'F1'!$E24)","v":2},null,6.2893081761006293E-3,null,{"$f":"IF('F1'!$E25=\"\",\"\",'F1'!$E25)","v":2},null,6.2893081761006293E-3,null,{"$f":"IF('F1'!$E26=\"\",\"\",'F1'!$E26)","v":0},null,0,null,{"$f":"IF('F1'!$E27=\"\",\"\",'F1'!$E27)","v":66},null,0.20754716981132076,null,{"$f":"IF('F1'!$E28=\"\",\"\",'F1'!$E28)","v":21},null,6.6037735849056603E-2,null,{"$f":"IF('F1'!$E29=\"\",\"\",'F1'!$E29)","v":0},null,0,null,{"$f":"IF('F1'!$E30=\"\",\"\",'F1'!$E30)","v":8},null,2.5157232704402517E-2,null,{"$f":"IF('F1'!$E31=\"\",\"\",'F1'!$E31)","v":0},null,0,null,{"$f":"IF('F1'!$E32=\"\",\"\",'F1'!$E32)","v":10},null,3.1446540880503145E-2,null,{"$f":"IF('F1'!$E33=\"\",\"\",'F1'!$E33)","v":2},null,6.2893081761006293E-3,null,{"$f":"IF('F1'!$E34=\"\",\"\",'F1'!$E34)","v":25},null,7.8616352201257858E-2,null,{"$f":"IF('F1'!$E35=\"\",\"\",'F1'!$E35)","v":0},null,0]
[null,"F2  -  Émile Géhant",null,null,{"$f":"IF('F2'!$E7=\"\",\"\",'F2'!$E7)","v":516},null,{"$f":"IF('F2'!$E8=\"\",\"\",'F2'!$E8)","v":224},null,{"$f":"IF('F2'!$E9=\"\",\"\",'F2'!$E9)","v":224},null,0.43410852713178294,null,{"$f":"IF('F2'!$E10=\"\",\"\",'F2'!$E10)","v":6},null,{"$f":"IF('F2'!$E11=\"\",\"\",'F2'!$E11)","v":3},null,{"$f":"IF('F2'!$E12=\"\",\"\",'F2'!$E12)","v":215},null,0.41666666666666669,null,{"$f":"IF('F2'!$E13=\"\",\"\",'F2'!$E13)","v":27},null,{"$f":"IF(U32=\"\",\" \",U32/$Q32)","v":0.12558139534883722},null,{"$f":"IF('F2'!$E14=\"\",\"\",'F2'!$E14)","v":0},null,{"$f":"IF(Y32=\"\",\" \",Y32/$Q32)","v":0},null,{"$f":"IF('F2'!$E15=\"\",\"\",'F2'!$E15)","v":6},null,{"$f":"IF(AC32=\"\",\" \",AC32/$Q32)","v":2.7906976744186046E-2},null,{"$f":"IF('F2'!$E16=\"\",\"\",'F2'!$E16)","v":0},null,{"$f":"IF(AG32=\"\",\" \",AG32/$Q32)","v":0},null,{"$f":"IF('F2'!$E17=\"\",\"\",'F2'!$E17)","v":25},null,{"$f":"IF(AK32=\"\",\" \",AK32/$Q32)","v":0.11627906976744186},null,{"$f":"IF('F2'!$E18=\"\",\"\",'F2'!$E18)","v":0},null,{"$f":"IF(AO32=\"\",\" \",AO32/$Q32)","v":0},null,{"$f":"IF('F2'!$E19=\"\",\"\",'F2'!$E19)","v":13},null,{"$f":"IF(AS32=\"\",\" \",AS32/$Q32)","v":6.0465116279069767E-2},null,{"$f":"IF('F2'!$E20=\"\",\"\",'F2'!$E20)","v":11},null,{"$f":"IF(AW32=\"\",\" \",AW32/$Q32)","v":5.1162790697674418E-2},null,{"$f":"IF('F2'!$E21=\"\",\"\",'F2'!$E21)","v":0},null,{"$f":"IF(BA32=\"\",\" \",BA32/$Q32)","v":0},null,{"$f":"IF('F2'!E22=\"\",\"\",'F2'!E22)","v":0},null,{"$f":"IF(BE32=\"\",\" \",BE32/$Q32)","v":0},null,{"$f":"IF('F2'!$E23=\"\",\"\",'F2'!$E23)","v":1},null,4.6511627906976744E-3,null,{"$f":"IF('F2'!$E24=\"\",\"\",'F2'!$E24)","v":1},null,4.6511627906976744E-3,null,{"$f":"IF('F2'!$E25=\"\",\"\",'F2'!$E25)","v":1},null,4.6511627906976744E-3,null,{"$f":"IF('F2'!$E26=\"\",\"\",'F2'!$E26)","v":0},null,0,null,{"$f":"IF('F2'!$E27=\"\",\"\",'F2'!$E27)","v":71},null,0.33023255813953489,null,{"$f":"IF('F2'!$E28=\"\",\"\",'F2'!$E28)","v":22},null,0.10232558139534884,null,{"$f":"IF('F2'!$E29=\"\",\"\",'F2'!$E29)","v":0},null,0,null,{"$f":"IF('F2'!$E30=\"\",\"\",'F2'!$E30)","v":4},null,1.8604651162790697E-2,null,{"$f":"IF('F2'!$E31=\"\",\"\",'F2'!$E31)","v":0},null,0,null,{"$f":"IF('F2'!$E32=\"\",\"\",'F2'!$E32)","v":2},null,9.3023255813953487E-3,null,{"$f":"IF('F2'!$E33=\"\",\"\",'F2'!$E33)","v":3},null,1.3953488372093023E-2,null,{"$f":"IF('F2'!$E34=\"\",\"\",'F2'!$E34)","v":27},null,0.12558139534883722,null,{"$f":"IF('F2'!$E35=\"\",\"\",'F2'!$E35)","v":1},null,4.6511627906976744E-3]
[null,"Canton NORD",null,null,{"$f":"SUM(E$28:E$32)","v":4686},null,{"$f":"SUM(G28:G32)","v":1871},null,{"$f":"SUM(I28:I32)","v":1871},null,0.3992744344857021,null,{"$f":"SUM(M28:M32)","v":45},null,{"$f":"SUM(O28:O32)","v":39},null,{"$f":"SUM(Q28:Q32)","v":1787},null,0.3813486982501067,null,{"$f":"SUM(U28:U32)","v":417},null,{"$f":"IF(U33=0,0,U33/$Q33)","v":0.23335198656966985},null,{"$f":"SUM(Y28:Y32)","v":0},null,{"$f":"IF(Y33=0,0,Y33/$Q33)","v":0},null,{"$f":"SUM(AC28:AC32)","v":38},null,{"$f":"IF(AC33=0,0,AC33/$Q33)","v":2.1264689423614997E-2},null,{"$f":"SUM(AG28:AG32)","v":4},null,{"$f":"IF(AG33=0,0,AG33/$Q33)","v":2.2383883603805262E-3},null,{"$f":"SUM(AK28:AK32)","v":241},null,{"$f":"IF(AK33=0,0,AK33/$Q33)","v":0.1348628987129267},null,{"$f":"SUM(AO28:AO32)","v":6},null,{"$f":"IF(AO33=0,0,AO33/$Q33)","v":3.3575825405707891E-3},null,{"$f":"SUM(AS28:AS32)","v":174},null,{"$f":"IF(AS33=0,0,AS33/$Q33)","v":9.7369893676552882E-2},null,{"$f":"SUM(AW28:AW32)","v":47},null,{"$f":"IF(AW33=0,0,AW33/$Q33)","v":2.6301063234471182E-2},null,{"$f":"SUM(BA28:BA32)","v":0},null,{"$f":"IF(BA33=0,0,BA33/$Q33)","v":0},null,{"$f":"SUM(BE28:BE32)","v":4},null,{"$f":"IF(BE33=0,0,BE33/$Q33)","v":2.2383883603805262E-3},null,{"$f":"SUM(BI28:BI32)","v":6},null,{"$f":"IF(BI33=0,0,BI33/$Q33)","v":3.3575825405707891E-3},null,{"$f":"SUM(BM28:BM32)","v":7},null,{"$f":"IF(BM33=0,0,BM33/$Q33)","v":3.9171796306659203E-3},null,{"$f":"SUM(BQ28:BQ32)","v":11},null,{"$f":"IF(BQ33=0,0,BQ33/$Q33)","v":6.155567991046447E-3},null,{"$f":"SUM(BU28:BU32)","v":0},null,{"$f":"IF(BU33=0,0,BU33/$Q33)","v":0},null,{"$f":"SUM(BY28:BY32)","v":493},null,{"$f":"IF(BY33=0,0,BY33/$Q33)","v":0.27588136541689984},null,{"$f":"SUM(CC28:CC32)","v":129},null,{"$f":"IF(CC33=0,0,CC33/$Q33)","v":7.218802462227196E-2},null,{"$f":"SUM(CG28:CG32)","v":0},null,{"$f":"IF(CG33=\"\",\" \",CG33/$Q33)","v":0},null,{"$f":"SUM(CK28:CK32)","v":49},null,{"$f":"IF(CK33=0,0,CK33/$Q33)","v":2.7420257414661444E-2},null,{"$f":"SUM(CO28:CO32)","v":0},null,{"$f":"IF(CO33=0,0,CO33/$Q33)","v":0},null,{"$f":"SUM(CS28:CS32)","v":40},null,{"$f":"IF(CS33=0,0,CS33/$Q33)","v":2.238388360380526E-2},null,{"$f":"SUM(CW28:CW32)","v":8},null,{"$f":"IF(CW33=0,0,CW33/$Q33)","v":4.4767767207610524E-3},null,{"$f":"SUM(DA28:DA32)","v":111},null,{"$f":"IF(DA33=0,0,DA33/$Q33)","v":6.2115277000559597E-2},null,{"$f":"SUM(DE28:DE32)","v":2},null,{"$f":"IF(DE33=0,0,DE33/$Q33)","v":1.1191941801902631E-3}]
[null,"G1  -  Hubert Metzger",null,null,{"$f":"IF('G1'!$E7=\"\",\"\",'G1'!$E7)","v":650},null,{"$f":"IF('G1'!$E8=\"\",\"\",'G1'!$E8)","v":266},null,{"$f":"IF('G1'!$E9=\"\",\"\",'G1'!$E9)","v":266},null,0.40923076923076923,null,{"$f":"IF('G1'!$E10=\"\",\"\",'G1'!$E10)","v":7},null,{"$f":"IF('G1'!$E11=\"\",\"\",'G1'!$E11)","v":7},null,{"$f":"IF('G1'!$E12=\"\",\"\",'G1'!$E12)","v":252},null,0.38769230769230767,null,{"$f":"IF('G1'!$E13=\"\",\"\",'G1'!$E13)","v":31},null,{"$f":"IF(U34=\"\",\" \",U34/$Q34)","v":0.12301587301587301},null,{"$f":"IF('G1'!$E14=\"\",\"\",'G1'!$E14)","v":1},null,{"$f":"IF(Y34=\"\",\" \",Y34/$Q34)","v":3.968253968253968E-3},null,{"$f":"IF('G1'!$E15=\"\",\"\",'G1'!$E15)","v":5},null,{"$f":"IF(AC34=\"\",\" \",AC34/$Q34)","v":1.984126984126984E-2},null,{"$f":"IF('G1'!$E16=\"\",\"\",'G1'!$E16)","v":0},null,{"$f":"IF(AG34=\"\",\" \",AG34/$Q34)","v":0},null,{"$f":"IF('G1'!$E17=\"\",\"\",'G1'!$E17)","v":29},null,{"$f":"IF(AK34=\"\",\" \",AK34/$Q34)","v":0.11507936507936507},null,{"$f":"IF('G1'!$E18=\"\",\"\",'G1'!$E18)","v":1},null,{"$f":"IF(AO34=\"\",\" \",AO34/$Q34)","v":3.968253968253968E-3},null,{"$f":"IF('G1'!$E19=\"\",\"\",'G1'!$E19)","v":31},null,{"$f":"IF(AS34=\"\",\" \",AS34/$Q34)","v":0.12301587301587301},null,{"$f":"IF('G1'!$E20=\"\",\"\",'G1'!$E20)","v":7},null,{"$f":"IF(AW34=\"\",\" \",AW34/$Q34)","v":2.7777777777777776E-2},null,{"$f":"IF('G1'!$E21=\"\",\"\",'G1'!$E21)","v":0},null,{"$f":"IF(BA34=\"\",\" \",BA34/$Q34)","v":0},null,{"$f":"IF('G1'!E22=\"\",\"\",'G1'!E22)","v":3},null,{"$f":"IF(BE34=\"\",\" \",BE34/$Q34)","v":1.1904761904761904E-2},null,{"$f":"IF('G1'!$E23=\"\",\"\",'G1'!$E23)","v":0},null,{"$f":"IF(BI34=\"\",\" \",BI34/$Q34)","v":0},null,{"$f":"IF('G1'!$E24=\"\",\"\",'G1'!$E24)","v":0},null,{"$f":"IF(BM34=\"\",\" \",BM34/$Q34)","v":0},null,{"$f":"IF('G1'!$E25=\"\",\"\",'G1'!$E25)","v":1},null,{"$f":"IF(BQ34=\"\",\" \",BQ34/$Q34)","v":3.968253968253968E-3},null,{"$f":"IF('G1'!$E26=\"\",\"\",'G1'!$E26)","v":0},null,{"$f":"IF(BU34=\"\",\" \",BU34/$Q34)","v":0},null,{"$f":"IF('G1'!$E27=\"\",\"\",'G1'!$E27)","v":67},null,{"$f":"IF(BY34=\"\",\" \",BY34/$Q34)","v":0.26587301587301587},null,{"$f":"IF('G1'!$E28=\"\",\"\",'G1'!$E28)","v":29},null,{"$f":"IF(CC34=\"\",\" \",CC34/$Q34)","v":0.11507936507936507},null,{"$f":"IF('G1'!$E29=\"\",\"\",'G1'!$E29)","v":0},null,{"$f":"IF(CG34=\"\",\" \",CG34/$Q34)","v":0},null,{"$f":"IF('G1'!$E30=\"\",\"\",'G1'!$E30)","v":7},null,{"$f":"IF(CK34=\"\",\" \",CK34/$Q34)","v":2.7777777777777776E-2},null,{"$f":"IF('G1'!$E31=\"\",\"\",'G1'!$E31)","v":0},null,{"$f":"IF(CO34=\"\",\" \",CO34/$Q34)","v":0},null,{"$f":"IF('G1'!$E32=\"\",\"\",'G1'!$E32)","v":4},null,{"$f":"IF(CS34=\"\",\" \",CS34/$Q34)","v":1.5873015873015872E-2},null,{"$f":"IF('G1'!$E33=\"\",\"\",'G1'!$E33)","v":4},null,{"$f":"IF(CW34=\"\",\" \",CW34/$Q34)","v":1.5873015873015872E-2},null,{"$f":"IF('G1'!$E34=\"\",\"\",'G1'!$E34)","v":31},null,{"$f":"IF(DA34=\"\",\" \",DA34/$Q34)","v":0.12301587301587301},null,{"$f":"IF('G1'!$E35=\"\",\"\",'G1'!$E35)","v":1},null,{"$f":"IF(DE34=\"\",\" \",DE34/$Q34)","v":3.968253968253968E-3}]
[null,"G2  -  Hubert Metzger",null,null,{"$f":"IF('G2'!$E7=\"\",\"\",'G2'!$E7)","v":753},null,{"$f":"IF('G2'!$E8=\"\",\"\",'G2'!$E8)","v":250},null,{"$f":"IF('G2'!$E9=\"\",\"\",'G2'!$E9)","v":250},null,0.33200531208499334,null,{"$f":"IF('G2'!$E10=\"\",\"\",'G2'!$E10)","v":7},null,{"$f":"IF('G2'!$E11=\"\",\"\",'G2'!$E11)","v":6},null,{"$f":"IF('G2'!$E12=\"\",\"\",'G2'!$E12)","v":237},null,0.3147410358565737,null,{"$f":"IF('G2'!$E13=\"\",\"\",'G2'!$E13)","v":41},null,0.1729957805907173,null,{"$f":"IF('G2'!$E14=\"\",\"\",'G2'!$E14)","v":0},null,0,null,{"$f":"IF('G2'!$E15=\"\",\"\",'G2'!$E15)","v":2},null,8.4388185654008432E-3,null,{"$f":"IF('G2'!$E16=\"\",\"\",'G2'!$E16)","v":2},null,8.4388185654008432E-3,null,{"$f":"IF('G2'!$E17=\"\",\"\",'G2'!$E17)","v":49},null,0.20675105485232068,null,{"$f":"IF('G2'!$E18=\"\",\"\",'G2'!$E18)","v":0},null,0,null,{"$f":"IF('G2'!$E19=\"\",\"\",'G2'!$E19)","v":14},null,5.9071729957805907E-2,null,{"$f":"IF('G2'!$E20=\"\",\"\",'G2'!$E20)","v":4},null,1.6877637130801686E-2,null,{"$f":"IF('G2'!$E21=\"\",\"\",'G2'!$E21)","v":0},null,0,null,{"$f":"IF('G2'!E22=\"\",\"\",'G2'!E22)","v":1},null,4.2194092827004216E-3,null,{"$f":"IF('G2'!$E23=\"\",\"\",'G2'!$E23)","v":0},null,{"$f":"IF(BI35=\"\",\" \",BI35/$Q35)","v":0},null,{"$f":"IF('G2'!$E24=\"\",\"\",'G2'!$E24)","v":2},null,{"$f":"IF(BM35=\"\",\" \",BM35/$Q35)","v":8.4388185654008432E-3},null,{"$f":"IF('G2'!$E25=\"\",\"\",'G2'!$E25)","v":0},null,{"$f":"IF(BQ35=\"\",\" \",BQ35/$Q35)","v":0},null,{"$f":"IF('G2'!$E26=\"\",\"\",'G2'!$E26)","v":0},null,{"$f":"IF(BU35=\"\",\" \",BU35/$Q35)","v":0},null,{"$f":"IF('G2'!$E27=\"\",\"\",'G2'!$E27)","v":75},null,{"$f":"IF(BY35=\"\",\" \",BY35/$Q35)","v":0.31645569620253167},null,{"$f":"IF('G2'!$E28=\"\",\"\",'G2'!$E28)","v":11},null,{"$f":"IF(CC35=\"\",\" \",CC35/$Q35)","v":4.6413502109704644E-2},null,{"$f":"IF('G2'!$E29=\"\",\"\",'G2'!$E29)","v":0},null,{"$f":"IF(CG35=\"\",\" \",CG35/$Q35)","v":0},null,{"$f":"IF('G2'!$E30=\"\",\"\",'G2'!$E30)","v":4},null,{"$f":"IF(CK35=\"\",\" \",CK35/$Q35)","v":1.6877637130801686E-2},null,{"$f":"IF('G2'!$E31=\"\",\"\",'G2'!$E31)","v":0},null,{"$f":"IF(CO35=\"\",\" \",CO35/$Q35)","v":0},null,{"$f":"IF('G2'!$E32=\"\",\"\",'G2'!$E32)","v":9},null,{"$f":"IF(CS35=\"\",\" \",CS35/$Q35)","v":3.7974683544303799E-2},null,{"$f":"IF('G2'!$E33=\"\",\"\",'G2'!$E33)","v":1},null,{"$f":"IF(CW35=\"\",\" \",CW35/$Q35)","v":4.2194092827004216E-3},null,{"$f":"IF('G2'!$E34=\"\",\"\",'G2'!$E34)","v":22},null,{"$f":"IF(DA35=\"\",\" \",DA35/$Q35)","v":9.2827004219409287E-2},null,{"$f":"IF('G2'!$E35=\"\",\"\",'G2'!$E35)","v":0},null,{"$f":"IF(DE35=\"\",\" \",DE35/$Q35)","v":0}]
[null,"H1  -  Léonard de Vinci",null,null,{"$f":"IF('H1'!$E7=\"\",\"\",'H1'!$E7)","v":1037},null,{"$f":"IF('H1'!$E8=\"\",\"\",'H1'!$E8)","v":377},null,{"$f":"IF('H1'!$E9=\"\",\"\",'H1'!$E9)","v":377},null,0.36354869816779173,null,{"$f":"IF('H1'!$E10=\"\",\"\",'H1'!$E10)","v":7},null,{"$f":"IF('H1'!$E11=\"\",\"\",'H1'!$E11)","v":5},null,{"$f":"IF('H1'!$E12=\"\",\"\",'H1'!$E12)","v":365},null,0.35197685631629699,null,{"$f":"IF('H1'!$E13=\"\",\"\",'H1'!$E13)","v":87},null,0.23835616438356164,null,{"$f":"IF('H1'!$E14=\"\",\"\",'H1'!$E14)","v":0},null,0,null,{"$f":"IF('H1'!$E15=\"\",\"\",'H1'!$E15)","v":9},null,2.4657534246575342E-2,null,{"$f":"IF('H1'!$E16=\"\",\"\",'H1'!$E16)","v":1},null,2.7397260273972603E-3,null,{"$f":"IF('H1'!$E17=\"\",\"\",'H1'!$E17)","v":54},null,0.14794520547945206,null,{"$f":"IF('H1'!$E18=\"\",\"\",'H1'!$E18)","v":4},null,1.0958904109589041E-2,null,{"$f":"IF('H1'!$E19=\"\",\"\",'H1'!$E19)","v":29},null,7.9452054794520555E-2,null,{"$f":"IF('H1'!$E20=\"\",\"\",'H1'!$E20)","v":3},null,8.21917808219178E-3,null,{"$f":"IF('H1'!$E21=\"\",\"\",'H1'!$E21)","v":0},null,0,null,{"$f":"IF('H1'!E22=\"\",\"\",'H1'!E22)","v":1},null,2.7397260273972603E-3,null,{"$f":"IF('H1'!$E23=\"\",\"\",'H1'!$E23)","v":0},null,0,null,{"$f":"IF('H1'!$E24=\"\",\"\",'H1'!$E24)","v":0},null,0,null,{"$f":"IF('H1'!$E25=\"\",\"\",'H1'!$E25)","v":5},null,1.3698630136986301E-2,null,{"$f":"IF('H1'!$E26=\"\",\"\",'H1'!$E26)","v":0},null,0,null,{"$f":"IF('H1'!$E27=\"\",\"\",'H1'!$E27)","v":96},null,0.26301369863013696,null,{"$f":"IF('H1'!$E28=\"\",\"\",'H1'!$E28)","v":30},null,8.2191780821917804E-2,null,{"$f":"IF('H1'!$E29=\"\",\"\",'H1'!$E29)","v":0},null,0,null,{"$f":"IF('H1'!$E30=\"\",\"\",'H1'!$E30)","v":11},null,3.0136986301369864E-2,null,{"$f":"IF('H1'!$E31=\"\",\"\",'H1'!$E31)","v":0},null,0,null,{"$f":"IF('H1'!$E32=\"\",\"\",'H1'!$E32)","v":8},null,2.1917808219178082E-2,null,{"$f":"IF('H1'!$E33=\"\",\"\",'H1'!$E33)","v":1},null,2.7397260273972603E-3,null,{"$f":"IF('H1'!$E34=\"\",\"\",'H1'!$E34)","v":26},null,7.1232876712328766E-2,null,{"$f":"IF('H1'!$E35=\"\",\"\",'H1'!$E35)","v":0},null,0]
[null,"J1  -  René Rücklin",null,null,{"$f":"IF('J1'!$E7=\"\",\"\",'J1'!$E7)","v":591},null,{"$f":"IF('J1'!$E8=\"\",\"\",'J1'!$E8)","v":179},null,{"$f":"IF('J1'!$E9=\"\",\"\",'J1'!$E9)","v":179},null,0.30287648054145516,null,{"$f":"IF('J1'!$E10=\"\",\"\",'J1'!$E10)","v":8},null,{"$f":"IF('J1'!$E11=\"\",\"\",'J1'!$E11)","v":7},null,{"$f":"IF('J1'!$E12=\"\",\"\",'J1'!$E12)","v":164},null,0.27749576988155666,null,{"$f":"IF('J1'!$E13=\"\",\"\",'J1'!$E13)","v":23},null,0.1402439024390244,null,{"$f":"IF('J1'!$E14=\"\",\"\",'J1'!$E14)","v":0},null,0,null,{"$f":"IF('J1'!$E15=\"\",\"\",'J1'!$E15)","v":7},null,4.2682926829268296E-2,null,{"$f":"IF('J1'!$E16=\"\",\"\",'J1'!$E16)","v":1},null,6.0975609756097563E-3,null,{"$f":"IF('J1'!$E17=\"\",\"\",'J1'!$E17)","v":21},null,0.12804878048780488,null,{"$f":"IF('J1'!$E18=\"\",\"\",'J1'!$E18)","v":0},null,0,null,{"$f":"IF('J1'!$E19=\"\",\"\",'J1'!$E19)","v":10},null,6.097560975609756E-2,null,{"$f":"IF('J1'!$E20=\"\",\"\",'J1'!$E20)","v":1},null,6.0975609756097563E-3,null,{"$f":"IF('J1'!$E21=\"\",\"\",'J1'!$E21)","v":0},null,0,null,{"$f":"IF('J1'!E22=\"\",\"\",'J1'!E22)","v":1},null,6.0975609756097563E-3,null,{"$f":"IF('J1'!$E23=\"\",\"\",'J1'!$E23)","v":1},null,6.0975609756097563E-3,null,{"$f":"IF('J1'!$E24=\"\",\"\",'J1'!$E24)","v":1},null,6.0975609756097563E-3,null,{"$f":"IF('J1'!$E25=\"\",\"\",'J1'!$E25)","v":1},null,6.0975609756097563E-3,null,{"$f":"IF('J1'!$E26=\"\",\"\",'J1'!$E26)","v":0},null,0,null,{"$f":"IF('J1'!$E27=\"\",\"\",'J1'!$E27)","v":66},null,0.40243902439024393,null,{"$f":"IF('J1'!$E28=\"\",\"\",'J1'!$E28)","v":8},null,4.878048780487805E-2,null,{"$f":"IF('J1'!$E29=\"\",\"\",'J1'!$E29)","v":0},null,0,null,{"$f":"IF('J1'!$E30=\"\",\"\",'J1'!$E30)","v":5},null,3.048780487804878E-2,null,{"$f":"IF('J1'!$E31=\"\",\"\",'J1'!$E31)","v":0},null,0,null,{"$f":"IF('J1'!$E32=\"\",\"\",'J1'!$E32)","v":2},null,1.2195121951219513E-2,null,{"$f":"IF('J1'!$E33=\"\",\"\",'J1'!$E33)","v":4},null,2.4390243902439025E-2,null,{"$f":"IF('J1'!$E34=\"\",\"\",'J1'!$E34)","v":12},null,7.3170731707317069E-2,null,{"$f":"IF('J1'!$E35=\"\",\"\",'J1'!$E35)","v":0},null,0]
[null,"J2  -  René Rücklin",null,null,{"$f":"IF('J2'!$E7=\"\",\"\",'J2'!$E7)","v":813},null,{"$f":"IF('J2'!$E8=\"\",\"\",'J2'!$E8)","v":244},null,{"$f":"IF('J2'!$E9=\"\",\"\",'J2'!$E9)","v":244},null,0.30012300123001229,null,{"$f":"IF('J2'!$E10=\"\",\"\",'J2'!$E10)","v":6},null,{"$f":"IF('J2'!$E11=\"\",\"\",'J2'!$E11)","v":1},null,{"$f":"IF('J2'!$E12=\"\",\"\",'J2'!$E12)","v":237},null,0.29151291512915128,null,{"$f":"IF('J2'!$E13=\"\",\"\",'J2'!$E13)","v":54},null,0.22784810126582278,null,{"$f":"IF('J2'!$E14=\"\",\"\",'J2'!$E14)","v":0},null,0,null,{"$f":"IF('J2'!$E15=\"\",\"\",'J2'!$E15)","v":10},null,4.2194092827004218E-2,null,{"$f":"IF('J2'!$E16=\"\",\"\",'J2'!$E16)","v":0},null,0,null,{"$f":"IF('J2'!$E17=\"\",\"\",'J2'!$E17)","v":34},null,0.14345991561181434,null,{"$f":"IF('J2'!$E18=\"\",\"\",'J2'!$E18)","v":0},null,0,null,{"$f":"IF('J2'!$E19=\"\",\"\",'J2'!$E19)","v":23},null,9.7046413502109699E-2,null,{"$f":"IF('J2'!$E20=\"\",\"\",'J2'!$E20)","v":3},null,1.2658227848101266E-2,null,{"$f":"IF('J2'!$E21=\"\",\"\",'J2'!$E21)","v":0},null,0,null,{"$f":"IF('J2'!E22=\"\",\"\",'J2'!E22)","v":1},null,4.2194092827004216E-3,null,{"$f":"IF('J2'!$E23=\"\",\"\",'J2'!$E23)","v":1},null,4.2194092827004216E-3,null,{"$f":"IF('J2'!$E24=\"\",\"\",'J2'!$E24)","v":0},null,0,null,{"$f":"IF('J2'!$E25=\"\",\"\",'J2'!$E25)","v":1},null,4.2194092827004216E-3,null,{"$f":"IF('J2'!$E26=\"\",\"\",'J2'!$E26)","v":0},null,0,null,{"$f":"IF('J2'!$E27=\"\",\"\",'J2'!$E27)","v":69},null,0.29113924050632911,null,{"$f":"IF('J2'!$E28=\"\",\"\",'J2'!$E28)","v":11},null,4.6413502109704644E-2,null,{"$f":"IF('J2'!$E29=\"\",\"\",'J2'!$E29)","v":0},null,0,null,{"$f":"IF('J2'!$E30=\"\",\"\",'J2'!$E30)","v":6},null,2.5316455696202531E-2,null,{"$f":"IF('J2'!$E31=\"\",\"\",'J2'!$E31)","v":0},null,0,null,{"$f":"IF('J2'!$E32=\"\",\"\",'J2'!$E32)","v":2},null,8.4388185654008432E-3,null,{"$f":"IF('J2'!$E33=\"\",\"\",'J2'!$E33)","v":1},null,4.2194092827004216E-3,null,{"$f":"IF('J2'!$E34=\"\",\"\",'J2'!$E34)","v":20},null,8.4388185654008435E-2,null,{"$f":"IF('J2'!$E35=\"\",\"\",'J2'!$E35)","v":1},null,4.2194092827004216E-3]
[null,"J3  -  René Rücklin",null,null,{"$f":"IF('J3'!$E7=\"\",\"\",'J3'!$E7)","v":556},null,{"$f":"IF('J3'!$E8=\"\",\"\",'J3'!$E8)","v":142},null,{"$f":"IF('J3'!$E9=\"\",\"\",'J3'!$E9)","v":142},null,0.25539568345323743,null,{"$f":"IF('J3'!$E10=\"\",\"\",'J3'!$E10)","v":4},null,{"$f":"IF('J3'!$E11=\"\",\"\",'J3'!$E11)","v":5},null,{"$f":"IF('J3'!$E12=\"\",\"\",'J3'!$E12)","v":133},null,0.23920863309352519,null,{"$f":"IF('J3'!$E13=\"\",\"\",'J3'!$E13)","v":19},null,0.14285714285714285,null,{"$f":"IF('J3'!$E14=\"\",\"\",'J3'!$E14)","v":0},null,0,null,{"$f":"IF('J3'!$E15=\"\",\"\",'J3'!$E15)","v":2},null,1.5037593984962405E-2,null,{"$f":"IF('J3'!$E16=\"\",\"\",'J3'!$E16)","v":1},null,7.5187969924812026E-3,null,{"$f":"IF('J3'!$E17=\"\",\"\",'J3'!$E17)","v":18},null,0.13533834586466165,null,{"$f":"IF('J3'!$E18=\"\",\"\",'J3'!$E18)","v":1},null,7.5187969924812026E-3,null,{"$f":"IF('J3'!$E19=\"\",\"\",'J3'!$E19)","v":14},null,0.10526315789473684,null,{"$f":"IF('J3'!$E20=\"\",\"\",'J3'!$E20)","v":5},null,3.7593984962406013E-2,null,{"$f":"IF('J3'!$E21=\"\",\"\",'J3'!$E21)","v":0},null,0,null,{"$f":"IF('J3'!E22=\"\",\"\",'J3'!E22)","v":1},null,7.5187969924812026E-3,null,{"$f":"IF('J3'!$E23=\"\",\"\",'J3'!$E23)","v":0},null,0,null,{"$f":"IF('J3'!$E24=\"\",\"\",'J3'!$E24)","v":0},null,0,null,{"$f":"IF('J3'!$E25=\"\",\"\",'J3'!$E25)","v":2},null,1.5037593984962405E-2,null,{"$f":"IF('J3'!$E26=\"\",\"\",'J3'!$E26)","v":0},null,0,null,{"$f":"IF('J3'!$E27=\"\",\"\",'J3'!$E27)","v":32},null,0.24060150375939848,null,{"$f":"IF('J3'!$E28=\"\",\"\",'J3'!$E28)","v":10},null,7.5187969924812026E-2,null,{"$f":"IF('J3'!$E29=\"\",\"\",'J3'!$E29)","v":0},null,0,null,{"$f":"IF('J3'!$E30=\"\",\"\",'J3'!$E30)","v":2},null,1.5037593984962405E-2,null,{"$f":"IF('J3'!$E31=\"\",\"\",'J3'!$E31)","v":0},null,0,null,{"$f":"IF('J3'!$E32=\"\",\"\",'J3'!$E32)","v":3},null,2.2556390977443608E-2,null,{"$f":"IF('J3'!$E33=\"\",\"\",'J3'!$E33)","v":0},null,0,null,{"$f":"IF('J3'!$E34=\"\",\"\",'J3'!$E34)","v":23},null,0.17293233082706766,null,{"$f":"IF('J3'!$E35=\"\",\"\",'J3'!$E35)","v":0},null,0]
[null,"Canton SUD",null,null,{"$f":"SUM(E$34:E$39)","v":4400},null,{"$f":"SUM(G34:G39)","v":1458},null,{"$f":"SUM(I34:I39)","v":1458},null,0.33136363636363636,null,{"$f":"SUM(M34:M39)","v":39},null,{"$f":"SUM(O34:O39)","v":31},null,{"$f":"SUM(Q34:Q39)","v":1388},null,0.31545454545454543,null,{"$f":"SUM(U34:U39)","v":255},null,{"$f":"IF(U40=0,0,U40/$Q40)","v":0.18371757925072046},null,{"$f":"SUM(Y34:Y39)","v":1},null,{"$f":"IF(Y40=0,0,Y40/$Q40)","v":7.2046109510086451E-4},null,{"$f":"SUM(AC34:AC39)","v":35},null,{"$f":"IF(AC40=0,0,AC40/$Q40)","v":2.5216138328530261E-2},null,{"$f":"SUM(AG34:AG39)","v":5},null,{"$f":"IF(AG40=0,0,AG40/$Q40)","v":3.6023054755043226E-3},null,{"$f":"SUM(AK34:AK39)","v":205},null,{"$f":"IF(AK40=0,0,AK40/$Q40)","v":0.14769452449567724},null,{"$f":"SUM(AO34:AO39)","v":6},null,{"$f":"IF(AO40=0,0,AO40/$Q40)","v":4.3227665706051877E-3},null,{"$f":"SUM(AS34:AS39)","v":121},null,{"$f":"IF(AS40=0,0,AS40/$Q40)","v":8.7175792507204614E-2},null,{"$f":"SUM(AW34:AW39)","v":23},null,{"$f":"IF(AW40=0,0,AW40/$Q40)","v":1.6570605187319884E-2},null,{"$f":"SUM(BA34:BA39)","v":0},null,{"$f":"IF(BA40=0,0,BA40/$Q40)","v":0},null,{"$f":"SUM(BE34:BE39)","v":8},null,{"$f":"IF(BE40=0,0,BE40/$Q40)","v":5.763688760806916E-3},null,{"$f":"SUM(BI34:BI39)","v":2},null,{"$f":"IF(BI40=0,0,BI40/$Q40)","v":1.440922190201729E-3},null,{"$f":"SUM(BM34:BM39)","v":3},null,{"$f":"IF(BM40=0,0,BM40/$Q40)","v":2.1613832853025938E-3},null,{"$f":"SUM(BQ34:BQ39)","v":10},null,{"$f":"IF(BQ40=0,0,BQ40/$Q40)","v":7.2046109510086453E-3},null,{"$f":"SUM(BU34:BU39)","v":0},null,{"$f":"IF(BU40=0,0,BU40/$Q40)","v":0},null,{"$f":"SUM(BY34:BY39)","v":405},null,{"$f":"IF(BY40=0,0,BY40/$Q40)","v":0.29178674351585016},null,{"$f":"SUM(CC34:CC39)","v":99},null,{"$f":"IF(CC40=0,0,CC40/$Q40)","v":7.1325648414985593E-2},null,{"$f":"SUM(CG34:CG39)","v":0},null,{"$f":"IF(CG40=0,0,CG40/$Q40)","v":0},null,{"$f":"SUM(CK34:CK39)","v":35},null,{"$f":"IF(CK40=0,0,CK40/$Q40)","v":2.5216138328530261E-2},null,{"$f":"SUM(CO34:CO39)","v":0},null,{"$f":"IF(CO40=0,0,CO40/$Q40)","v":0},null,{"$f":"SUM(CS34:CS39)","v":28},null,{"$f":"IF(CS40=0,0,CS40/$Q40)","v":2.0172910662824207E-2},null,{"$f":"SUM(CW34:CW39)","v":11},null,{"$f":"IF(CW40=0,0,CW40/$Q40)","v":7.9250720461095103E-3},null,{"$f":"SUM(DA34:DA39)","v":134},null,{"$f":"IF(DA40=0,0,DA40/$Q40)","v":9.6541786743515851E-2},null,{"$f":"SUM(DE34:DE39)","v":2},null,{"$f":"IF(DE40=0,0,DE40/$Q40)","v":1.440922190201729E-3}]
[null,"K1  -  Louis Pergaud",null,null,{"$f":"IF('K1'!$E7=\"\",\"\",'K1'!$E7)","v":944},null,{"$f":"IF('K1'!$E8=\"\",\"\",'K1'!$E8)","v":193},null,{"$f":"IF('K1'!$E9=\"\",\"\",'K1'!$E9)","v":193},null,0.20444915254237289,null,{"$f":"IF('K1'!$E10=\"\",\"\",'K1'!$E10)","v":4},null,{"$f":"IF('K1'!$E11=\"\",\"\",'K1'!$E11)","v":8},null,{"$f":"IF('K1'!$E12=\"\",\"\",'K1'!$E12)","v":181},null,0.19173728813559321,null,{"$f":"IF('K1'!$E13=\"\",\"\",'K1'!$E13)","v":45},null,{"$f":"IF(U41=\"\",\" \",U41/$Q41)","v":0.24861878453038674},null,{"$f":"IF('K1'!$E14=\"\",\"\",'K1'!$E14)","v":0},null,{"$f":"IF(Y41=\"\",\" \",Y41/$Q41)","v":0},null,{"$f":"IF('K1'!$E15=\"\",\"\",'K1'!$E15)","v":8},null,{"$f":"IF(AC41=\"\",\" \",AC41/$Q41)","v":4.4198895027624308E-2},null,{"$f":"IF('K1'!$E16=\"\",\"\",'K1'!$E16)","v":0},null,{"$f":"IF(AG41=\"\",\" \",AG41/$Q41)","v":0},null,{"$f":"IF('K1'!$E17=\"\",\"\",'K1'!$E17)","v":30},null,{"$f":"IF(AK41=\"\",\" \",AK41/$Q41)","v":0.16574585635359115},null,{"$f":"IF('K1'!$E18=\"\",\"\",'K1'!$E18)","v":0},null,{"$f":"IF(AO41=\"\",\" \",AO41/$Q41)","v":0},null,{"$f":"IF('K1'!$E19=\"\",\"\",'K1'!$E19)","v":11},null,{"$f":"IF(AS41=\"\",\" \",AS41/$Q41)","v":6.0773480662983423E-2},null,{"$f":"IF('K1'!$E20=\"\",\"\",'K1'!$E20)","v":1},null,{"$f":"IF(AW41=\"\",\" \",AW41/$Q41)","v":5.5248618784530384E-3},null,{"$f":"IF('K1'!$E21=\"\",\"\",'K1'!$E21)","v":0},null,{"$f":"IF(BA41=\"\",\" \",BA41/$Q41)","v":0},null,{"$f":"IF('K1'!E22=\"\",\"\",'K1'!E22)","v":1},null,{"$f":"IF(BE41=\"\",\" \",BE41/$Q41)","v":5.5248618784530384E-3},null,{"$f":"IF('K1'!$E23=\"\",\"\",'K1'!$E23)","v":0},null,{"$f":"IF(BI41=\"\",\" \",BI41/$Q41)","v":0},null,{"$f":"IF('K1'!$E24=\"\",\"\",'K1'!$E24)","v":1},null,{"$f":"IF(BM41=\"\",\" \",BM41/$Q41)","v":5.5248618784530384E-3},null,{"$f":"IF('K1'!$E25=\"\",\"\",'K1'!$E25)","v":0},null,{"$f":"IF(BQ41=\"\",\" \",BQ41/$Q41)","v":0},null,{"$f":"IF('K1'!$E26=\"\",\"\",'K1'!$E26)","v":0},null,{"$f":"IF(BU41=\"\",\" \",BU41/$Q41)","v":0},null,{"$f":"IF('K1'!$E27=\"\",\"\",'K1'!$E27)","v":46},null,{"$f":"IF(BY41=\"\",\" \",BY41/$Q41)","v":0.2541436464088398},null,{"$f":"IF('K1'!$E28=\"\",\"\",'K1'!$E28)","v":8},null,{"$f":"IF(CC41=\"\",\" \",CC41/$Q41)","v":4.4198895027624308E-2},null,{"$f":"IF('K1'!$E29=\"\",\"\",'K1'!$E29)","v":0},null,{"$f":"IF(CG41=\"\",\" \",CG41/$Q41)","v":0},null,{"$f":"IF('K1'!$E30=\"\",\"\",'K1'!$E30)","v":8},null,{"$f":"IF(CK41=\"\",\" \",CK41/$Q41)","v":4.4198895027624308E-2},null,{"$f":"IF('K1'!$E31=\"\",\"\",'K1'!$E31)","v":0},null,{"$f":"IF(CO41=\"\",\" \",CO41/$Q41)","v":0},null,{"$f":"IF('K1'!$E32=\"\",\"\",'K1'!$E32)","v":3},null,{"$f":"IF(CS41=\"\",\" \",CS41/$Q41)","v":1.6574585635359115E-2},null,{"$f":"IF('K1'!$E33=\"\",\"\",'K1'!$E33)","v":2},null,{"$f":"IF(CW41=\"\",\" \",CW41/$Q41)","v":1.1049723756906077E-2},null,{"$f":"IF('K1'!$E34=\"\",\"\",'K1'!$E34)","v":17},null,{"$f":"IF(DA41=\"\",\" \",DA41/$Q41)","v":9.3922651933701654E-2},null,{"$f":"IF('K1'!$E35=\"\",\"\",'K1'!$E35)","v":0},null,{"$f":"IF(DE41=\"\",\" \",DE41/$Q41)","v":0}]
[null,"K2  -  Louis Pergaud",null,null,{"$f":"IF('K2'!$E7=\"\",\"\",'K2'!$E7)","v":784},null,{"$f":"IF('K2'!$E8=\"\",\"\",'K2'!$E8)","v":187},null,{"$f":"IF('K2'!$E9=\"\",\"\",'K2'!$E9)","v":187},null,0.23852040816326531,null,{"$f":"IF('K2'!$E10=\"\",\"\",'K2'!$E10)","v":0},null,{"$f":"IF('K2'!$E11=\"\",\"\",'K2'!$E11)","v":6},null,{"$f":"IF('K2'!$E12=\"\",\"\",'K2'!$E12)","v":181},null,0.2308673469387755,null,{"$f":"IF('K2'!$E13=\"\",\"\",'K2'!$E13)","v":36},null,{"$f":"IF(U42=\"\",\" \",U42/$Q42)","v":0.19889502762430938},null,{"$f":"IF('K2'!$E14=\"\",\"\",'K2'!$E14)","v":0},null,{"$f":"IF(Y42=\"\",\" \",Y42/$Q42)","v":0},null,{"$f":"IF('K2'!$E15=\"\",\"\",'K2'!$E15)","v":6},null,{"$f":"IF(AC42=\"\",\" \",AC42/$Q42)","v":3.3149171270718231E-2},null,{"$f":"IF('K2'!$E16=\"\",\"\",'K2'!$E16)","v":0},null,{"$f":"IF(AG42=\"\",\" \",AG42/$Q42)","v":0},null,{"$f":"IF('K2'!$E17=\"\",\"\",'K2'!$E17)","v":33},null,{"$f":"IF(AK42=\"\",\" \",AK42/$Q42)","v":0.18232044198895028},null,{"$f":"IF('K2'!$E18=\"\",\"\",'K2'!$E18)","v":0},null,{"$f":"IF(AO42=\"\",\" \",AO42/$Q42)","v":0},null,{"$f":"IF('K2'!$E19=\"\",\"\",'K2'!$E19)","v":11},null,{"$f":"IF(AS42=\"\",\" \",AS42/$Q42)","v":6.0773480662983423E-2},null,{"$f":"IF('K2'!$E20=\"\",\"\",'K2'!$E20)","v":3},null,{"$f":"IF(AW42=\"\",\" \",AW42/$Q42)","v":1.6574585635359115E-2},null,{"$f":"IF('K2'!$E21=\"\",\"\",'K2'!$E21)","v":0},null,{"$f":"IF(BA42=\"\",\" \",BA42/$Q42)","v":0},null,{"$f":"IF('K2'!E22=\"\",\"\",'K2'!E22)","v":0},null,{"$f":"IF(BE42=\"\",\" \",BE42/$Q42)","v":0},null,{"$f":"IF('K2'!$E23=\"\",\"\",'K2'!$E23)","v":2},null,{"$f":"IF(BI42=\"\",\" \",BI42/$Q42)","v":1.1049723756906077E-2},null,{"$f":"IF('K2'!$E24=\"\",\"\",'K2'!$E24)","v":0},null,{"$f":"IF(BM42=\"\",\" \",BM42/$Q42)","v":0},null,{"$f":"IF('K2'!$E25=\"\",\"\",'K2'!$E25)","v":1},null,{"$f":"IF(BQ42=\"\",\" \",BQ42/$Q42)","v":5.5248618784530384E-3},null,{"$f":"IF('K2'!$E26=\"\",\"\",'K2'!$E26)","v":0},null,{"$f":"IF(BU42=\"\",\" \",BU42/$Q42)","v":0},null,{"$f":"IF('K2'!$E27=\"\",\"\",'K2'!$E27)","v":48},null,{"$f":"IF(BY42=\"\",\" \",BY42/$Q42)","v":0.26519337016574585},null,{"$f":"IF('K2'!$E28=\"\",\"\",'K2'!$E28)","v":15},null,{"$f":"IF(CC42=\"\",\" \",CC42/$Q42)","v":8.2872928176795577E-2},null,{"$f":"IF('K2'!$E29=\"\",\"\",'K2'!$E29)","v":0},null,{"$f":"IF(CG42=\"\",\" \",CG42/$Q42)","v":0},null,{"$f":"IF('K2'!$E30=\"\",\"\",'K2'!$E30)","v":4},null,{"$f":"IF(CK42=\"\",\" \",CK42/$Q42)","v":2.2099447513812154E-2},null,{"$f":"IF('K2'!$E31=\"\",\"\",'K2'!$E31)","v":0},null,{"$f":"IF(CO42=\"\",\" \",CO42/$Q42)","v":0},null,{"$f":"IF('K2'!$E32=\"\",\"\",'K2'!$E32)","v":8},null,{"$f":"IF(CS42=\"\",\" \",CS42/$Q42)","v":4.4198895027624308E-2},null,{"$f":"IF('K2'!$E33=\"\",\"\",'K2'!$E33)","v":1},null,{"$f":"IF(CW42=\"\",\" \",CW42/$Q42)","v":5.5248618784530384E-3},null,{"$f":"IF('K2'!$E34=\"\",\"\",'K2'!$E34)","v":13},null,{"$f":"IF(DA42=\"\",\" \",DA42/$Q42)","v":7.18232044198895E-2},null,{"$f":"IF('K2'!$E35=\"\",\"\",'K2'!$E35)","v":0},null,{"$f":"IF(DE42=\"\",\" \",DE42/$Q42)","v":0}]
[null,"L1  -  Les Barres",null,null,{"$f":"IF('L1'!$E7=\"\",\"\",'L1'!$E7)","v":1314},null,{"$f":"IF('L1'!$E8=\"\",\"\",'L1'!$E8)","v":500},null,{"$f":"IF('L1'!$E9=\"\",\"\",'L1'!$E9)","v":500},null,0.38051750380517502,null,{"$f":"IF('L1'!$E10=\"\",\"\",'L1'!$E10)","v":11},null,{"$f":"IF('L1'!$E11=\"\",\"\",'L1'!$E11)","v":5},null,{"$f":"IF('L1'!$E12=\"\",\"\",'L1'!$E12)","v":484},null,0.36834094368340942,null,{"$f":"IF('L1'!$E13=\"\",\"\",'L1'!$E13)","v":99},null,{"$f":"IF(U43=\"\",\" \",U43/$Q43)","v":0.20454545454545456},null,{"$f":"IF('L1'!$E14=\"\",\"\",'L1'!$E14)","v":2},null,{"$f":"IF(Y43=\"\",\" \",Y43/$Q43)","v":4.1322314049586778E-3},null,{"$f":"IF('L1'!$E15=\"\",\"\",'L1'!$E15)","v":12},null,{"$f":"IF(AC43=\"\",\" \",AC43/$Q43)","v":2.4793388429752067E-2},null,{"$f":"IF('L1'!$E16=\"\",\"\",'L1'!$E16)","v":1},null,{"$f":"IF(AG43=\"\",\" \",AG43/$Q43)","v":2.0661157024793389E-3},null,{"$f":"IF('L1'!$E17=\"\",\"\",'L1'!$E17)","v":87},null,{"$f":"IF(AK43=\"\",\" \",AK43/$Q43)","v":0.17975206611570249},null,{"$f":"IF('L1'!$E18=\"\",\"\",'L1'!$E18)","v":4},null,{"$f":"IF(AO43=\"\",\" \",AO43/$Q43)","v":8.2644628099173556E-3},null,{"$f":"IF('L1'!$E19=\"\",\"\",'L1'!$E19)","v":29},null,{"$f":"IF(AS43=\"\",\" \",AS43/$Q43)","v":5.9917355371900828E-2},null,{"$f":"IF('L1'!$E20=\"\",\"\",'L1'!$E20)","v":19},null,{"$f":"IF(AW43=\"\",\" \",AW43/$Q43)","v":3.9256198347107439E-2},null,{"$f":"IF('L1'!$E21=\"\",\"\",'L1'!$E21)","v":1},null,{"$f":"IF(BA43=\"\",\" \",BA43/$Q43)","v":2.0661157024793389E-3},null,{"$f":"IF('L1'!E22=\"\",\"\",'L1'!E22)","v":2},null,{"$f":"IF(BE43=\"\",\" \",BE43/$Q43)","v":4.1322314049586778E-3},null,{"$f":"IF('L1'!$E23=\"\",\"\",'L1'!$E23)","v":1},null,2.0661157024793389E-3,null,{"$f":"IF('L1'!$E24=\"\",\"\",'L1'!$E24)","v":2},null,4.1322314049586778E-3,null,{"$f":"IF('L1'!$E25=\"\",\"\",'L1'!$E25)","v":2},null,4.1322314049586778E-3,null,{"$f":"IF('L1'!$E26=\"\",\"\",'L1'!$E26)","v":0},null,0,null,{"$f":"IF('L1'!$E27=\"\",\"\",'L1'!$E27)","v":111},null,0.22933884297520662,null,{"$f":"IF('L1'!$E28=\"\",\"\",'L1'!$E28)","v":37},null,7.6446280991735532E-2,null,{"$f":"IF('L1'!$E29=\"\",\"\",'L1'!$E29)","v":0},null,0,null,{"$f":"IF('L1'!$E30=\"\",\"\",'L1'!$E30)","v":7},null,1.4462809917355372E-2,null,{"$f":"IF('L1'!$E31=\"\",\"\",'L1'!$E31)","v":0},null,0,null,{"$f":"IF('L1'!$E32=\"\",\"\",'L1'!$E32)","v":22},null,4.5454545454545456E-2,null,{"$f":"IF('L1'!$E33=\"\",\"\",'L1'!$E33)","v":3},null,6.1983471074380167E-3,null,{"$f":"IF('L1'!$E34=\"\",\"\",'L1'!$E34)","v":40},null,8.2644628099173556E-2,null,{"$f":"IF('L1'!$E35=\"\",\"\",'L1'!$E35)","v":3},null,6.1983471074380167E-3]
[null,"L2  -  Les Barres",null,null,{"$f":"IF('L2'!$E7=\"\",\"\",'L2'!$E7)","v":1146},null,{"$f":"IF('L2'!$E8=\"\",\"\",'L2'!$E8)","v":507},null,{"$f":"IF('L2'!$E9=\"\",\"\",'L2'!$E9)","v":507},null,0.44240837696335078,null,{"$f":"IF('L2'!$E10=\"\",\"\",'L2'!$E10)","v":5},null,{"$f":"IF('L2'!$E11=\"\",\"\",'L2'!$E11)","v":15},null,{"$f":"IF('L2'!$E12=\"\",\"\",'L2'!$E12)","v":487},null,0.42495636998254799,null,{"$f":"IF('L2'!$E13=\"\",\"\",'L2'!$E13)","v":91},null,{"$f":"IF(U44=\"\",\" \",U44/$Q44)","v":0.18685831622176591},null,{"$f":"IF('L2'!$E14=\"\",\"\",'L2'!$E14)","v":0},null,{"$f":"IF(Y44=\"\",\" \",Y44/$Q44)","v":0},null,{"$f":"IF('L2'!$E15=\"\",\"\",'L2'!$E15)","v":8},null,{"$f":"IF(AC44=\"\",\" \",AC44/$Q44)","v":1.6427104722792608E-2},null,{"$f":"IF('L2'!$E16=\"\",\"\",'L2'!$E16)","v":0},null,{"$f":"IF(AG44=\"\",\" \",AG44/$Q44)","v":0},null,{"$f":"IF('L2'!$E17=\"\",\"\",'L2'!$E17)","v":74},null,{"$f":"IF(AK44=\"\",\" \",AK44/$Q44)","v":0.15195071868583163},null,{"$f":"IF('L2'!$E18=\"\",\"\",'L2'!$E18)","v":3},null,{"$f":"IF(AO44=\"\",\" \",AO44/$Q44)","v":6.1601642710472282E-3},null,{"$f":"IF('L2'!$E19=\"\",\"\",'L2'!$E19)","v":36},null,{"$f":"IF(AS44=\"\",\" \",AS44/$Q44)","v":7.3921971252566734E-2},null,{"$f":"IF('L2'!$E20=\"\",\"\",'L2'!$E20)","v":14},null,{"$f":"IF(AW44=\"\",\" \",AW44/$Q44)","v":2.8747433264887063E-2},null,{"$f":"IF('L2'!$E21=\"\",\"\",'L2'!$E21)","v":0},null,{"$f":"IF(BA44=\"\",\" \",BA44/$Q44)","v":0},null,{"$f":"IF('L2'!E22=\"\",\"\",'L2'!E22)","v":3},null,{"$f":"IF(BE44=\"\",\" \",BE44/$Q44)","v":6.1601642710472282E-3},null,{"$f":"IF('L2'!$E23=\"\",\"\",'L2'!$E23)","v":0},null,0,null,{"$f":"IF('L2'!$E24=\"\",\"\",'L2'!$E24)","v":4},null,8.2135523613963042E-3,null,{"$f":"IF('L2'!$E25=\"\",\"\",'L2'!$E25)","v":12},null,2.4640657084188913E-2,null,{"$f":"IF('L2'!$E26=\"\",\"\",'L2'!$E26)","v":0},null,0,null,{"$f":"IF('L2'!$E27=\"\",\"\",'L2'!$E27)","v":122},null,0.25051334702258726,null,{"$f":"IF('L2'!$E28=\"\",\"\",'L2'!$E28)","v":44},null,9.034907597535935E-2,null,{"$f":"IF('L2'!$E29=\"\",\"\",'L2'!$E29)","v":0},null,0,null,{"$f":"IF('L2'!$E30=\"\",\"\",'L2'!$E30)","v":17},null,3.4907597535934289E-2,null,{"$f":"IF('L2'!$E31=\"\",\"\",'L2'!$E31)","v":0},null,0,null,{"$f":"IF('L2'!$E32=\"\",\"\",'L2'!$E32)","v":17},null,3.4907597535934289E-2,null,{"$f":"IF('L2'!$E33=\"\",\"\",'L2'!$E33)","v":2},null,4.1067761806981521E-3,null,{"$f":"IF('L2'!$E34=\"\",\"\",'L2'!$E34)","v":39},null,8.0082135523613956E-2,null,{"$f":"IF('L2'!$E35=\"\",\"\",'L2'!$E35)","v":1},null,2.0533880903490761E-3]
[null,"Canton OUEST",null,null,{"$f":"SUM(E$41:E$44)","v":4188},null,{"$f":"SUM(G41:G44)","v":1387},null,{"$f":"SUM(I41:I44)","v":1387},null,0.33118433619866283,null,{"$f":"SUM(M41:M44)","v":20},null,{"$f":"SUM(O41:O44)","v":34},null,{"$f":"SUM(Q41:Q44)","v":1333},null,0.31829035339063994,null,{"$f":"SUM(U41:U44)","v":271},null,{"$f":"IF(U45=0,0,U45/$Q45)","v":0.20330082520630158},null,{"$f":"SUM(Y41:Y44)","v":2},null,{"$f":"IF(Y45=0,0,Y45/$Q45)","v":1.5003750937734434E-3},null,{"$f":"SUM(AC41:AC44)","v":34},null,{"$f":"IF(AC45=0,0,AC45/$Q45)","v":2.5506376594148537E-2},null,{"$f":"SUM(AG41:AG44)","v":1},null,{"$f":"IF(AG45=0,0,AG45/$Q45)","v":7.501875468867217E-4},null,{"$f":"SUM(AK41:AK44)","v":224},null,{"$f":"IF(AK45=0,0,AK45/$Q45)","v":0.16804201050262565},null,{"$f":"SUM(AO41:AO44)","v":7},null,{"$f":"IF(AO45=0,0,AO45/$Q45)","v":5.2513128282070517E-3},null,{"$f":"SUM(AS41:AS44)","v":87},null,{"$f":"IF(AS45=0,0,AS45/$Q45)","v":6.5266316579144792E-2},null,{"$f":"SUM(AW41:AW44)","v":37},null,{"$f":"IF(AW45=0,0,AW45/$Q45)","v":2.7756939234808702E-2},null,{"$f":"SUM(BA41:BA44)","v":1},null,{"$f":"IF(BA45=0,0,BA45/$Q45)","v":7.501875468867217E-4},null,{"$f":"SUM(BE41:BE44)","v":6},null,{"$f":"IF(BE45=0,0,BE45/$Q45)","v":4.5011252813203298E-3},null,{"$f":"SUM(BI41:BI44)","v":3},null,{"$f":"IF(BI45=0,0,BI45/$Q45)","v":2.2505626406601649E-3},null,{"$f":"SUM(BM41:BM44)","v":7},null,{"$f":"IF(BM45=0,0,BM45/$Q45)","v":5.2513128282070517E-3},null,{"$f":"SUM(BQ41:BQ44)","v":15},null,{"$f":"IF(BQ45=0,0,BQ45/$Q45)","v":1.1252813203300824E-2},null,{"$f":"SUM(BU41:BU44)","v":0},null,{"$f":"IF(BU45=0,0,BU45/$Q45)","v":0},null,{"$f":"SUM(BY41:BY44)","v":327},null,{"$f":"IF(BY45=0,0,BY45/$Q45)","v":0.245311327831958},null,{"$f":"SUM(CC41:CC44)","v":104},null,{"$f":"IF(CC45=0,0,CC45/$Q45)","v":7.8019504876219059E-2},null,{"$f":"SUM(CG41:CG44)","v":0},null,{"$f":"IF(CG45=0,0,CG45/$Q45)","v":0},null,{"$f":"SUM(CK41:CK44)","v":36},null,{"$f":"IF(CK45=0,0,CK45/$Q45)","v":2.7006751687921979E-2},null,{"$f":"SUM(CO41:CO44)","v":0},null,{"$f":"IF(CO45=0,0,CO45/$Q45)","v":0},null,{"$f":"SUM(CS41:CS44)","v":50},null,{"$f":"IF(CS45=0,0,CS45/$Q45)","v":3.7509377344336084E-2},null,{"$f":"SUM(CW41:CW44)","v":8},null,{"$f":"IF(CW45=0,0,CW45/$Q45)","v":6.0015003750937736E-3},null,{"$f":"SUM(DA41:DA44)","v":109},null,{"$f":"IF(DA45=0,0,DA45/$Q45)","v":8.1770442610652666E-2},null,{"$f":"SUM(DE41:DE44)","v":4},null,{"$f":"IF(DE45=0,0,DE45/$Q45)","v":3.0007501875468868E-3}]
[]
[]
[null,"TOTAUX",null,null,{"$f":"E$20+E$27+E$33+E$40+E$45","v":26563},null,{"$f":"G$20+G$27+G$33+G$40+G$45","v":10250},null,{"$f":"I$20+I$27+I$33+I$40+I$45","v":10250},null,{"$f":"IF(I48=\"\",\" \",I48/$E48)","v":0.3858750894100817},null,{"$f":"M$20+M$27+M$33+M$40+M$45","v":185},null,{"$f":"O$20+O$27+O$33+O$40+O$45","v":192},null,{"$f":"Q$20+Q$27+Q$33+Q$40+Q$45","v":9873},null,null,null,{"$f":"U$20+U$27+U$33+U$40+U$45","v":2427},null,{"$f":"IF($Q$48=0,0,U48/$Q$48)","v":0.2458219386204801},null,{"$f":"Y$20+Y$27+Y$33+Y$40+Y$45","v":12},null,{"$f":"IF($Q$48=0,0,Y48/$Q$48)","v":1.2154360376785171E-3},null,{"$f":"AC$20+AC$27+AC$33+AC$40+AC$45","v":158},null,{"$f":"IF($Q$48=0,0,AC48/$Q$48)","v":1.6003241162767141E-2},null,{"$f":"AG$20+AG$27+AG$33+AG$40+AG$45","v":16},null,{"$f":"IF($Q$48=0,0,AG48/$Q$48)","v":1.6205813835713562E-3},null,{"$f":"AK$20+AK$27+AK$33+AK$40+AK$45","v":1486},null,{"$f":"IF($Q$48=0,0,AK48/$Q$48)","v":0.1505114959991897},null,{"$f":"AO$20+AO$27+AO$33+AO$40+AO$45","v":44},null,{"$f":"IF($Q$48=0,0,AO48/$Q$48)","v":4.4565988048212296E-3},null,{"$f":"AS$20+AS$27+AS$33+AS$40+AS$45","v":974},null,{"$f":"IF($Q$48=0,0,AS48/$Q$48)","v":9.8652891724906308E-2},null,{"$f":"AW$20+AW$27+AW$33+AW$40+AW$45","v":209},null,{"$f":"IF($Q$48=0,0,AW48/$Q$48)","v":2.1168844322900841E-2},null,{"$f":"BA$20+BA$27+BA$33+BA$40+BA$45","v":5},null,{"$f":"IF($Q$48=0,0,BA48/$Q$48)","v":5.0643168236604887E-4},null,{"$f":"BE$20+BE$27+BE$33+BE$40+BE$45","v":59},null,{"$f":"IF($Q$48=0,0,BE48/$Q$48)","v":5.9758938519193757E-3},null,{"$f":"BI$20+BI$27+BI$33+BI$40+BI$45","v":22},null,{"$f":"IF($Q$48=0,0,BI48/$Q$48)","v":2.2282994024106148E-3},null,{"$f":"BM$20+BM$27+BM$33+BM$40+BM$45","v":43},null,{"$f":"IF($Q$48=0,0,BM48/$Q$48)","v":4.3553124683480202E-3},null,{"$f":"BQ$20+BQ$27+BQ$33+BQ$40+BQ$45","v":94},null,{"$f":"IF($Q$48=0,0,BQ48/$Q$48)","v":9.5209156284817176E-3},null,{"$f":"BU$20+BU$27+BU$33+BU$40+BU$45","v":1},null,{"$f":"IF($Q$48=0,0,BU48/$Q$48)","v":1.0128633647320976E-4},null,{"$f":"BY$20+BY$27+BY$33+BY$40+BY$45","v":2270},null,{"$f":"IF($Q$48=0,0,BY48/$Q$48)","v":0.22991998379418616},null,{"$f":"CC$20+CC$27+CC$33+CC$40+CC$45","v":763},null,{"$f":"IF($Q$48=0,0,CC48/$Q$48)","v":7.7281474729059052E-2},null,{"$f":"CG$20+CG$27+CG$33+CG$40+CG$45","v":0},null,{"$f":"IF($Q$48=0,0,CG48/$Q$48)","v":0},null,{"$f":"CK$20+CK$27+CK$33+CK$40+CK$45","v":305},null,{"$f":"IF($Q$48=0,0,CK48/$Q$48)","v":3.0892332624328979E-2},null,{"$f":"CO$20+CO$27+CO$33+CO$40+CO$45","v":0},null,{"$f":"IF($Q$48=0,0,CO48/$Q$48)","v":0},null,{"$f":"CS$20+CS$27+CS$33+CS$40+CS$45","v":249},null,{"$f":"IF($Q$48=0,0,CS48/$Q$48)","v":2.5220297781829232E-2},null,{"$f":"CW$20+CW$27+CW$33+CW$40+CW$45","v":54},null,{"$f":"IF($Q$48=0,0,CW48/$Q$48)","v":5.4694621695533276E-3},null,{"$f":"DA$20+DA$27+DA$33+DA$40+DA$45","v":640},null,{"$f":"IF($Q$48=0,0,DA48/$Q$48)","v":6.4823255342854255E-2},null,{"$f":"DE$20+DE$27+DE$33+DE$40+DE$45","v":28},null,{"$f":"IF($Q$48=0,0,DE48/$Q$48)","v":2.8360174212498732E-3}]
[null,"%     /    exprimés"]
[null,"%     /    Inscrits",null,null,null,null,null,null,null,null,null,null,{"$f":"IF(I48=0,0,M48/E48)","v":6.9645747844746453E-3},null,{"$f":"IF(I48=0,0,O48/E48)","v":7.2280992357790915E-3},null,{"$f":"IF(I48=0,0,Q48/E48)","v":0.37168241538982794},null,null,null,{"$f":"IF($Q$48=0,0,U48/$E$48)","v":9.1367691902270079E-2},null,null,null,{"$f":"IF($Q$48=0,0,Y48/$E$48)","v":4.5175620223619322E-4},null,null,null,{"$f":"IF($Q$48=0,0,AC48/$E$48)","v":5.9481233294432102E-3},null,null,null,{"$f":"IF($Q$48=0,0,AG48/$E$48)","v":6.0234160298159093E-4},null,null,null,{"$f":"IF($Q$48=0,0,AK48/$E$48)","v":5.5942476376915261E-2},null,null,null,{"$f":"IF($Q$48=0,0,AO48/$E$48)","v":1.6564394081993751E-3},null,null,null,{"$f":"IF($Q$48=0,0,AS48/$E$48)","v":3.6667545081504348E-2},null,null,null,{"$f":"IF($Q$48=0,0,AW48/$E$48)","v":7.8680871889470309E-3},null,null,null,{"$f":"IF($Q$48=0,0,BA48/$E$48)","v":1.8823175093174717E-4},null,null,null,{"$f":"IF($Q$48=0,0,BE48/$E$48)","v":2.2211346609946167E-3},null,null,null,{"$f":"IF($Q$48=0,0,BI48/$E$48)","v":8.2821970409968756E-4},null,null,null,{"$f":"IF($Q$48=0,0,BM48/$E$48)","v":1.6187930580130257E-3},null,null,null,{"$f":"IF($Q$48=0,0,BQ48/$E$48)","v":3.5387569175168469E-3},null,null,null,{"$f":"IF($Q$48=0,0,BU48/$E$48)","v":3.7646350186349433E-5},null,null,null,{"$f":"IF($Q$48=0,0,BY48/$E$48)","v":8.5457214923013211E-2},null,null,null,{"$f":"IF($Q$48=0,0,CC48/$E$48)","v":2.8724165192184618E-2},null,null,null,{"$f":"IF($Q$48=0,0,CG48/$E$48)","v":0},null,null,null,{"$f":"IF($Q$48=0,0,CK48/$E$48)","v":1.1482136806836577E-2},null,null,null,{"$f":"IF($Q$48=0,0,CO48/$E$48)","v":0},null,null,null,{"$f":"IF($Q$48=0,0,CS48/$E$48)","v":9.3739411964010085E-3},null,null,null,{"$f":"IF($Q$48=0,0,CW48/$E$48)","v":2.0329029100628693E-3},null,null,null,{"$f":"IF($Q$48=0,0,DA48/$E$48)","v":2.4093664119263638E-2},null,null,null,{"$f":"IF($Q$48=0,0,DE48/$E$48)","v":1.0540978052177841E-3}]