BEGIN:VCALENDAR
VERSION:2.0
PRODID:-//TYPO3/NONSGML News system (news)//EN
BEGIN:VEVENT
UID:news-19924@www.belfort.fr
DTSTAMP:20260420T145121
DTSTART:20260607T110000
DTEND:20260607T120000
SUMMARY:VOCALISES - Voix d’ange, souffle d’âme
CATEGORIES:
DESCRIPTION:Une voix qui ne vient ni tout à fait du ciel ni de la 
 terre, la flûte à bec si proche de la respiration qu’on 
 appelait jadis l’instrument de l’âme et entre eux le 
 clavecin qui tisse le temps et fait chanter les silences. 
 Tous trois unissent leurs timbres pour faire naître un 
 moment suspendu, une parenthèse avec les musiques de 
 Telemann, Haendel, Purcell…  Serge Kakudji : 
 Contratenor Marie Van&hellip;
LOCATION:Hôtel de Ville
END:VEVENT
END:VCALENDAR