BEGIN:VCALENDAR
VERSION:2.0
PRODID:-//TYPO3/NONSGML News system (news)//EN
BEGIN:VEVENT
UID:news-20265@www.belfort.fr
DTSTAMP:20260420T145121
DTSTART:20260602T200000
DTEND:20260602T200000
SUMMARY:Spectacle "Après vous, Monsieur de la Fontaine"
CATEGORIES:
DESCRIPTION:Comme Jean de La Fontaine, les élèves observent nos 
 contemporains et explorent les ressources narratives de 
 certaines fables. Par les élèves en Classes à Horaires 
 Aménagés Musique et les classes de 5eA et 5eB du Collège 
 Arthur Rimbaud de Belfort.
LOCATION:Salle des fêtes
END:VEVENT
END:VCALENDAR