BEGIN:VCALENDAR
VERSION:2.0
PRODID:-//TYPO3/NONSGML News system (news)//EN
BEGIN:VEVENT
UID:news-20201@www.belfort.fr
DTSTAMP:20260420T145756
DTSTART:20260522T170000
DTEND:20260522T170000
SUMMARY:Rencontre avec votre coup de cœur 
CATEGORIES:
DESCRIPTION:À la suite de l’élection de l’artiste « coup de cœur 
 de la bibliothèque » du FIMU 2026, nous vous invitons à 
 partager un moment convivial et privilégié en sa 
 compagnie.  Tout public. Entrée libre dans la limite des 
 places disponibles. 
LOCATION:Bibliothèque municipale Léon-Deubel
END:VEVENT
END:VCALENDAR