BEGIN:VCALENDAR
VERSION:2.0
PRODID:-//TYPO3/NONSGML News system (news)//EN
BEGIN:VEVENT
UID:news-20307@www.belfort.fr
DTSTAMP:20260420T150401
DTSTART:20260530T103000
DTEND:20260530T103000
SUMMARY:RDV RADIO BIBLIO’ : Enregistrement de podcast : les coups de cœur des lecteurs
CATEGORIES:
DESCRIPTION:SAMEDI 16 MAI,  SAMEDI 30 MAI,  SAMEDI 13 JUIN,  SAMEDI 20 
 JUIN À 10 H 30.  Adultes. Sur réservation au 03 84 54 27 
 54. Apportez un petit texte sur votre document (livre, cd, 
 dvd) coup de cœur de la bibliothèque et initiez-vous au 
 podcast, ce nouveau format radiophonique.  
LOCATION:Bibliothèque municipale Léon-Deubel
END:VEVENT
END:VCALENDAR