BEGIN:VCALENDAR
VERSION:2.0
PRODID:-//TYPO3/NONSGML News system (news)//EN
BEGIN:VEVENT
UID:news-20297@www.belfort.fr
DTSTAMP:20260420T150401
DTSTART:20260606T143000
DTEND:20260606T143000
SUMMARY:P’TITS BILINGUES : Lectures bilingues
CATEGORIES:
DESCRIPTION:À partir de 5 ans Sur réservation au 03 84 54 27 
 10. Venez célébrer la diversité linguistique avec une 
 séance de lecture bilingue ! Des histoires en français et 
 dans une autre langue pour éveiller l’oreille, la 
 curiosité… et voyager grâce aux mots. 
LOCATION:Bibliothèque municipale des Glacis-du-Château
END:VEVENT
END:VCALENDAR