BEGIN:VCALENDAR
VERSION:2.0
PRODID:-//TYPO3/NONSGML News system (news)//EN
BEGIN:VEVENT
UID:news-20182@www.belfort.fr
DTSTAMP:20260420T145756
DTSTART:20260527T103000
DTEND:20260527T103000
SUMMARY:P’TITES OREILLES : Histoires en partage
CATEGORIES:
DESCRIPTION:MERCREDI 27 MAI À 10 H 30, MERCREDI 24 JUIN À 10 H 30. À 
 partir de 3 ans. Entrée libre dans la limite des places 
 disponibles. Groupes sur réservation au 03 84 54 25 89. 
LOCATION:Bibliothèque municipale de la Clé-des-Champs
END:VEVENT
END:VCALENDAR