BEGIN:VCALENDAR
VERSION:2.0
PRODID:-//TYPO3/NONSGML News system (news)//EN
BEGIN:VEVENT
UID:news-20195@www.belfort.fr
DTSTAMP:20260420T145756
DTSTART:20260530T103000
DTEND:20260530T103000
SUMMARY:P’TITES MAINS : Loisirs créatifs
CATEGORIES:
DESCRIPTION:SAMEDI 30 MAI À 10 H 30 - Spéciale fêtes des mères, 
 SAMEDI 27 JUIN À 10 H 30 – Spéciale été. À partir de 
 6 ans. Sur réservation au 03 84 54 25 89. Un moment 
 créatif, pour laisser l’imagination des enfants 
 s’épanouir dans un cadre bienveillant et stimulant. 
LOCATION:Bibliothèque municipale de la Clé-des-Champs
END:VEVENT
END:VCALENDAR