BEGIN:VCALENDAR
VERSION:2.0
PRODID:-//TYPO3/NONSGML News system (news)//EN
BEGIN:VEVENT
UID:news-20266@www.belfort.fr
DTSTAMP:20260420T145121
DTSTART:20260606T140000
DTEND:20260606T170000
SUMMARY:Portes Ouvertes du Conservatoire
CATEGORIES:
DESCRIPTION:Venez découvrir notre établissement d’enseignement 
 artistique, musique, théâtre et danse. Échanges, 
 rencontres avec les enseignants, essais d’instruments et 
 renseignements auprès de l’administration ou des 
 responsables des sites du Grand Belfort. 
LOCATION:Conservatoire du Grand Belfort Henri-Dutilleux
END:VEVENT
END:VCALENDAR