BEGIN:VCALENDAR
VERSION:2.0
PRODID:-//TYPO3/NONSGML News system (news)//EN
BEGIN:VEVENT
UID:news-19971@www.belfort.fr
DTSTAMP:20260420T145121
DTSTART:20260530T000000
DTEND:20260530T010000
SUMMARY:portes ouvertes avec exposition
CATEGORIES:
DESCRIPTION:Portes ouvertes avec expositions des adhérents qui pratique 
 des activités au sein de l'Amicale Miotte-Brisach maison de 
 quartier Lucien Berche  rue Pierre BROSSOLLETTE
LOCATION:Belfort
END:VEVENT
END:VCALENDAR