BEGIN:VCALENDAR
VERSION:2.0
PRODID:-//TYPO3/NONSGML News system (news)//EN
BEGIN:VEVENT
UID:news-19990@www.belfort.fr
DTSTAMP:20260420T145121
DTSTART:20260530T190000
DTEND:20260530T190000
SUMMARY:Pervitin
CATEGORIES:
DESCRIPTION:Pervitin c’est la rencontre de plusieurs univers : les 
 riffs primitifs du Garage Rock, des références de Punk 
 Rock jusqu’aux notes de blues marécageux et des assaults 
 de Fuzz et Wah-Wah dans un groove hypnotique
END:VEVENT
END:VCALENDAR