BEGIN:VCALENDAR
VERSION:2.0
PRODID:-//TYPO3/NONSGML News system (news)//EN
BEGIN:VEVENT
UID:news-20224@www.belfort.fr
DTSTAMP:20260420T145121
DTSTART:20260605T203000
DTEND:20260606T010000
SUMMARY:PATINAGE
CATEGORIES:
DESCRIPTION:L'ASMB Danse et Ballet sur glace organise son gala de danse 
 sur glace et de ballet
LOCATION:Patinoire du Grand Belfort Christian‑Ochem
END:VEVENT
END:VCALENDAR