BEGIN:VCALENDAR
VERSION:2.0
PRODID:-//TYPO3/NONSGML News system (news)//EN
BEGIN:VEVENT
UID:news-20262@www.belfort.fr
DTSTAMP:20260420T145121
DTSTART:20260602T090000
DTEND:20260602T170000
SUMMARY:Olympiades seniors
CATEGORIES:
DESCRIPTION:Venez participer à un événement fédérateur autour d'une 
 journée de rencontres sportives. Activité gratuite 
 destinée aux Belfortains de 60 ans et + Nombre de places 
 limité Inscriptions obligatoires au CCAS - 
 03.84.54.56.56 
END:VEVENT
END:VCALENDAR