BEGIN:VCALENDAR
VERSION:2.0
PRODID:-//TYPO3/NONSGML News system (news)//EN
BEGIN:VEVENT
UID:news-20223@www.belfort.fr
DTSTAMP:20260420T145756
DTSTART:20260523T000000
DTEND:20260524T010000
SUMMARY:NATATION
CATEGORIES:
DESCRIPTION:Belfort natation organise le championnat nord Franche-Comté
LOCATION:Piscine Gabriel-Pannoux
END:VEVENT
END:VCALENDAR