BEGIN:VCALENDAR
VERSION:2.0
PRODID:-//TYPO3/NONSGML News system (news)//EN
BEGIN:VEVENT
UID:news-20260@www.belfort.fr
DTSTAMP:20260420T145121
DTSTART:20260605T203000
DTEND:20260606T233000
SUMMARY:MONOPOL'ICE
CATEGORIES:
DESCRIPTION:Sur la surface étincelante de la patinoire, le temps 
 devient un adversaire. Deux aventuriers sont projetés au 
 cœur d'une partie de jeu grandeur nature dirigée par le 
 mystérieux Maître du Temps.  Faites vos jeux, rien ne va 
 plus... la partie commence.
LOCATION:Patinoire du Grand Belfort Christian‑Ochem
END:VEVENT
END:VCALENDAR