BEGIN:VCALENDAR
VERSION:2.0
PRODID:-//TYPO3/NONSGML News system (news)//EN
BEGIN:VEVENT
UID:news-20114@www.belfort.fr
DTSTAMP:20260420T145121
DTSTART:20260606T133000
DTEND:20260606T173000
SUMMARY:Maison de quartier des Forges : Cluedo grandeur nature « Derrière les barreaux. »
CATEGORIES:
DESCRIPTION:Venez en équipe ou en individuel, découvrir le coupable 
 d’une mystérieuse affaire. En menant l’enquête et en  
 interrogeant les témoins de l’époque, découvrez le 
 coupable. Gratuit sur inscription Maison des Forges 03 84 
 54 25 77 avant le 22 mai 2026 
LOCATION:Citadelle de Belfort
END:VEVENT
END:VCALENDAR