BEGIN:VCALENDAR
VERSION:2.0
PRODID:-//TYPO3/NONSGML News system (news)//EN
BEGIN:VEVENT
UID:news-20157@www.belfort.fr
DTSTAMP:20260420T145121
DTSTART:20260603T140000
DTEND:20260603T010000
SUMMARY:lien aux habitants_bricolage mise en pratique 
CATEGORIES:
DESCRIPTION:Fabrication d'un support pour plantes d'intérieur, deco 
 bois démontage d'un cageot bois, de palette, découpage, 
 traçage.. Utilisation d'outils de la 
 bricothèque, Inscription et adhésion préalable 5€ 
  Tel: 03-84-22-52-43 contact@regie-belfort.com  
LOCATION:Belfort
END:VEVENT
END:VCALENDAR