BEGIN:VCALENDAR
VERSION:2.0
PRODID:-//TYPO3/NONSGML News system (news)//EN
BEGIN:VEVENT
UID:news-20163@www.belfort.fr
DTSTAMP:20260420T145121
DTSTART:20260530T090000
DTEND:20260530T120000
SUMMARY:Journée Citoyenne
CATEGORIES:
DESCRIPTION:Pour la 10e édition de la Journée Citoyenne, la Ville de 
 Belfort invite les Belfortains à devenir les artisans de 
 leur propre quartier à travers des chantiers participatifs 
 et familiaux.
LOCATION:Belfort
END:VEVENT
END:VCALENDAR