BEGIN:VCALENDAR
VERSION:2.0
PRODID:-//TYPO3/NONSGML News system (news)//EN
BEGIN:VEVENT
UID:news-20211@www.belfort.fr
DTSTAMP:20260420T145756
DTSTART:20260530T140000
DTEND:20260530T180000
SUMMARY:HORS-LES-MURS : Fête de l’enfance et de la famille 
CATEGORIES:
DESCRIPTION:Stand de la Bibliothèque municipale PARC 
 FRANÇOIS-MITTERAND. Tout public. Dans le cadre de cette 
 grande fête belfortaine de l’enfance, la bibliothèque 
 sera présente pour lire et faire lire des histoires.
END:VEVENT
END:VCALENDAR