BEGIN:VCALENDAR
VERSION:2.0
PRODID:-//TYPO3/NONSGML News system (news)//EN
BEGIN:VEVENT
UID:news-20207@www.belfort.fr
DTSTAMP:20260420T145756
DTSTART:20260523T103000
DTEND:20260523T103000
SUMMARY:HORS-LES-MURS : BALADE ORNITHO’ : Des livres et une application pour reconnaître les oiseaux !
CATEGORIES:
DESCRIPTION:Tout public. Sur réservation au 03 84 54 27 54. Le temps 
 d’une promenade dans la citadelle, venez découvrir les 
 oiseaux qui vous entourent grâce aux livres et à une 
 application de reconnaissance des oiseaux et de leurs 
 chants. 
END:VEVENT
END:VCALENDAR