BEGIN:VCALENDAR
VERSION:2.0
PRODID:-//TYPO3/NONSGML News system (news)//EN
BEGIN:VEVENT
UID:news-20202@www.belfort.fr
DTSTAMP:20260420T145756
DTSTART:20260523T140000
DTEND:20260524T000000
SUMMARY:FIMU des enfants 
CATEGORIES:
DESCRIPTION:JARDIN DE LA PRÉFECTURE. De 6 à 12 ans. SAMEDI 23 MAI ET 
 DIMANCHE 24 MAI  DE 14 H À 20 H. Retrouvez-nous au village 
 du FIMU des enfants, plongez dans une bulle d’histoires à 
 lire et à écouter.   
END:VEVENT
END:VCALENDAR