BEGIN:VCALENDAR
VERSION:2.0
PRODID:-//TYPO3/NONSGML News system (news)//EN
BEGIN:VEVENT
UID:news-20172@www.belfort.fr
DTSTAMP:20260420T145121
DTSTART:20260603T000000
DTEND:20260603T010000
SUMMARY:Fête du Jardin accessible et intergénérationnel
CATEGORIES:
DESCRIPTION:La Fête du Jardin est un moment convivial et 
 intergénérationnel autour de la nature. Petits et grands 
 sont invités à découvrir le jardin accessible, participer 
 à des animations, partager des savoirs et profiter d’un 
 temps de rencontre.
END:VEVENT
END:VCALENDAR