BEGIN:VCALENDAR
VERSION:2.0
PRODID:-//TYPO3/NONSGML News system (news)//EN
BEGIN:VEVENT
UID:news-20168@www.belfort.fr
DTSTAMP:20260420T145121
DTSTART:20260530T140000
DTEND:20260530T180000
SUMMARY:Fête de l'Enfance et de la Famille 2026
CATEGORIES:
DESCRIPTION:La Fête de l’Enfance et de la Famille invite les familles 
 à partager des animations dans une ambiance conviviale. De 
 nombreux services municipaux participent à son 
 organisation, avec l’aide de leurs partenaires. Thème : 
 le Tour de France Entrée libre
LOCATION:Belfort
END:VEVENT
END:VCALENDAR