BEGIN:VCALENDAR
VERSION:2.0
PRODID:-//TYPO3/NONSGML News system (news)//EN
BEGIN:VEVENT
UID:news-20200@www.belfort.fr
DTSTAMP:20260420T145756
DTSTART:20260523T110000
DTEND:20260523T110000
SUMMARY:Duo cam & léo : lecture à deux voix et plein de sons pour les tout-petits et les plus grands
CATEGORIES:
DESCRIPTION:De 6 mois à 6 ans. Durée 45 minutes. Entrée libre dans la 
 limite des places disponibles. Oyez, oyez de drôles 
 d’histoires, de courtes comptines et un kamishibaï 
 printanier.  
LOCATION:Maison de quartier municipale Vieille-Ville Joséphine‑Baker
END:VEVENT
END:VCALENDAR