BEGIN:VCALENDAR
VERSION:2.0
PRODID:-//TYPO3/NONSGML News system (news)//EN
BEGIN:VEVENT
UID:news-20261@www.belfort.fr
DTSTAMP:20260420T145756
DTSTART:20260529T200000
DTEND:20260529T200000
SUMMARY:Concert Tentativ’Jazz
CATEGORIES:
DESCRIPTION:Direction : Laurent Lehmann Cette formation du 
 Conservatoire du Grand Belfort constituée d'instruments à 
 vent et d'une section rythmique interprètera des standards 
 de jazz et des pièces plus actuelles comme « Locked out of 
 heaven » de Bruno Mars.
LOCATION:Conservatoire du Grand Belfort Henri-Dutilleux
END:VEVENT
END:VCALENDAR