BEGIN:VCALENDAR
VERSION:2.0
PRODID:-//TYPO3/NONSGML News system (news)//EN
BEGIN:VEVENT
UID:news-20277@www.belfort.fr
DTSTAMP:20260420T150203
DTSTART:20260526T140000
DTEND:20260526T170000
SUMMARY:Atelier sur le prévisionnel financier
CATEGORIES:
DESCRIPTION:Apprenez à construire un dossier prévisionnel, à 
 maîtriser l’équilibre financier et économique de votre 
 projet, et à utiliser ce dossier après le lancement de 
 votre activité.
LOCATION:Chambre de Commerce et d'Industrie
END:VEVENT
END:VCALENDAR