BEGIN:VCALENDAR
VERSION:2.0
PRODID:-//TYPO3/NONSGML News system (news)//EN
BEGIN:VEVENT
UID:news-20206@www.belfort.fr
DTSTAMP:20260420T145756
DTSTART:20260523T100000
DTEND:20260523T100000
SUMMARY:ATELIER PAPIER : Métamorphoses de Papier 
CATEGORIES:
DESCRIPTION:Adultes. Sur réservation au 03 84 54 25 89. Donnez vie à 
 un ancien livre : pliez, collez et laissez s’envoler 
 fleurs et papillons grâce à de délicats fils de fer, pour 
 créer un jardin suspendu qui raconte une histoire. 
LOCATION:Bibliothèque municipale de la Clé-des-Champs
END:VEVENT
END:VCALENDAR