BEGIN:VCALENDAR
VERSION:2.0
PRODID:-//TYPO3/NONSGML News system (news)//EN
BEGIN:VEVENT
UID:news-20209@www.belfort.fr
DTSTAMP:20260420T145756
DTSTART:20260528T143000
DTEND:20260528T143000
SUMMARY:ATELIER NUMÉRIQUE : Cyber-sécurité pour les séniors
CATEGORIES:
DESCRIPTION:Sur réservation au 03 84 54 27 54.  Adultes 60 ans et + 
  Comment reconnaître un mail frauduleux et être sûrs de 
 ne pas se faire pirater ? Venez découvrir comment vous 
 protéger sur internet.   
LOCATION:Bibliothèque municipale Léon-Deubel
END:VEVENT
END:VCALENDAR