BEGIN:VCALENDAR
VERSION:2.0
PRODID:-//TYPO3/NONSGML News system (news)//EN
BEGIN:VEVENT
UID:news-20208@www.belfort.fr
DTSTAMP:20260420T145756
DTSTART:20260527T143000
DTEND:20260527T143000
SUMMARY:ATELIER CRÉATION : Fresque participative à la manière d’Hervé Tullet
CATEGORIES:
DESCRIPTION:À partir de 3 ans. Sur réservation au 03 84 54 27 
 10. Venez « peinturlurer » la bibliothèque d’un grand 
 champ de fleurs à la manière d’Hervé Tullet.  
LOCATION:Bibliothèque municipale des Glacis-du-Château
END:VEVENT
END:VCALENDAR