BEGIN:VCALENDAR
VERSION:2.0
PRODID:-//TYPO3/NONSGML News system (news)//EN
BEGIN:VEVENT
UID:news-20210@www.belfort.fr
DTSTAMP:20260420T145756
DTSTART:20260530T143000
DTEND:20260530T143000
SUMMARY:ATELIER CRÉATION : Atelier Blinkbook
CATEGORIES:
DESCRIPTION:À partir de 7 ans. Sur réservation au 03 84 54 27 
 10. Vous aimez dessiner, colorier ? Vous voulez donner vie 
 à vos créations ? La bibliothèque vous propose un atelier 
 pour animer vos dessins grâce à l’application Blinkbook 
 !   
LOCATION:Bibliothèque municipale des Glacis-du-Château
END:VEVENT
END:VCALENDAR