BEGIN:VCALENDAR
VERSION:2.0
PRODID:-//TYPO3/NONSGML News system (news)//EN
BEGIN:VEVENT
UID:news-19991@www.belfort.fr
DTSTAMP:20260420T145121
DTSTART:20260604T200000
DTEND:20260604T200000
SUMMARY:4 saisons Vivaldi - Piazzolla
CATEGORIES:
DESCRIPTION:La singularité de « Vivaldi-Piazzolla, Saisons : d’un 
 rivage à l’autre » est de faire exister en un même 
 moment musical deux grands maîtres, deux styles, deux 
 époques, deux continents, deux inspirations : l’une 
 pastorale, l’autre urbaine.
LOCATION:GRRRANIT SN
END:VEVENT
END:VCALENDAR